Workbook

Sheet nhap
A3: =A2+1 -> 1 | B3: =IF(G3<>G2,1,B2+1) -> 1 | C3: 2221724209 | D3: Phạm Quang Minh | E3: Mẫn | F3: 35879 | G3: K24QTH6 | H3: Trần Chí Quang Huy | I3: =LEFT(G3,3) -> K24 | J3: =IF(LEN(G3)<9,LEFT(G3,6),LEFT(G3,9)) -> K24QTH
A4: =A3+1 -> 2 | B4: =IF(G4<>G3,1,B3+1) -> 2 | C4: 2321214250 | D4: Lê Văn | E4: Duy | F4: 36206 | G4: K24QTH6 | H4: Trần Chí Quang Huy | I4: =LEFT(G4,3) -> K24 | J4: =IF(LEN(G4)<9,LEFT(G4,6),LEFT(G4,9)) -> K24QTH
A5: =A4+1 -> 3 | B5: =IF(G5<>G4,1,B4+1) -> 1 | C5: 24202708035 | D5: Trần Lê Phương | E5: Ngọc | F5: 36601 | G5: K24QNT2 | H5: Mai Xuân Bình | I5: =LEFT(G5,3) -> K24 | J5: =IF(LEN(G5)<9,LEFT(G5,6),LEFT(G5,9)) -> K24QNT
A6: =A5+1 -> 4 | B6: =IF(G6<>G5,1,B5+1) -> 1 | C6: 25212209578 | D6: Ngô Đức | E6: Hoàng | F6: 36984 | G6: K25QTM1 | H6: Mai Thị Hồng Nhung | J6: =E6=I6 -> FALSE
A7: =A6+1 -> 5 | B7: =IF(G7<>G6,1,B6+1) -> 1 | C7: 25202109064 | D7: Trần Thị Thảo | E7: Ly | F7: 37156 | G7: K25QTH8 | H7: Đỗ Văn Tính | J7: =E7=I7 -> FALSE
A8: =A7+1 -> 6 | B8: =IF(G8<>G7,1,B7+1) -> 1 | C8: 24212205369 | D8: Phan Thanh | E8: Hảo | F8: 36627 | G8: K25QTM2 | H8: Trần Thanh Hải | J8: =E8=I8 -> FALSE
A9: =A8+1 -> 7 | B9: =IF(G9<>G8,1,B8+1) -> 1 | C9: 26202142308 | D9: Đỗ Hoàng | E9: Châu | F9: 37501 | G9: K26QTN12 | H9: Huỳnh Tịnh Cát | I9: =LEFT(G9,3) -> K26 | J9: =IF(LEN(G9)<9,LEFT(G9,6),LEFT(G9,9)) -> K26QTN
A10: =A9+1 -> 8 | B10: =IF(G10<>G9,1,B9+1) -> 2 | C10: 26212942048 | D10: Trần Ngọc | E10: Thi | F10: =VLOOKUP(C10,[1]Sheet!$D$4:$L$1445,9,0) -> 37486 | G10: K26QTN12 | H10: Huỳnh Tịnh Cát | I10: =LEFT(G10,3) -> K26 | J10: =IF(LEN(G10)<9,LEFT(G10,6),LEFT(G10,9)) -> K26QTN
A11: =A10+1 -> 9 | B11: =IF(G11<>G10,1,B10+1) -> 1 | C11: 26207131641 | D11: Trần Thị Phương | E11: Lý | F11: 37432 | G11: K26QTD1 | H11: Sái Thị Lệ Thủy | I11: =LEFT(G11,3) -> K26 | J11: =IF(LEN(G11)<9,LEFT(G11,6),LEFT(G11,9)) -> K26QTD
A12: =A11+1 -> 10 | B12: =IF(G12<>G11,1,B11+1) -> 1 | C12: 26202141645 | D12: Huỳnh Thị Thùy | E12: Dương | F12: =VLOOKUP(C12,[1]Sheet!$D$4:$L$1445,9,0) -> 37514 | G12: K26QTH6 | H12: Đặng Thanh Dũng | I12: =LEFT(G12,3) -> K26 | J12: =IF(LEN(G12)<9,LEFT(G12,6),LEFT(G12,9)) -> K26QTH
A13: =A12+1 -> 11 | B13: =IF(G13<>G12,1,B12+1) -> 1 | C13: 25211208311 | D13: Trần Ngọc | E13: Hào | F13: =VLOOKUP(C13,[1]Sheet!$D$4:$L$1445,9,0) -> 37122 | G13: K26QTM3 | H13: Mai Thị Hồng Nhung | I13: =LEFT(G13,3) -> K26 | J13: =IF(LEN(G13)<9,LEFT(G13,6),LEFT(G13,9)) -> K26QTM
A14: =A13+1 -> 12 | B14: =IF(G14<>G13,1,B13+1) -> 1 | C14: 26212241688 | D14: Trần Bùi Minh | E14: Quân | F14: =VLOOKUP(C14,[1]Sheet!$D$4:$L$1445,9,0) -> 37543 | G14: K26QTM6 | H14: Nguyễn vũ Hạ Liên | I14: =LEFT(G14,3) -> K26 | J14: =IF(LEN(G14)<9,LEFT(G14,6),LEFT(G14,9)) -> K26QTM
A15: =A14+1 -> 13 | B15: =IF(G15<>G14,1,B14+1) -> 1 | C15: 26212134038 | D15: Nguyễn Phạm Phú | E15: Sỹ | F15: 37414 | G15: K26QTH5 | H15: Trương Hoàng Hoa Duyên | I15: =LEFT(G15,3) -> K26 | J15: =IF(LEN(G15)<9,LEFT(G15,6),LEFT(G15,9)) -> K26QTH
A16: =A15+1 -> 14 | B16: =IF(G16<>G15,1,B15+1) -> 1 | C16: 26202137506 | D16: Trần Hoàng Quỳnh | E16: Giao | F16: =VLOOKUP(C16,[1]Sheet!$D$4:$L$1445,9,0) -> 37274 | G16: K26QTH1 | H16: Phạm Thị Quỳnh Lệ | I16: =LEFT(G16,3) -> K26 | J16: =IF(LEN(G16)<9,LEFT(G16,6),LEFT(G16,9)) -> K26QTH
A17: =A16+1 -> 15 | B17: =IF(G17<>G16,1,B16+1) -> 1 | C17: 25203304671 | D17: Dương Thị Kiều | E17: Diễm | F17: 37097 | G17: K26QTM7 | H17: Phạm Thị Uyên Thi | I17: =LEFT(G17,3) -> K26 | J17: =IF(LEN(G17)<9,LEFT(G17,6),LEFT(G17,9)) -> K26QTM
A18: =A17+1 -> 16 | B18: =IF(G18<>G17,1,B17+1) -> 1 | C18: 26207130955 | D18: Trịnh Thị Hồng | E18: Minh | F18: =VLOOKUP(C18,[1]Sheet!$D$4:$L$1445,9,0) -> 37427 | G18: K26QNT12 | H18: Nguyễn Thị Tuyên Ngôn | I18: =LEFT(G18,3) -> K26 | J18: =IF(LEN(G18)<9,LEFT(G18,6),LEFT(G18,9)) -> K26QNT
A19: =A18+1 -> 17 | B19: =IF(G19<>G18,1,B18+1) -> 1 | C19: 25212202254 | D19: Nguyễn Đức | E19: Trí | F19: 37088 | G19: K26QTM2 | H19: Trần Thanh Hải | I19: =LEFT(G19,3) -> K26 | J19: =IF(LEN(G19)<9,LEFT(G19,6),LEFT(G19,9)) -> K26QTM
A20: =A19+1 -> 18 | B20: =IF(G20<>G19,1,B19+1) -> 1 | C20: 26202134488 | D20: Nguyễn Thị Huyền | E20: Trâm | F20: =VLOOKUP(C20,[1]Sheet!$D$4:$L$1445,9,0) -> 37591 | G20: K26QTH3 | H20: Lương Định Vững | I20: =LEFT(G20,3) -> K26 | J20: =IF(LEN(G20)<9,LEFT(G20,6),LEFT(G20,9)) -> K26QTH
A21: =A20+1 -> 19 | B21: =IF(G21<>G20,1,B20+1) -> 1 | C21: 26212132865 | D21: Nguyễn Quý Tri | E21: Tân | F21: 37364 | G21: K26QTH1 | H21: Phạm Thị Quỳnh Lệ | I21: =LEFT(G21,3) -> K26 | J21: =IF(LEN(G21)<9,LEFT(G21,6),LEFT(G21,9)) -> K26QTH
A22: =A21+1 -> 20 | B22: =IF(G22<>G21,1,B21+1) -> 1 | C22: 26212224972 | D22: Đỗ Minh | E22: Trí | F22: =VLOOKUP(C22,[1]Sheet!$D$4:$L$1445,9,0) -> 37598 | G22: K26QTH8 | H22: Phạm Thị Uyên Thi | I22: =LEFT(G22,3) -> K26 | J22: =IF(LEN(G22)<9,LEFT(G22,6),LEFT(G22,9)) -> K26QTH
A23: =A22+1 -> 21 | B23: =IF(G23<>G22,1,B22+1) -> 1 | C23: 26207128309 | D23: Ngô Thị Lạc | E23: Quỳnh | F23: =VLOOKUP(C23,[1]Sheet!$D$4:$L$1445,9,0) -> 37455 | G23: K26QTN12 | H23: Huỳnh Tịnh Cát | I23: =LEFT(G23,3) -> K26 | J23: =IF(LEN(G23)<9,LEFT(G23,6),LEFT(G23,9)) -> K26QTN
A24: =A23+1 -> 22 | B24: =IF(G24<>G23,1,B23+1) -> 1 | C24: 26202136214 | D24: Nguyễn Thị Kiều | E24: Oanh | F24: =VLOOKUP(C24,[1]Sheet!$D$4:$L$1445,9,0) -> 37604 | G24: K26QTH11 | H24: Lê Thị Hoài Trinh | I24: =LEFT(G24,3) -> K26 | J24: =IF(LEN(G24)<9,LEFT(G24,6),LEFT(G24,9)) -> K26QTH
A25: =A24+1 -> 23 | B25: =IF(G25<>G24,1,B24+1) -> 1 | C25: 26212127969 | D25: Trần Văn Anh | E25: Khoa | F25: 37532 | G25: K26QTH4 | H25: Lê Thị Hoài Trinh | I25: =LEFT(G25,3) -> K26 | J25: =IF(LEN(G25)<9,LEFT(G25,6),LEFT(G25,9)) -> K26QTH
A26: =A25+1 -> 24 | B26: =IF(G26<>G25,1,B25+1) -> 1 | C26: 26216124527 | D26: Đặng Đại | E26: Huy | F26: 37269 | G26: K26QTH3 | H26: Lương Định Vững | I26: =LEFT(G26,3) -> K26 | J26: =IF(LEN(G26)<9,LEFT(G26,6),LEFT(G26,9)) -> K26QTH
A27: =A26+1 -> 25 | B27: =IF(G27<>G26,1,B26+1) -> 1 | C27: 26202234975 | D27: Võ Thạch | E27: Thảo | F27: =VLOOKUP(C27,[1]Sheet!$D$4:$L$1445,9,0) -> 37270 | G27: K26QTM5 | H27: Đỗ Văn Tính | I27: =LEFT(G27,3) -> K26 | J27: =IF(LEN(G27)<9,LEFT(G27,6),LEFT(G27,9)) -> K26QTM
A28: =A27+1 -> 26 | B28: =IF(G28<>G27,1,B27+1) -> 1 | C28: 26202100356 | D28: Nguyễn Thị Thu | E28: Hiền | F28: =VLOOKUP(C28,[1]Sheet!$D$4:$L$1445,9,0) -> 37525 | G28: K26QNT12 | H28: Nguyễn Thị Tuyên Ngôn | I28: =LEFT(G28,3) -> K26 | J28: =IF(LEN(G28)<9,LEFT(G28,6),LEFT(G28,9)) -> K26QNT
A29: =A28+1 -> 27 | B29: =IF(G29<>G28,1,B28+1) -> 1 | C29: 26215100379 | D29: Đặng Hữu Phi | E29: Long | F29: =VLOOKUP(C29,[1]Sheet!$D$4:$L$1445,9,0) -> 37460 | G29: K26QTM5 | H29: Đỗ Văn Tính | I29: =LEFT(G29,3) -> K26 | J29: =IF(LEN(G29)<9,LEFT(G29,6),LEFT(G29,9)) -> K26QTM
A30: =A29+1 -> 28 | B30: =IF(G30<>G29,1,B29+1) -> 1 | C30: 27202102113 | D30: Võ Thị Như | E30: Quỳnh | F30: 37760 | G30: K27QTH12 | H30: Trần Thanh Hải | I30: =LEFT(G30,3) -> K27 | J30: =IF(LEN(G30)<9,LEFT(G30,6),LEFT(G30,9)) -> K27QTH
A31: =A30+1 -> 29 | B31: =IF(G31<>G30,1,B30+1) -> 1 | C31: 27202102422 | D31: Nguyễn Thị Thanh | E31: Ngân | F31: 37700 | G31: K27QTH11 | H31: Lê Phúc Minh Chuyên | I31: =LEFT(G31,3) -> K27
A32: =A31+1 -> 30 | B32: =IF(G32<>G31,1,B31+1) -> 1 | C32: 27202924263 | D32: Trương Thị | E32: Vinh | F32: 37984 | G32: K27QTH1 | H32: Hồ Tấn Tuyến | I32: =LEFT(G32,3) -> K27
A33: =A32+1 -> 31 | B33: =IF(G33<>G32,1,B32+1) -> 1 | C33: 26212142004 | D33: Trần Tiến | E33: Quang | F33: 37271 | G33: K27QTH10 | H33: Lê Phúc Minh Chuyên | I33: =LEFT(G33,3) -> K27
A34: =A33+1 -> 32 | B34: =IF(G34<>G33,1,B33+1) -> 1 | C34: 25212101367 | D34: Trương Huỳnh Phước | E34: Đạt | F34: 36850 | G34: K27QTH | H34: Đỗ Văn Tính | I34: =LEFT(G34,3) -> K27 | J34: =IF(LEN(G34)<9,LEFT(G34,6),LEFT(G34,9)) -> K27QTH
A35: =A34+1 -> 33 | B35: =IF(G35<>G34,1,B34+1) -> 1 | C35: 25212210482 | D35: Nguyễn Mai | E35: Đức | F35: 36136 | G35: K27QTM1 | H35: Lê Hoàng Thiên Tân | I35: =LEFT(G35,3) -> K27
A36: =A35+1 -> 34 | B36: =IF(G36<>G35,1,B35+1) -> 1 | C36: 27217100068 | D36: Nguyễn Phúc | E36: Vinh | F36: 37922 | G36: K27QTH4 | H36: Trần Thanh Hải | I36: =LEFT(G36,3) -> K27
A37: =A36+1 -> 35 | B37: =IF(G37<>G36,1,B36+1) -> 1 | C37: 27202228935 | D37: Nguyễn Thị Vân | E37: Sang | F37: 35898 | G37: K27QTH8 | H37: Nguyễn Thị Thu Hằng | I37: =LEFT(G37,3) -> K27
A38: =A37+1 -> 36 | B38: =IF(G38<>G37,1,B37+1) -> 1 | C38: 24212113034 | D38: Hà Đinh Minh | E38: Thành | F38: 36836 | G38: K27QTH5 | H38: Mai Thị Hồng Nhung | I38: =LEFT(G38,3) -> K27
A39: =A38+1 -> 37 | B39: =IF(G39<>G38,1,B38+1) -> 1 | C39: 27202146151 | D39: Lê Thị Kiều | E39: Diễm | F39: 37790 | G39: K27QTH11 | H39: Lê Phúc Minh Chuyên | I39: =LEFT(G39,3) -> K27
A40: =A39+1 -> 38 | B40: =IF(G40<>G39,1,B39+1) -> 1 | C40: 27202151392 | D40: Phạm Thị Tú | E40: Trinh | F40: 37854 | G40: K27QTH12 | H40: Trần Thanh Hải | I40: =LEFT(G40,3) -> K27
A41: =A40+1 -> 39 | B41: =IF(G41<>G40,1,B40+1) -> 1 | C41: 27202202677 | D41: Lương Thị | E41: Nhàn | F41: 37701 | G41: K27QTM18 | H41: Nguyễn Minh Nhật | I41: =LEFT(G41,3) -> K27
A42: =A41+1 -> 40 | B42: =IF(G42<>G41,1,B41+1) -> 1 | C42: 27202201784 | D42: Đinh Thị Thu | E42: Thảo | F42: 37002 | G42: K27QTM16 | H42: Lê Hoàng Thiên Tân | I42: =LEFT(G42,3) -> K27
...

Sheet DS THUC TAP
A1: BỘ GIÁO DỤC VÀ ĐÀO TẠO | E1: DANH SÁCH GIẢNG VIÊN HƯỚNG DẪN THỰC TẬP TỐT NGHIỆP
A2: ĐẠI HỌC DUY TÂN | E2: CHUYÊN NGÀNH: …................... - KHÓA:…............
E3: Kèm theo quyết định số: ……………./QĐ-ĐHDT-HDTN ngày …… tháng ……. Năm ……….
A5: STT | B5: MÃ SỐ SV | C5: HỌ | D5: TÊN | E5: KHỐI LỚP | F5: ĐƠN VỊ THỰC TẬP | G5: TÊN ĐỀ TÀI | H5: GIẢNG VIÊN HƯỚNG DẪN | I5: Số điện thoại
A6: 1 | B6: 28212280326 | C6: Trần Minh | D6: Phương | E6: K28QTM7 | H6: Đặng Thanh Dũng | I6: 0935.951.537
A7: =A6+1 -> 2 | B7: 28214331267 | C7: Hồ Hoàng | D7: Khang | E7: K28QTM6 | H7: Đặng Thanh Dũng | I7: 0935.951.537
A8: =A7+1 -> 3 | B8: 28204604752 | C8: Trần Thị Kim | D8: Phượng | E8: K28QTM4 | H8: Nguyễn Thị Thảo | I8: 0935.686.090
A9: =A8+1 -> 4 | B9: 28204648513 | C9: Nguyễn Phi | D9: Nhung | E9: K28QTM3 | H9: Đặng Thanh Dũng | I9: 0935.951.537
A10: =A9+1 -> 5 | B10: 28202735841 | C10: Lê Thị Minh | D10: Phúc | E10: K28QTM3 | H10: Đặng Thanh Dũng | I10: 0935.951.537
A11: =A10+1 -> 6 | B11: 28204646825 | C11: Nguyễn Thị Hồng | D11: Thắm | E11: K28QTM3 | H11: Đặng Thanh Dũng | I11: 0935.951.537
A12: =A11+1 -> 7 | B12: 28206633950 | C12: Nguyễn Thị Diệu | D12: Hương | E12: K28QTM3 | H12: Đặng Thanh Dũng | I12: 0935.951.537
A13: =A12+1 -> 8 | B13: 28204606060 | C13: Võ Thị Thúy | D13: Nga | E13: K28QTM2 | H13: Đỗ Văn Tính | I13: '0915.282.289
A14: =A13+1 -> 9 | B14: 28214605256 | C14: Trần Quốc | D14: Trí | E14: K28QTM12 | H14: Đặng Thanh Dũng | I14: 0935.951.537
A15: =A14+1 -> 10 | B15: 27212240364 | C15: Trần Xuân | D15: Lành | E15: K28QTM12 | H15: Đặng Thanh Dũng | I15: 0935.951.537
A16: =A15+1 -> 11 | B16: 28204651599 | C16: Trần Hoài | D16: Trúc | E16: K28QTM12 | H16: Trần Thanh Hải | I16: 0935.822.386
A17: =A16+1 -> 12 | B17: 28204604096 | C17: Trần Thị Minh | D17: Thư | E17: K28QTM11 | H17: Đặng Thiện Tâm | I17: 0379.25.15.19
A18: =A17+1 -> 13 | B18: 28204653085 | C18: Huỳnh Thị Mỹ | D18: Lệ | E18: K28QTM1 | H18: Hà Thị Duy Linh | I18: 0983.09.88.09
... A121: =A120+1 -> 116 | B121: 26211328443 | C121: Trần Văn | D121: Nhân | E121: K27QTM1 | H121: Trần Thanh Hải | I121: 0935.822.386
A122: =A121+1 -> 117 | B122: 26212242618 | C122: Đoàn Minh | D122: Tuấn | E122: K26QTM3 | H122: Hà Thị Duy Linh | I122: 0983.09.88.09
A123: =A122+1 -> 118 | B123: 26202218413 | C123: Nguyễn Thu | D123: Thảo | E123: K26QTM1 | H123: Nguyễn Thị Thảo | I123: 0935.686.090
A124: =A123+1 -> 119 | B124: 25202216243 | C124: Nguyền Thị Quỳnh | D124: Nhi | E124: K25QTM5 | H124: Mai Xuân Bình | I124: 0906.546.911
A125: =A124+1 -> 120 | B125: 27212233231 | C125: Lê Anh | D125: Dũng | E125: K27QTM8 | H125: Đặng Thanh Dũng | I125: 0935.951.537
A126: =A125+1 -> 121 | B126: 26218630323 | C126: Nguyễn Tấn | D126: Huy | E126: K26QTM | H126: Trần Thanh Hải | I126: 0935.822.386

Sheet THỐNG KÊ
A3: 1 | B3: Nguyễn Huy Tuân | C3: =COUNTIF('DS THUC TAP'!$H$6:$H$200,'THỐNG KÊ'!B3) -> 0
A4: 2 | B4: Hồ Diệu Khánh | C4: =COUNTIF('DS THUC TAP'!$H$6:$H$200,'THỐNG KÊ'!B4) -> 0
A5: 3 | B5: Sái Thị Lệ Thủy | C5: =COUNTIF('DS THUC TAP'!$H$6:$H$200,'THỐNG KÊ'!B5) -> 0
A6: 4 | B6: Trương Hoàng Hoa Duyên | C6: =COUNTIF('DS THUC TAP'!$H$6:$H$200,'THỐNG KÊ'!B6) -> 0
A7: 5 | B7: Hồ Tấn Tuyến | C7: =COUNTIF('DS THUC TAP'!$H$6:$H$200,'THỐNG KÊ'!B7) -> 0
A8: 6 | B8: Nguyễn Ngọc Quý | C8: =COUNTIF('DS THUC TAP'!$H$6:$H$200,'THỐNG KÊ'!B8) -> 0
A9: 7 | B9: Huỳnh Tịnh Cát | C9: =COUNTIF('DS THUC TAP'!$H$6:$H$200,'THỐNG KÊ'!B9) -> 0
A10: 8 | B10: Nguyễn Thị Tuyên Ngôn | C10: =COUNTIF('DS THUC TAP'!$H$6:$H$200,'THỐNG KÊ'!B10) -> 0
A11: 9 | B11: Võ Thị Thanh Thương | C11: =COUNTIF('DS THUC TAP'!$H$6:$H$200,'THỐNG KÊ'!B11) -> 0
A12: 10 | B12: Lê Thị Kiều My | C12: =COUNTIF('DS THUC TAP'!$H$6:$H$200,'THỐNG KÊ'!B12) -> 0
A13: 11 | B13: Tô Thị Bảo Thoa | C13: =COUNTIF('DS THUC TAP'!$H$6:$H$200,'THỐNG KÊ'!B13) -> 0
A14: 12 | B14: Đặng Thanh Dũng | C14: =COUNTIF('DS THUC TAP'!$H$6:$H$200,'THỐNG KÊ'!B14) -> 12
... A26: 24 | B26: Phạm Lê Quốc Vinh | C26: =COUNTIF('DS THUC TAP'!$H$6:$H$200,'THỐNG KÊ'!B26) -> 0
C27: =SUM(C3:C26) -> 121
