Workbook

Sheet nhap
A3: =A2+1 -> 1 | B3: =IF(G3<>G2,1,B2+1) -> 1 | C3: 2221724209 | D3: Phạm Quang Minh | E3: Mẫn | F3: 35879 | G3: K24QTH6 | H3: Trần Chí Quang Huy | I3: =LEFT(G3,3) -> K24 | J3: =IF(LEN(G3)<9,LEFT(G3,6),LEFT(G3,9)) -> K24QTH
A4: =A3+1 -> 2 | B4: =IF(G4<>G3,1,B3+1) -> 2 | C4: 2321214250 | D4: Lê Văn | E4: Duy | F4: 36206 | G4: K24QTH6 | H4: Trần Chí Quang Huy | I4: =LEFT(G4,3) -> K24 | J4: =IF(LEN(G4)<9,LEFT(G4,6),LEFT(G4,9)) -> K24QTH
A5: =A4+1 -> 3 | B5: =IF(G5<>G4,1,B4+1) -> 1 | C5: 24202708035 | D5: Trần Lê Phương | E5: Ngọc | F5: 36601 | G5: K24QNT2 | H5: Mai Xuân Bình | I5: =LEFT(G5,3) -> K24 | J5: =IF(LEN(G5)<9,LEFT(G5,6),LEFT(G5,9)) -> K24QNT
A6: =A5+1 -> 4 | B6: =IF(G6<>G5,1,B5+1) -> 1 | C6: 25212209578 | D6: Ngô Đức | E6: Hoàng | F6: 36984 | G6: K25QTM1 | H6: Mai Thị Hồng Nhung | J6: =E6=I6 -> FALSE
A7: =A6+1 -> 5 | B7: =IF(G7<>G6,1,B6+1) -> 1 | C7: 25202109064 | D7: Trần Thị Thảo | E7: Ly | F7: 37156 | G7: K25QTH8 | H7: Đỗ Văn Tính | J7: =E7=I7 -> FALSE
A8: =A7+1 -> 6 | B8: =IF(G8<>G7,1,B7+1) -> 1 | C8: 24212205369 | D8: Phan Thanh | E8: Hảo | F8: 36627 | G8: K25QTM2 | H8: Trần Thanh Hải | J8: =E8=I8 -> FALSE
A9: =A8+1 -> 7 | B9: =IF(G9<>G8,1,B8+1) -> 1 | C9: 26202142308 | D9: Đỗ Hoàng | E9: Châu | F9: 37501 | G9: K26QTN12 | H9: Huỳnh Tịnh Cát | I9: =LEFT(G9,3) -> K26 | J9: =IF(LEN(G9)<9,LEFT(G9,6),LEFT(G9,9)) -> K26QTN
A10: =A9+1 -> 8 | B10: =IF(G10<>G9,1,B9+1) -> 2 | C10: 26212942048 | D10: Trần Ngọc | E10: Thi | F10: =VLOOKUP(C10,[1]Sheet!$D$4:$L$1445,9,0) -> 37486 | G10: K26QTN12 | H10: Huỳnh Tịnh Cát | I10: =LEFT(G10,3) -> K26 | J10: =IF(LEN(G10)<9,LEFT(G10,6),LEFT(G10,9)) -> K26QTN
A11: =A10+1 -> 9 | B11: =IF(G11<>G10,1,B10+1) -> 1 | C11: 26207131641 | D11: Trần Thị Phương | E11: Lý | F11: 37432 | G11: K26QTD1 | H11: Sái Thị Lệ Thủy | I11: =LEFT(G11,3) -> K26 | J11: =IF(LEN(G11)<9,LEFT(G11,6),LEFT(G11,9)) -> K26QTD
A12: =A11+1 -> 10 | B12: =IF(G12<>G11,1,B11+1) -> 1 | C12: 26202141645 | D12: Huỳnh Thị Thùy | E12: Dương | F12: =VLOOKUP(C12,[1]Sheet!$D$4:$L$1445,9,0) -> 37514 | G12: K26QTH6 | H12: Đặng Thanh Dũng | I12: =LEFT(G12,3) -> K26 | J12: =IF(LEN(G12)<9,LEFT(G12,6),LEFT(G12,9)) -> K26QTH
A13: =A12+1 -> 11 | B13: =IF(G13<>G12,1,B12+1) -> 1 | C13: 25211208311 | D13: Trần Ngọc | E13: Hào | F13: =VLOOKUP(C13,[1]Sheet!$D$4:$L$1445,9,0) -> 37122 | G13: K26QTM3 | H13: Mai Thị Hồng Nhung | I13: =LEFT(G13,3) -> K26 | J13: =IF(LEN(G13)<9,LEFT(G13,6),LEFT(G13,9)) -> K26QTM
A14: =A13+1 -> 12 | B14: =IF(G14<>G13,1,B13+1) -> 1 | C14: 26212241688 | D14: Trần Bùi Minh | E14: Quân | F14: =VLOOKUP(C14,[1]Sheet!$D$4:$L$1445,9,0) -> 37543 | G14: K26QTM6 | H14: Nguyễn vũ Hạ Liên | I14: =LEFT(G14,3) -> K26 | J14: =IF(LEN(G14)<9,LEFT(G14,6),LEFT(G14,9)) -> K26QTM
A15: =A14+1 -> 13 | B15: =IF(G15<>G14,1,B14+1) -> 1 | C15: 26212134038 | D15: Nguyễn Phạm Phú | E15: Sỹ | F15: 37414 | G15: K26QTH5 | H15: Trương Hoàng Hoa Duyên | I15: =LEFT(G15,3) -> K26 | J15: =IF(LEN(G15)<9,LEFT(G15,6),LEFT(G15,9)) -> K26QTH
A16: =A15+1 -> 14 | B16: =IF(G16<>G15,1,B15+1) -> 1 | C16: 26202137506 | D16: Trần Hoàng Quỳnh | E16: Giao | F16: =VLOOKUP(C16,[1]Sheet!$D$4:$L$1445,9,0) -> 37274 | G16: K26QTH1 | H16: Phạm Thị Quỳnh Lệ | I16: =LEFT(G16,3) -> K26 | J16: =IF(LEN(G16)<9,LEFT(G16,6),LEFT(G16,9)) -> K26QTH
A17: =A16+1 -> 15 | B17: =IF(G17<>G16,1,B16+1) -> 1 | C17: 25203304671 | D17: Dương Thị Kiều | E17: Diễm | F17: 37097 | G17: K26QTM7 | H17: Phạm Thị Uyên Thi | I17: =LEFT(G17,3) -> K26 | J17: =IF(LEN(G17)<9,LEFT(G17,6),LEFT(G17,9)) -> K26QTM
A18: =A17+1 -> 16 | B18: =IF(G18<>G17,1,B17+1) -> 1 | C18: 26207130955 | D18: Trịnh Thị Hồng | E18: Minh | F18: =VLOOKUP(C18,[1]Sheet!$D$4:$L$1445,9,0) -> 37427 | G18: K26QNT12 | H18: Nguyễn Thị Tuyên Ngôn | I18: =LEFT(G18,3) -> K26 | J18: =IF(LEN(G18)<9,LEFT(G18,6),LEFT(G18,9)) -> K26QNT
A19: =A18+1 -> 17 | B19: =IF(G19<>G18,1,B18+1) -> 1 | C19: 25212202254 | D19: Nguyễn Đức | E19: Trí | F19: 37088 | G19: K26QTM2 | H19: Trần Thanh Hải | I19: =LEFT(G19,3) -> K26 | J19: =IF(LEN(G19)<9,LEFT(G19,6),LEFT(G19,9)) -> K26QTM
A20: =A19+1 -> 18 | B20: =IF(G20<>G19,1,B19+1) -> 1 | C20: 26202134488 | D20: Nguyễn Thị Huyền | E20: Trâm | F20: =VLOOKUP(C20,[1]Sheet!$D$4:$L$1445,9,0) -> 37591 | G20: K26QTH3 | H20: Lương Định Vững | I20: =LEFT(G20,3) -> K26 | J20: =IF(LEN(G20)<9,LEFT(G20,6),LEFT(G20,9)) -> K26QTH
A21: =A20+1 -> 19 | B21: =IF(G21<>G20,1,B20+1) -> 1 | C21: 26212132865 | D21: Nguyễn Quý Tri | E21: Tân | F21: 37364 | G21: K26QTH1 | H21: Phạm Thị Quỳnh Lệ | I21: =LEFT(G21,3) -> K26 | J21: =IF(LEN(G21)<9,LEFT(G21,6),LEFT(G21,9)) -> K26QTH
A22: =A21+1 -> 20 | B22: =IF(G22<>G21,1,B21+1) -> 1 | C22: 26212224972 | D22: Đỗ Minh | E22: Trí | F22: =VLOOKUP(C22,[1]Sheet!$D$4:$L$1445,9,0) -> 37598 | G22: K26QTH8 | H22: Phạm Thị Uyên Thi | I22: =LEFT(G22,3) -> K26 | J22: =IF(LEN(G22)<9,LEFT(G22,6),LEFT(G22,9)) -> K26QTH
A23: =A22+1 -> 21 | B23: =IF(G23<>G22,1,B22+1) -> 1 | C23: 26207128309 | D23: Ngô Thị Lạc | E23: Quỳnh | F23: =VLOOKUP(C23,[1]Sheet!$D$4:$L$1445,9,0) -> 37455 | G23: K26QTN12 | H23: Huỳnh Tịnh Cát | I23: =LEFT(G23,3) -> K26 | J23: =IF(LEN(G23)<9,LEFT(G23,6),LEFT(G23,9)) -> K26QTN
A24: =A23+1 -> 22 | B24: =IF(G24<>G23,1,B23+1) -> 1 | C24: 26202136214 | D24: Nguyễn Thị Kiều | E24: Oanh | F24: =VLOOKUP(C24,[1]Sheet!$D$4:$L$1445,9,0) -> 37604 | G24: K26QTH11 | H24: Lê Thị Hoài Trinh | I24: =LEFT(G24,3) -> K26 | J24: =IF(LEN(G24)<9,LEFT(G24,6),LEFT(G24,9)) -> K26QTH
A25: =A24+1 -> 23 | B25: =IF(G25<>G24,1,B24+1) -> 1 | C25: 26212127969 | D25: Trần Văn Anh | E25: Khoa | F25: 37532 | G25: K26QTH4 | H25: Lê Thị Hoài Trinh | I25: =LEFT(G25,3) -> K26 | J25: =IF(LEN(G25)<9,LEFT(G25,6),LEFT(G25,9)) -> K26QTH
A26: =A25+1 -> 24 | B26: =IF(G26<>G25,1,B25+1) -> 1 | C26: 26216124527 | D26: Đặng Đại | E26: Huy | F26: 37269 | G26: K26QTH3 | H26: Lương Định Vững | I26: =LEFT(G26,3) -> K26 | J26: =IF(LEN(G26)<9,LEFT(G26,6),LEFT(G26,9)) -> K26QTH
A27: =A26+1 -> 25 | B27: =IF(G27<>G26,1,B26+1) -> 1 | C27: 26202234975 | D27: Võ Thạch | E27: Thảo | F27: =VLOOKUP(C27,[1]Sheet!$D$4:$L$1445,9,0) -> 37270 | G27: K26QTM5 | H27: Đỗ Văn Tính | I27: =LEFT(G27,3) -> K26 | J27: =IF(LEN(G27)<9,LEFT(G27,6),LEFT(G27,9)) -> K26QTM
A28: =A27+1 -> 26 | B28: =IF(G28<>G27,1,B27+1) -> 1 | C28: 26202100356 | D28: Nguyễn Thị Thu | E28: Hiền | F28: =VLOOKUP(C28,[1]Sheet!$D$4:$L$1445,9,0) -> 37525 | G28: K26QNT12 | H28: Nguyễn Thị Tuyên Ngôn | I28: =LEFT(G28,3) -> K26 | J28: =IF(LEN(G28)<9,LEFT(G28,6),LEFT(G28,9)) -> K26QNT
A29: =A28+1 -> 27 | B29: =IF(G29<>G28,1,B28+1) -> 1 | C29: 26215100379 | D29: Đặng Hữu Phi | E29: Long | F29: =VLOOKUP(C29,[1]Sheet!$D$4:$L$1445,9,0) -> 37460 | G29: K26QTM5 | H29: Đỗ Văn Tính | I29: =LEFT(G29,3) -> K26 | J29: =IF(LEN(G29)<9,LEFT(G29,6),LEFT(G29,9)) -> K26QTM
A30: =A29+1 -> 28 | B30: =IF(G30<>G29,1,B29+1) -> 1 | C30: 27202102113 | D30: Võ Thị Như | E30: Quỳnh | F30: 37760 | G30: K27QTH12 | H30: Trần Thanh Hải | I30: =LEFT(G30,3) -> K27 | J30: =IF(LEN(G30)<9,LEFT(G30,6),LEFT(G30,9)) -> K27QTH
A31: =A30+1 -> 29 | B31: =IF(G31<>G30,1,B30+1) -> 1 | C31: 27202102422 | D31: Nguyễn Thị Thanh | E31: Ngân | F31: 37700 | G31: K27QTH11 | H31: Lê Phúc Minh Chuyên | I31: =LEFT(G31,3) -> K27
A32: =A31+1 -> 30 | B32: =IF(G32<>G31,1,B31+1) -> 1 | C32: 27202924263 | D32: Trương Thị | E32: Vinh | F32: 37984 | G32: K27QTH1 | H32: Hồ Tấn Tuyến | I32: =LEFT(G32,3) -> K27
A33: =A32+1 -> 31 | B33: =IF(G33<>G32,1,B32+1) -> 1 | C33: 26212142004 | D33: Trần Tiến | E33: Quang | F33: 37271 | G33: K27QTH10 | H33: Lê Phúc Minh Chuyên | I33: =LEFT(G33,3) -> K27
A34: =A33+1 -> 32 | B34: =IF(G34<>G33,1,B33+1) -> 1 | C34: 25212101367 | D34: Trương Huỳnh Phước | E34: Đạt | F34: 36850 | G34: K27QTH | H34: Đỗ Văn Tính | I34: =LEFT(G34,3) -> K27 | J34: =IF(LEN(G34)<9,LEFT(G34,6),LEFT(G34,9)) -> K27QTH
A35: =A34+1 -> 33 | B35: =IF(G35<>G34,1,B34+1) -> 1 | C35: 25212210482 | D35: Nguyễn Mai | E35: Đức | F35: 36136 | G35: K27QTM1 | H35: Lê Hoàng Thiên Tân | I35: =LEFT(G35,3) -> K27
A36: =A35+1 -> 34 | B36: =IF(G36<>G35,1,B35+1) -> 1 | C36: 27217100068 | D36: Nguyễn Phúc | E36: Vinh | F36: 37922 | G36: K27QTH4 | H36: Trần Thanh Hải | I36: =LEFT(G36,3) -> K27
A37: =A36+1 -> 35 | B37: =IF(G37<>G36,1,B36+1) -> 1 | C37: 27202228935 | D37: Nguyễn Thị Vân | E37: Sang | F37: 35898 | G37: K27QTH8 | H37: Nguyễn Thị Thu Hằng | I37: =LEFT(G37,3) -> K27
A38: =A37+1 -> 36 | B38: =IF(G38<>G37,1,B37+1) -> 1 | C38: 24212113034 | D38: Hà Đinh Minh | E38: Thành | F38: 36836 | G38: K27QTH5 | H38: Mai Thị Hồng Nhung | I38: =LEFT(G38,3) -> K27
A39: =A38+1 -> 37 | B39: =IF(G39<>G38,1,B38+1) -> 1 | C39: 27202146151 | D39: Lê Thị Kiều | E39: Diễm | F39: 37790 | G39: K27QTH11 | H39: Lê Phúc Minh Chuyên | I39: =LEFT(G39,3) -> K27
A40: =A39+1 -> 38 | B40: =IF(G40<>G39,1,B39+1) -> 1 | C40: 27202151392 | D40: Phạm Thị Tú | E40: Trinh | F40: 37854 | G40: K27QTH12 | H40: Trần Thanh Hải | I40: =LEFT(G40,3) -> K27
A41: =A40+1 -> 39 | B41: =IF(G41<>G40,1,B40+1) -> 1 | C41: 27202202677 | D41: Lương Thị | E41: Nhàn | F41: 37701 | G41: K27QTM18 | H41: Nguyễn Minh Nhật | I41: =LEFT(G41,3) -> K27
A42: =A41+1 -> 40 | B42: =IF(G42<>G41,1,B41+1) -> 1 | C42: 27202201784 | D42: Đinh Thị Thu | E42: Thảo | F42: 37002 | G42: K27QTM16 | H42: Lê Hoàng Thiên Tân | I42: =LEFT(G42,3) -> K27
A43: =A42+1 -> 41 | B43: =IF(G43<>G42,1,B42+1) -> 1 | C43: 27202220280 | D43: Nguyễn Thị Phương | E43: Linh | F43: 37810 | G43: K27QTM1 | H43: Lê Hoàng Thiên Tân | I43: =LEFT(G43,3) -> K27
A44: =A43+1 -> 42 | B44: =IF(G44<>G43,1,B43+1) -> 1 | C44: 27202129220 | D44: Lê Khánh | E44: Linh | F44: 37861 | G44: K27QTH12 | H44: Trần Thanh Hải | I44: =LEFT(G44,3) -> K27
A45: =A44+1 -> 43 | B45: =IF(G45<>G44,1,B44+1) -> 1 | C45: 27202236896 | D45: Trần Thị Phương | E45: Nhi | F45: 37981 | G45: K27QTM4 | H45: Nguyễn Minh Nhật | I45: =LEFT(G45,3) -> K27
A46: =A45+1 -> 44 | B46: =IF(G46<>G45,1,B45+1) -> 2 | C46: 27202821782 | D46: Võ Thị Tường | E46: Vi | F46: 37506 | G46: K27QTM4 | H46: Nguyễn Minh Nhật | I46: =LEFT(G46,3) -> K27
... A60: =A59+1 -> 58 | B60: =IF(G60<>G59,1,B59+1) -> 1 | C60: 27202838507 | D60: Nguyễn Ngọc Thùy | E60: Giang | F60: 37955 | G60: K27QTD1 | H60: Nguyễn Thị Tiến | I60: =LEFT(G60,3) -> K27
A61: =A60+1 -> 59 | B61: =IF(G61<>G60,1,B60+1) -> 1 | C61: 2320712291 | D61: Trương Thu | E61: Thảo | F61: 36319 | G61: K23QNT1 | H61: Nguyễn Minh Nhật | I61: =LEFT(G61,3) -> K23 | J61: =IF(LEN(G61)<9,LEFT(G61,6),LEFT(G61,9)) -> K23QNT
A62: =A61+1 -> 60 | B62: =IF(G62<>G61,1,B61+1) -> 1 | C62: 24207106071 | D62: Lê Thị Mỹ | E62: Nga | F62: 36795 | G62: K24QTH3 | H62: Sái Thị Lệ Thủy | I62: =LEFT(G62,3) -> K24 | J62: =IF(LEN(G62)<9,LEFT(G62,6),LEFT(G62,9)) -> K24QTH
A63: =A62+1 -> 61 | B63: =IF(G63<>G62,1,B62+1) -> 1 | C63: 24211204423 | D63: Đỗ Văn Trung | E63: Hiếu | F63: 36774 | G63: K24QTH5 | H63: Đặng Thanh Dũng | I63: =LEFT(G63,3) -> K24 | J63: =IF(LEN(G63)<9,LEFT(G63,6),LEFT(G63,9)) -> K24QTH
B64: =IF(G64<>G63,1,B63+1) -> 1 | C64: 24211205669 | D64: Nguyễn Hữu | E64: Dũng | F64: 36795 | G64: K25QTH4 | H64: Lê Hoàng Thiên Tân | J64: =E64=I64 -> FALSE
B65: =IF(G65<>G64,1,B64+1) -> 1 | C65: 25204300875 | D65: Đặng Thanh | E65: Đan | F65: 37098 | G65: K25QTM5 | H65: Trần Thanh Hải | J65: =E65=I65 -> FALSE
B66: =IF(G66<>G65,1,B65+1) -> 1 | C66: 24212115133 | D66: Huỳnh Phong | E66: Tấn | F66: 36411 | G66: K25QTH10 | H66: Hồ Diệu Khánh | J66: =E66=I66 -> FALSE
B67: =IF(G67<>G66,1,B66+1) -> 1 | C67: 25212112195 | D67: Nguyễn Công | E67: Khải | F67: 37219 | G67: K25QTM2 | H67: Trần Thanh Hải | J67: =E67=I67 -> FALSE
B68: =IF(G68<>G67,1,B67+1) -> 1 | C68: 25217105951 | D68: Võ Công | E68: Hoàng | F68: 36958 | G68: K25QTD2 | H68: Đặng Thanh Dũng | J68: =E68=I68 -> FALSE
B69: =IF(G69<>G68,1,B68+1) -> 1 | C69: 25212109069 | D69: Nguyễn Hoàng | E69: Phước | F69: 37102 | G69: K25QTH9 | H69: Nguyễn vũ Hạ Liên | J69: =E69=I69 -> FALSE
B70: =IF(G70<>G69,1,B69+1) -> 1 | C70: 24217202115 | D70: Nguyễn Tiến | E70: Đạt | F70: 36739 | G70: K25QTM7 | H70: Nguyễn Thị Thảo | J70: =E70=I70 -> FALSE
A71: =A70+1 -> 1 | B71: =IF(G71<>G70,1,B70+1) -> 1 | C71: 26212133970 | D71: Phạm Phước Thành | E71: Long | F71: =VLOOKUP(C71,[2]Sheet!$D$4:$L$1445,9,0) -> 37355 | G71: K26QTH14 | H71: Lê Thị Kiều My | I71: =LEFT(G71,3) -> K26 | J71: =IF(LEN(G71)<9,LEFT(G71,6),LEFT(G71,9)) -> K26QTH
A72: 1 | B72: =IF(G72<>#REF!,1,#REF!+1) -> #REF! | C72: 26202137859 | D72: Tạ Thị Quỳnh | E72: Như | F72: =VLOOKUP(C72,[3]Sheet!$D$4:$L$1445,9,0) -> 37511 | G72: K26QNT12 | H72: Nguyễn Thị Tuyên Ngôn | I72: =LEFT(G72,3) -> K26 | J72: =IF(LEN(G72)<9,LEFT(G72,6),LEFT(G72,9)) -> K26QNT
A73: =A72+1 -> 2 | B73: =IF(G73<>G72,1,B72+1) -> 1 | C73: 26212122084 | D73: Phan Huy | E73: Hoàng | F73: =VLOOKUP(C73,[3]Sheet!$D$4:$L$1445,9,0) -> 37564 | G73: K26QTH13 | H73: Mai Xuân Bình | I73: =LEFT(G73,3) -> K26 | J73: =IF(LEN(G73)<9,LEFT(G73,6),LEFT(G73,9)) -> K26QTH
A74: =A73+1 -> 3 | B74: =IF(G74<>G73,1,B73+1) -> 1 | C74: 26212228992 | D74: Lê Văn | E74: Chương | F74: 37236 | G74: K26QTM2 | H74: Trần Thanh Hải | I74: =LEFT(G74,3) -> K26 | J74: =IF(LEN(G74)<9,LEFT(G74,6),LEFT(G74,9)) -> K26QTM
A75: =A74+1 -> 4 | B75: =IF(G75<>G74,1,B74+1) -> 1 | C75: 26212235625 | D75: Nguyễn Minh | E75: Hoàng | F75: =VLOOKUP(C75,[3]Sheet!$D$4:$L$1445,9,0) -> 37466 | G75: K26QTM7 | H75: Phạm Thị Uyên Thi | I75: =LEFT(G75,3) -> K26 | J75: =IF(LEN(G75)<9,LEFT(G75,6),LEFT(G75,9)) -> K26QTM
A76: =A75+1 -> 5 | B76: =IF(G76<>G75,1,B75+1) -> 1 | C76: 26207232537 | D76: Phạm Huỳnh Thúy | E76: Hoa | F76: 37505 | G76: K26QTM2 | H76: Trần Thanh Hải | I76: =LEFT(G76,3) -> K26 | J76: =IF(LEN(G76)<9,LEFT(G76,6),LEFT(G76,9)) -> K26QTM
A77: =A76+1 -> 6 | B77: =IF(G77<>G76,1,B76+1) -> 1 | C77: 25212104198 | D77: Phạm Nhật | E77: Rin | F77: 36909 | G77: K26QTH6 | H77: Đặng Thanh Dũng | I77: =LEFT(G77,3) -> K26 | J77: =IF(LEN(G77)<9,LEFT(G77,6),LEFT(G77,9)) -> K26QTH
A78: =A77+1 -> 7 | B78: =IF(G78<>G77,1,B77+1) -> 1 | C78: 26207133487 | D78: Nguyễn Thị Minh | E78: Nhi | F78: =VLOOKUP(C78,[3]Sheet!$D$4:$L$1445,9,0) -> 37615 | G78: K26QTH14 | H78: Lê Thị Kiều My | I78: =LEFT(G78,3) -> K26 | J78: =IF(LEN(G78)<9,LEFT(G78,6),LEFT(G78,9)) -> K26QTH
A79: =A78+1 -> 8 | B79: =IF(G79<>G78,1,B78+1) -> 1 | C79: 26212234816 | D79: Nguyễn Lương | E79: Hưng | F79: =VLOOKUP(C79,[3]Sheet!$D$4:$L$1445,9,0) -> 37173 | G79: K26QTM5 | H79: Đỗ Văn Tính | I79: =LEFT(G79,3) -> K26 | J79: =IF(LEN(G79)<9,LEFT(G79,6),LEFT(G79,9)) -> K26QTM
A80: =A79+1 -> 9 | B80: =IF(G80<>G79,1,B79+1) -> 1 | C80: 26212126232 | D80: Đặng Bá Hồng | E80: Phong | F80: =VLOOKUP(C80,[3]Sheet!$D$4:$L$1445,9,0) -> 37532 | G80: K26QTM1 | H80: Hồ Diệu Khánh | I80: =LEFT(G80,3) -> K26 | J80: =IF(LEN(G80)<9,LEFT(G80,6),LEFT(G80,9)) -> K26QTM
A81: =A80+1 -> 10 | B81: =IF(G81<>G80,1,B80+1) -> 1 | C81: 26202733619 | D81: Trần Khánh | E81: Nhi | F81: 37257 | G81: K26QTM5 | H81: Đỗ Văn Tính | I81: =LEFT(G81,3) -> K26 | J81: =IF(LEN(G81)<9,LEFT(G81,6),LEFT(G81,9)) -> K26QTM
A82: =A81+1 -> 11 | B82: =IF(G82<>G81,1,B81+1) -> 1 | C82: 26202142517 | D82: Lê Thị Quỳnh | E82: Giao | F82: =VLOOKUP(C82,[3]Sheet!$D$4:$L$1445,9,0) -> 37283 | G82: K26QTH4 | H82: Lê Thị Hoài Trinh | I82: =LEFT(G82,3) -> K26 | J82: =IF(LEN(G82)<9,LEFT(G82,6),LEFT(G82,9)) -> K26QTH
A83: =A82+1 -> 12 | B83: =IF(G83<>G82,1,B82+1) -> 2 | C83: 26212133363 | D83: Dương Nam | E83: Khánh | F83: =VLOOKUP(C83,[3]Sheet!$D$4:$L$1445,9,0) -> 37313 | G83: K26QTH4 | H83: Lê Thị Hoài Trinh | I83: =LEFT(G83,3) -> K26 | J83: =IF(LEN(G83)<9,LEFT(G83,6),LEFT(G83,9)) -> K26QTH
A84: =A83+1 -> 13 | B84: =IF(G84<>G83,1,B83+1) -> 1 | C84: 26202125359 | D84: Phan Thị Ánh | E84: Lương | F84: =VLOOKUP(C84,[3]Sheet!$D$4:$L$1445,9,0) -> 37495 | G84: K26QTH8 | H84: Phạm Thị Uyên Thi | I84: =LEFT(G84,3) -> K26 | J84: =IF(LEN(G84)<9,LEFT(G84,6),LEFT(G84,9)) -> K26QTH
A85: =A84+1 -> 14 | B85: =IF(G85<>G84,1,B84+1) -> 1 | C85: 26202137826 | D85: Nguyễn Châu Uyển | E85: Nhi | F85: =VLOOKUP(C85,[3]Sheet!$D$4:$L$1445,9,0) -> 37369 | G85: K26QTH6 | H85: Đặng Thanh Dũng | I85: =LEFT(G85,3) -> K26 | J85: =IF(LEN(G85)<9,LEFT(G85,6),LEFT(G85,9)) -> K26QTH
A86: =A85+1 -> 15 | B86: =IF(G86<>G85,1,B85+1) -> 1 | C86: 26202133019 | D86: Huỳnh Phan Vũ | E86: Phượng | F86: =VLOOKUP(C86,[3]Sheet!$D$4:$L$1445,9,0) -> 37461 | G86: K26QTH1 | H86: Phạm Thị Quỳnh Lệ | I86: =LEFT(G86,3) -> K26 | J86: =IF(LEN(G86)<9,LEFT(G86,6),LEFT(G86,9)) -> K26QTH
A87: =A86+1 -> 16 | B87: =IF(G87<>G86,1,B86+1) -> 1 | C87: 26212200401 | D87: Phạm Quang | E87: Vũ | F87: =VLOOKUP(C87,[3]Sheet!$D$4:$L$1445,9,0) -> 37500 | G87: K26QTM6 | H87: Nguyễn vũ Hạ Liên | I87: =LEFT(G87,3) -> K26 | J87: =IF(LEN(G87)<9,LEFT(G87,6),LEFT(G87,9)) -> K26QTM
A88: =A87+1 -> 17 | B88: =IF(G88<>G87,1,B87+1) -> 1 | C88: 26202241945 | D88: Nguyễn Thị Kiều | E88: Anh | F88: =VLOOKUP(C88,[3]Sheet!$D$4:$L$1445,9,0) -> 37548 | G88: K26QTM5 | H88: Đỗ Văn Tính | I88: =LEFT(G88,3) -> K26 | J88: =IF(LEN(G88)<9,LEFT(G88,6),LEFT(G88,9)) -> K26QTM
A89: =A88+1 -> 18 | B89: =IF(G89<>G88,1,B88+1) -> 1 | C89: 26207129890 | D89: Võ Chí | E89: Thanh | F89: 37426 | G89: K26QTD1 | H89: Sái Thị Lệ Thủy | I89: =LEFT(G89,3) -> K26 | J89: =IF(LEN(G89)<9,LEFT(G89,6),LEFT(G89,9)) -> K26QTD
A90: =A89+1 -> 19 | B90: =IF(G90<>G89,1,B89+1) -> 1 | C90: 26202934654 | D90: Lý Thị Thủy | E90: Tiên | F90: =VLOOKUP(C90,[3]Sheet!$D$4:$L$1445,9,0) -> 37570 | G90: K26QTN12 | H90: Huỳnh Tịnh Cát | I90: =LEFT(G90,3) -> K26 | J90: =IF(LEN(G90)<9,LEFT(G90,6),LEFT(G90,9)) -> K26QTN
A91: =A90+1 -> 20 | B91: =IF(G91<>G90,1,B90+1) -> 1 | C91: 26203032300 | D91: Đặng Lê Bảo | E91: Khuyên | F91: =VLOOKUP(C91,[3]Sheet!$D$4:$L$1445,9,0) -> 37449 | G91: K26QTM8 | H91: Nguyễn Thị Thu Hằng | I91: =LEFT(G91,3) -> K26 | J91: =IF(LEN(G91)<9,LEFT(G91,6),LEFT(G91,9)) -> K26QTM
A92: =A91+1 -> 21 | B92: =IF(G92<>G91,1,B91+1) -> 1 | C92: 26217134147 | D92: Trần Mạnh | E92: Quân | F92: 37585 | G92: K26QKB1 | H92: Nguyễn Minh Nhật | I92: =LEFT(G92,3) -> K26 | J92: =IF(LEN(G92)<9,LEFT(G92,6),LEFT(G92,9)) -> K26QKB
A93: =A92+1 -> 22 | B93: =IF(G93<>G92,1,B92+1) -> 1 | C93: 26202122412 | D93: Võ Thị Kiều | E93: Diễm | F93: =VLOOKUP(C93,[3]Sheet!$D$4:$L$1445,9,0) -> 37529 | G93: K26QTH14 | H93: Lê Thị Kiều My | I93: =LEFT(G93,3) -> K26 | J93: =IF(LEN(G93)<9,LEFT(G93,6),LEFT(G93,9)) -> K26QTH
A94: =A93+1 -> 23 | B94: =IF(G94<>G93,1,B93+1) -> 1 | C94: 26202134315 | D94: Võ Gia | E94: Ly | F94: =VLOOKUP(C94,[3]Sheet!$D$4:$L$1445,9,0) -> 37553 | G94: K26QTH1 | H94: Phạm Thị Quỳnh Lệ | I94: =LEFT(G94,3) -> K26 | J94: =IF(LEN(G94)<9,LEFT(G94,6),LEFT(G94,9)) -> K26QTH
A95: =A94+1 -> 24 | B95: =IF(G95<>G94,1,B94+1) -> 1 | C95: 26212133493 | D95: Trần Quốc | E95: Nam | F95: =VLOOKUP(C95,[3]Sheet!$D$4:$L$1445,9,0) -> 37611 | G95: K26QTH3 | H95: Lương Định Vững | I95: =LEFT(G95,3) -> K26 | J95: =IF(LEN(G95)<9,LEFT(G95,6),LEFT(G95,9)) -> K26QTH
A96: =A95+1 -> 25 | B96: =IF(G96<>G95,1,B95+1) -> 1 | C96: 26212236391 | D96: Nguyễn Đức | E96: Anh | F96: =VLOOKUP(C96,[3]Sheet!$D$4:$L$1445,9,0) -> 36944 | G96: K26QTM5 | H96: Đỗ Văn Tính | I96: =LEFT(G96,3) -> K26 | J96: =IF(LEN(G96)<9,LEFT(G96,6),LEFT(G96,9)) -> K26QTM
A97: =A96+1 -> 26 | B97: =IF(G97<>G96,1,B96+1) -> 1 | C97: 26215130990 | D97: Bùi Thị Thùy | E97: Linh | F97: 36944 | G97: K26QTH6 | H97: Đặng Thanh Dũng | I97: =LEFT(G97,3) -> K26 | J97: =IF(LEN(G97)<9,LEFT(G97,6),LEFT(G97,9)) -> K26QTH
A98: =A97+1 -> 27 | B98: =IF(G98<>G97,1,B97+1) -> 1 | C98: 26212241783 | D98: Nguyễn Lê Quốc | E98: Bình | F98: =VLOOKUP(C98,[3]Sheet!$D$4:$L$1445,9,0) -> 37256 | G98: K26QTM1 | H98: Hồ Diệu Khánh | I98: =LEFT(G98,3) -> K26 | J98: =IF(LEN(G98)<9,LEFT(G98,6),LEFT(G98,9)) -> K26QTM
A99: =A98+1 -> 28 | B99: =IF(G99<>G98,1,B98+1) -> 1 | C99: 26202125153 | D99: Phùng Hữu Khánh | E99: Thông | F99: =VLOOKUP(C99,[3]Sheet!$D$4:$L$1445,9,0) -> 37526 | G99: K26QTH14 | H99: Lê Thị Kiều My | I99: =LEFT(G99,3) -> K26 | J99: =IF(LEN(G99)<9,LEFT(G99,6),LEFT(G99,9)) -> K26QTH
A100: =A99+1 -> 29 | B100: =IF(G100<>G99,1,B99+1) -> 1 | C100: 26212135744 | D100: Nguyễn Đức | E100: Đạt | F100: 37268 | G100: K26QTH13 | H100: Mai Xuân Bình | I100: =LEFT(G100,3) -> K26 | J100: =IF(LEN(G100)<9,LEFT(G100,6),LEFT(G100,9)) -> K26QTH
A101: =A100+1 -> 30 | B101: =IF(G101<>G100,1,B100+1) -> 1 | C101: 26212431653 | D101: Trần Hồ Nam | E101: Sơn | F101: =VLOOKUP(C101,[3]Sheet!$D$4:$L$1445,9,0) -> 37395 | G101: K26QTH14 | H101: Lê Thị Kiều My | I101: =LEFT(G101,3) -> K26 | J101: =IF(LEN(G101)<9,LEFT(G101,6),LEFT(G101,9)) -> K26QTH
A102: =A101+1 -> 31 | B102: =IF(G102<>G101,1,B101+1) -> 1 | C102: 26212121916 | D102: Nguyễn Minh | E102: Quân | F102: =VLOOKUP(C102,[3]Sheet!$D$4:$L$1445,9,0) -> 37417 | G102: K26QTH2 | H102: Lê Thị Kiều My | I102: =LEFT(G102,3) -> K26 | J102: =IF(LEN(G102)<9,LEFT(G102,6),LEFT(G102,9)) -> K26QTH
A103: =A102+1 -> 32 | B103: =IF(G103<>G102,1,B102+1) -> 1 | C103: 26212235167 | D103: Nguyễn Trọng Phúc | E103: Khương | F103: =VLOOKUP(C103,[3]Sheet!$D$4:$L$1445,9,0) -> 37316 | G103: K26QTM7 | H103: Phạm Thị Uyên Thi | I103: =LEFT(G103,3) -> K26 | J103: =IF(LEN(G103)<9,LEFT(G103,6),LEFT(G103,9)) -> K26QTM
A104: =A103+1 -> 33 | B104: =IF(G104<>G103,1,B103+1) -> 1 | C104: 26204300251 | D104: Mai Phan Thảo | E104: Hà | F104: 37303 | G104: K26QTM4 | H104: Nguyễn Thị Minh Hà | I104: =LEFT(G104,3) -> K26 | J104: =IF(LEN(G104)<9,LEFT(G104,6),LEFT(G104,9)) -> K26QTM
A105: =A104+1 -> 34 | B105: =IF(G105<>G104,1,B104+1) -> 1 | C105: 26212200805 | D105: Nguyễn Trần Đăng | E105: Khoa | F105: 37565 | G105: K26QTM1 | H105: Hồ Diệu Khánh | I105: =LEFT(G105,3) -> K26 | J105: =IF(LEN(G105)<9,LEFT(G105,6),LEFT(G105,9)) -> K26QTM
A106: =A105+1 -> 35 | B106: =IF(G106<>G105,1,B105+1) -> 1 | C106: 26212120487 | D106: Huỳnh Quang | E106: Đại | F106: 37568 | G106: K26QTH1 | H106: Phạm Thị Quỳnh Lệ | I106: =LEFT(G106,3) -> K26 | J106: =IF(LEN(G106)<9,LEFT(G106,6),LEFT(G106,9)) -> K26QTH
A107: =A106+1 -> 36 | B107: =IF(G107<>G106,1,B106+1) -> 1 | C107: 26217142736 | D107: Đồng Vĩnh | E107: Sơn | F107: =VLOOKUP(C107,[3]Sheet!$D$4:$L$1445,9,0) -> 37569 | G107: K26QTH8 | H107: Phạm Thị Uyên Thi | I107: =LEFT(G107,3) -> K26 | J107: =IF(LEN(G107)<9,LEFT(G107,6),LEFT(G107,9)) -> K26QTH
A108: =A107+1 -> 37 | B108: =IF(G108<>G107,1,B107+1) -> 1 | C108: 27212202923 | D108: Mai Trịnh Ngọc | E108: Trâm | F108: 37631 | G108: K27QTM18 | H108: Nguyễn Minh Nhật | I108: =LEFT(G108,3) -> K27 | J108: =IF(LEN(G108)<9,LEFT(G108,6),LEFT(G108,9)) -> K27QTM
A109: =A108+1 -> 38 | B109: =IF(G109<>G108,1,B108+1) -> 1 | C109: 27212539107 | D109: Nguyễn Văn | E109: Tấn | F109: 37960 | G109: K27QTH4 | H109: Trần Thanh Hải | I109: =LEFT(G109,3) -> K27 | J109: =IF(LEN(G109)<9,LEFT(G109,6),LEFT(G109,9)) -> K27QTH
A110: =A109+1 -> 39 | B110: =IF(G110<>G109,1,B109+1) -> 2 | C110: 27218229385 | D110: Nguyễn Lương | E110: Sơn | F110: 37839 | G110: K27QTH4 | H110: Trần Thanh Hải | I110: =LEFT(G110,3) -> K27 | J110: =IF(LEN(G110)<9,LEFT(G110,6),LEFT(G110,9)) -> K27QTH
A111: =A110+1 -> 40 | B111: =IF(G111<>G110,1,B110+1) -> 1 | C111: 26211331480 | D111: Võ Nhân | E111: Tài | F111: 37528 | G111: K27QTM2 | H111: Trương Hoàng Hoa Duyên | I111: =LEFT(G111,3) -> K27 | J111: =IF(LEN(G111)<9,LEFT(G111,6),LEFT(G111,9)) -> K27QTM
A112: =A111+1 -> 41 | B112: =IF(G112<>G111,1,B111+1) -> 2 | C112: 27212220566 | D112: Nguyễn Hoàng | E112: Anh | F112: 35649 | G112: K27QTM2 | H112: Trương Hoàng Hoa Duyên | I112: =LEFT(G112,3) -> K27 | J112: =IF(LEN(G112)<9,LEFT(G112,6),LEFT(G112,9)) -> K27QTM
A113: =A112+1 -> 42 | B113: =IF(G113<>G112,1,B112+1) -> 1 | C113: 27202138853 | D113: Nguyễn Thị | E113: Nguyệt | F113: 37417 | G113: K27QTH3 | H113: Lê Phúc Minh Chuyên | I113: =LEFT(G113,3) -> K27 | J113: =IF(LEN(G113)<9,LEFT(G113,6),LEFT(G113,9)) -> K27QTH
A114: =A113+1 -> 43 | B114: =IF(G114<>G113,1,B113+1) -> 1 | C114: 27202234037 | D114: Ngô Thị Ngân | E114: Hà | F114: 37685 | G114: K27QTM2 | H114: Trương Hoàng Hoa Duyên | I114: =LEFT(G114,3) -> K27 | J114: =IF(LEN(G114)<9,LEFT(G114,6),LEFT(G114,9)) -> K27QTM
A115: =A114+1 -> 44 | B115: =IF(G115<>G114,1,B114+1) -> 1 | C115: 27202139210 | D115: Phan Thị Phi | E115: Yến | F115: 37684 | G115: K27QTH6 | H115: Nguyễn Thị Thu Hằng | I115: =LEFT(G115,3) -> K27 | J115: =IF(LEN(G115)<9,LEFT(G115,6),LEFT(G115,9)) -> K27QTH
...

Sheet DS THUC TAP
A1: BỘ GIÁO DỤC VÀ ĐÀO TẠO | E1: DANH SÁCH GIẢNG VIÊN HƯỚNG DẪN THỰC TẬP TỐT NGHIỆP
A2: ĐẠI HỌC DUY TÂN | E2: CHUYÊN NGÀNH: …................... - KHÓA:…............
E3: Kèm theo quyết định số: ……………./QĐ-ĐHDT-HDTN ngày …… tháng ……. Năm ……….
A5: STT | B5: MÃ SỐ SV | C5: HỌ | D5: TÊN | E5: KHỐI LỚP | F5: ĐƠN VỊ THỰC TẬP | G5: TÊN ĐỀ TÀI | H5: GIẢNG VIÊN HƯỚNG DẪN | I5: Số điện thoại
A6: 1 | B6: 28212280326 | C6: Trần Minh | D6: Phương | E6: K28QTM7 | H6: Đặng Thanh Dũng | I6: 0935.951.537
A7: =A6+1 -> 2 | B7: 28214331267 | C7: Hồ Hoàng | D7: Khang | E7: K28QTM6 | H7: Đặng Thanh Dũng | I7: 0935.951.537
A8: =A7+1 -> 3 | B8: 28204604752 | C8: Trần Thị Kim | D8: Phượng | E8: K28QTM4 | H8: Nguyễn Thị Thảo | I8: 0935.686.090
A9: =A8+1 -> 4 | B9: 28204648513 | C9: Nguyễn Phi | D9: Nhung | E9: K28QTM3 | H9: Đặng Thanh Dũng | I9: 0935.951.537
A10: =A9+1 -> 5 | B10: 28202735841 | C10: Lê Thị Minh | D10: Phúc | E10: K28QTM3 | H10: Đặng Thanh Dũng | I10: 0935.951.537
A11: =A10+1 -> 6 | B11: 28204646825 | C11: Nguyễn Thị Hồng | D11: Thắm | E11: K28QTM3 | H11: Đặng Thanh Dũng | I11: 0935.951.537
A12: =A11+1 -> 7 | B12: 28206633950 | C12: Nguyễn Thị Diệu | D12: Hương | E12: K28QTM3 | H12: Đặng Thanh Dũng | I12: 0935.951.537
A13: =A12+1 -> 8 | B13: 28204606060 | C13: Võ Thị Thúy | D13: Nga | E13: K28QTM2 | H13: Đỗ Văn Tính | I13: '0915.282.289
A14: =A13+1 -> 9 | B14: 28214605256 | C14: Trần Quốc | D14: Trí | E14: K28QTM12 | H14: Đặng Thanh Dũng | I14: 0935.951.537
A15: =A14+1 -> 10 | B15: 27212240364 | C15: Trần Xuân | D15: Lành | E15: K28QTM12 | H15: Đặng Thanh Dũng | I15: 0935.951.537
A16: =A15+1 -> 11 | B16: 28204651599 | C16: Trần Hoài | D16: Trúc | E16: K28QTM12 | H16: Trần Thanh Hải | I16: 0935.822.386
A17: =A16+1 -> 12 | B17: 28204604096 | C17: Trần Thị Minh | D17: Thư | E17: K28QTM11 | H17: Đặng Thiện Tâm | I17: 0379.25.15.19
A18: =A17+1 -> 13 | B18: 28204653085 | C18: Huỳnh Thị Mỹ | D18: Lệ | E18: K28QTM1 | H18: Hà Thị Duy Linh | I18: 0983.09.88.09
... A121: =A120+1 -> 116 | B121: 26211328443 | C121: Trần Văn | D121: Nhân | E121: K27QTM1 | H121: Trần Thanh Hải | I121: 0935.822.386
A122: =A121+1 -> 117 | B122: 26212242618 | C122: Đoàn Minh | D122: Tuấn | E122: K26QTM3 | H122: Hà Thị Duy Linh | I122: 0983.09.88.09
A123: =A122+1 -> 118 | B123: 26202218413 | C123: Nguyễn Thu | D123: Thảo | E123: K26QTM1 | H123: Nguyễn Thị Thảo | I123: 0935.686.090
A124: =A123+1 -> 119 | B124: 25202216243 | C124: Nguyền Thị Quỳnh | D124: Nhi | E124: K25QTM5 | H124: Mai Xuân Bình | I124: 0906.546.911
A125: =A124+1 -> 120 | B125: 27212233231 | C125: Lê Anh | D125: Dũng | E125: K27QTM8 | H125: Đặng Thanh Dũng | I125: 0935.951.537
A126: =A125+1 -> 121 | B126: 26218630323 | C126: Nguyễn Tấn | D126: Huy | E126: K26QTM | H126: Trần Thanh Hải | I126: 0935.822.386

Sheet THỐNG KÊ
A3: 1 | B3: Nguyễn Huy Tuân | C3: =COUNTIF('DS THUC TAP'!$H$6:$H$200,'THỐNG KÊ'!B3) -> 0
A4: 2 | B4: Hồ Diệu Khánh | C4: =COUNTIF('DS THUC TAP'!$H$6:$H$200,'THỐNG KÊ'!B4) -> 0
A5: 3 | B5: Sái Thị Lệ Thủy | C5: =COUNTIF('DS THUC TAP'!$H$6:$H$200,'THỐNG KÊ'!B5) -> 0
A6: 4 | B6: Trương Hoàng Hoa Duyên | C6: =COUNTIF('DS THUC TAP'!$H$6:$H$200,'THỐNG KÊ'!B6) -> 0
A7: 5 | B7: Hồ Tấn Tuyến | C7: =COUNTIF('DS THUC TAP'!$H$6:$H$200,'THỐNG KÊ'!B7) -> 0
A8: 6 | B8: Nguyễn Ngọc Quý | C8: =COUNTIF('DS THUC TAP'!$H$6:$H$200,'THỐNG KÊ'!B8) -> 0
A9: 7 | B9: Huỳnh Tịnh Cát | C9: =COUNTIF('DS THUC TAP'!$H$6:$H$200,'THỐNG KÊ'!B9) -> 0
A10: 8 | B10: Nguyễn Thị Tuyên Ngôn | C10: =COUNTIF('DS THUC TAP'!$H$6:$H$200,'THỐNG KÊ'!B10) -> 0
A11: 9 | B11: Võ Thị Thanh Thương | C11: =COUNTIF('DS THUC TAP'!$H$6:$H$200,'THỐNG KÊ'!B11) -> 0
A12: 10 | B12: Lê Thị Kiều My | C12: =COUNTIF('DS THUC TAP'!$H$6:$H$200,'THỐNG KÊ'!B12) -> 0
A13: 11 | B13: Tô Thị Bảo Thoa | C13: =COUNTIF('DS THUC TAP'!$H$6:$H$200,'THỐNG KÊ'!B13) -> 0
A14: 12 | B14: Đặng Thanh Dũng | C14: =COUNTIF('DS THUC TAP'!$H$6:$H$200,'THỐNG KÊ'!B14) -> 12
... A26: 24 | B26: Phạm Lê Quốc Vinh | C26: =COUNTIF('DS THUC TAP'!$H$6:$H$200,'THỐNG KÊ'!B26) -> 0
C27: =SUM(C3:C26) -> 121
