Workbook

Sheet DS KHEN
A2: ĐẠI HỌC DUY TÂN | D2: CỘNG HÒA XÃ HỘI CHỦ NGHĨA VIỆT NAM
A3: TRƯỜNG NGÔN NGỮ - XHNV | D3: Độc lập - Tự do - Hạnh phúc
A4: KHOA TIẾNG ANH
A6: DANH SÁCH ĐỀ NGHỊ KHEN THƯỞNG SINH VIÊN KHOA TIẾNG ANH
A7: NĂM HỌC 2025-2026
Y8: 10132000
B9: Kính gửi: | C9: Ban Giám Đốc Đại học Duy Tân
C10: Ban Công Tác Sinh Viên
A12: Thực hiện Thông báo số 1381 / TB-ĐHDT ngày 24/08/2026 của Giám Đốc Đại học Duy Tân , Khoa Tiếng Anh đã tiến hành họp xét và lập danh sách cụ thể như sau:
A15: Thông tin Sinh viên | F15: Kết quả học tập cả năm 2025-2026 | L15: Điểm TB năm học (Thang 10) | M15: Điểm TB năm học (Thang 4) | N15: Xếp loại học tập cả năm | O15: Xếp loại rèn luyện cả năm | P15: Ký tên
F16: Học Kỳ I | I16: Học Kỳ II
A17: STT | B17: Mã Sinh viên | C17: Họ & Tên | D17: Ngày Sinh | E17: Lớp | F17: Số TC đăng ký | G17: TB Thang 10 | H17: TB Thang 4 | I17: Số TC đăng ký | J17: TB Thang 10 | K17: TB Thang 4 | Q17: cuối khóa
A18: 1 | B18: 29206245929 | C18: Nguyễn Thị Ánh Duyên | D18: 38449 | E18: K29 CLC - NAQ | F18: 17 | G18: 7.84 | H18: 3.33 | I18: 16 | J18: 8.02 | K18: 3.43 | L18: =ROUND((G18*F18+J18*I18)/(I18+F18),2) -> 7.93 | M18: =ROUND((H18*F18+K18*I18)/(I18+F18),2) -> 3.38 | N18: =IF(M18>=3.68, "Xuất sắc", "Giỏi") -> Giỏi | O18: =VLOOKUP(B18,'K29-30-31'!B:G,6,0) -> Xuất Sắc | Y18: 14700000
A19: 2 | B19: 29206264826 | C19: Phan Thuỳ Linh | D19: 38233 | E19: K29 CLC - NAQ | F19: 16 | G19: 8.17 | H19: 3.5 | I19: 14 | J19: 8.39 | K19: 3.52 | L19: =ROUND((G19*F19+J19*I19)/(I19+F19),2) -> 8.27 | M19: =ROUND((H19*F19+K19*I19)/(I19+F19),2) -> 3.51 | N19: =IF(M19>=3.68, "Xuất sắc", "Giỏi") -> Giỏi | O19: =VLOOKUP(B19,'K29-30-31'!B:G,6,0) -> Xuất Sắc
A20: 3 | B20: 29206242548 | C20: Nguyễn Thị Thanh Xuân | D20: 38654 | E20: K29 CLC - NAQ | F20: 16 | G20: 8.08 | H20: 3.41 | I20: 14 | J20: 8.04 | K20: 3.35 | L20: =ROUND((G20*F20+J20*I20)/(I20+F20),2) -> 8.06 | M20: =ROUND((H20*F20+K20*I20)/(I20+F20),2) -> 3.38 | N20: =IF(M20>=3.68, "Xuất sắc", "Giỏi") -> Giỏi | O20: =VLOOKUP(B20,'K29-30-31'!B:G,6,0) -> Xuất Sắc
A21: 4 | B21: 29206558574 | C21: Nguyễn Hoàng Phương Anh | D21: 38365 | E21: K29NAB | F21: 18 | G21: 7.92 | H21: 3.42 | I21: 18 | J21: 8.07 | K21: 3.5 | L21: =ROUND((G21*F21+J21*I21)/(I21+F21),2) -> 8 | M21: =ROUND((H21*F21+K21*I21)/(I21+F21),2) -> 3.46 | N21: =IF(M21>=3.68, "Xuất sắc", "Giỏi") -> Giỏi | O21: =VLOOKUP(B21,'K29-30-31'!B:G,6,0) -> Xuất Sắc
A22: 5 | B22: 29206254918 | C22: Trần Thị Minh Anh | D22: 38509 | E22: K29NAB | F22: 18 | G22: 9.22 | H22: 3.92 | I22: 16 | J22: 8.73 | K22: 3.71 | L22: =ROUND((G22*F22+J22*I22)/(I22+F22),2) -> 8.99 | M22: =ROUND((H22*F22+K22*I22)/(I22+F22),2) -> 3.82 | N22: =IF(M22>=3.68, "Xuất sắc", "Giỏi") -> Xuất sắc | O22: =VLOOKUP(B22,'K29-30-31'!B:G,6,0) -> Xuất Sắc
A23: 6 | B23: 29206262181 | C23: Trần Khánh Châu | D23: 38628 | E23: K29NAB | F23: 17 | G23: 8.14 | H23: 3.58 | I23: 18 | J23: 8.21 | K23: 3.49 | L23: =ROUND((G23*F23+J23*I23)/(I23+F23),2) -> 8.18 | M23: =ROUND((H23*F23+K23*I23)/(I23+F23),2) -> 3.53 | N23: =IF(M23>=3.68, "Xuất sắc", "Giỏi") -> Giỏi | O23: =VLOOKUP(B23,'K29-30-31'!B:G,6,0) -> Xuất Sắc
A24: 7 | B24: 29216251139 | C24: Nguyễn Thành Đạt | D24: 37088 | E24: K29NAB | F24: 19 | G24: 8.82 | H24: 3.82 | I24: 18 | J24: 8.68 | K24: 3.68 | L24: =ROUND((G24*F24+J24*I24)/(I24+F24),2) -> 8.75 | M24: =ROUND((H24*F24+K24*I24)/(I24+F24),2) -> 3.75 | N24: =IF(M24>=3.68, "Xuất sắc", "Giỏi") -> Xuất sắc | O24: =VLOOKUP(B24,'K29-30-31'!B:G,6,0) -> Xuất Sắc
A25: 8 | B25: 29216200036 | C25: Võ Thành Đạt | D25: 38704 | E25: K29NAB | F25: 15 | G25: 7.72 | H25: 3.19 | I25: 18 | J25: 7.84 | K25: 3.46 | L25: =ROUND((G25*F25+J25*I25)/(I25+F25),2) -> 7.79 | M25: =ROUND((H25*F25+K25*I25)/(I25+F25),2) -> 3.34 | N25: =IF(M25>=3.68, "Xuất sắc", "Giỏi") -> Giỏi | O25: =VLOOKUP(B25,'K29-30-31'!B:G,6,0) -> Xuất Sắc
A26: 9 | B26: 29216254754 | C26: Nguyễn Đức Duy | D26: 37398 | E26: K29NAB | F26: 19 | G26: 8.36 | H26: 3.68 | I26: 23 | J26: 8.72 | K26: 3.8 | L26: =ROUND((G26*F26+J26*I26)/(I26+F26),2) -> 8.56 | M26: =ROUND((H26*F26+K26*I26)/(I26+F26),2) -> 3.75 | N26: =IF(M26>=3.68, "Xuất sắc", "Giỏi") -> Xuất sắc | O26: =VLOOKUP(B26,'K29-30-31'!B:G,6,0) -> Xuất Sắc
A27: 10 | B27: 29206239722 | C27: Phạm Thị Mỹ Hạnh | D27: 37162 | E27: K29NAB | F27: 19 | G27: 9.23 | H27: 3.96 | I27: 18 | J27: 8.96 | K27: 3.83 | L27: =ROUND((G27*F27+J27*I27)/(I27+F27),2) -> 9.1 | M27: =ROUND((H27*F27+K27*I27)/(I27+F27),2) -> 3.9 | N27: =IF(M27>=3.68, "Xuất sắc", "Giỏi") -> Xuất sắc | O27: =VLOOKUP(B27,'K29-30-31'!B:G,6,0) -> Xuất Sắc
A28: 11 | B28: 29204543029 | C28: Nguyễn Thị Thu Huyền | D28: 38399 | E28: K29NAB | F28: 18 | G28: 8.8 | H28: 3.78 | I28: 19 | J28: 8.71 | K28: 3.77 | L28: =ROUND((G28*F28+J28*I28)/(I28+F28),2) -> 8.75 | M28: =ROUND((H28*F28+K28*I28)/(I28+F28),2) -> 3.77 | N28: =IF(M28>=3.68, "Xuất sắc", "Giỏi") -> Xuất sắc | O28: =VLOOKUP(B28,'K29-30-31'!B:G,6,0) -> Xuất Sắc
A29: 12 | B29: 29206240991 | C29: Nguyễn Thị Thanh Huyền | D29: 38584 | E29: K29NAB | F29: 19 | G29: 8.26 | H29: 3.68 | I29: 19 | J29: 7.77 | K29: 3.38 | L29: =ROUND((G29*F29+J29*I29)/(I29+F29),2) -> 8.02 | M29: =ROUND((H29*F29+K29*I29)/(I29+F29),2) -> 3.53 | N29: =IF(M29>=3.68, "Xuất sắc", "Giỏi") -> Giỏi | O29: =VLOOKUP(B29,'K29-30-31'!B:G,6,0) -> Xuất Sắc
A30: 13 | B30: 29204537414 | C30: Nguyễn Khánh Huyền | D30: 38363 | E30: K29NAB | F30: 18 | G30: 8.76 | H30: 3.85 | I30: 16 | J30: 8.37 | K30: 3.67 | L30: =ROUND((G30*F30+J30*I30)/(I30+F30),2) -> 8.58 | M30: =ROUND((H30*F30+K30*I30)/(I30+F30),2) -> 3.77 | N30: =IF(M30>=3.68, "Xuất sắc", "Giỏi") -> Xuất sắc | O30: =VLOOKUP(B30,'K29-30-31'!B:G,6,0) -> Xuất Sắc
... A261: 244 | B261: 31206264653 | C261: Nguyễn Ngọc Ý | D261: 39229 | E261: K31NAT | F261: 12 | G261: 8.35 | H261: 3.6 | I261: 17 | J261: 8.48 | K261: 3.72 | L261: =ROUND((G261*F261+J261*I261)/(I261+F261),2) -> 8.43 | M261: =ROUND((H261*F261+K261*I261)/(I261+F261),2) -> 3.67 | N261: =IF(M261>=3.68, "Xuất sắc", "Giỏi") -> Giỏi | O261: =VLOOKUP(B261,'K29-30-31'!B:G,6,0) -> Xuất Sắc
B263: Danh sách có 244 sinh viên.
L264: Đà Nẵng, ngày 08 tháng 09 năm 2026
B265: Xác nhận của Ban Đào tạo | G265: Lãnh đạo trường | L265: Người lập

Sheet DS SV TIÊU BIỂU
A2: ĐẠI HỌC DUY TÂN | D2: CỘNG HÒA XÃ HỘI CHỦ NGHĨA VIỆT NAM
A3: TRƯỜNG NGÔN NGỮ - XHNV | D3: Độc lập - Tự do - Hạnh phúc
A4: KHOA TIẾNG ANH
A6: DANH SÁCH ĐỀ NGHỊ KHEN THƯỞNG SINH VIÊN KHOA TIẾNG ANH
A7: NĂM HỌC 2025-2026
B9: Kính gửi: | C9: Ban Giám Đốc Đại học Duy Tân
C10: Ban Công Tác Sinh Viên
A12: Thực hiện Thông báo số 1381 / TB-ĐHDT ngày 24/08/2026 của Giám Đốc Đại học Duy Tân , Khoa Tiếng Anh đã tiến hành họp xét và lập danh sách cụ thể như sau:
A15: Thông tin Sinh viên | F15: Kết quả học tập cả năm 2025-2026 | L15: Điểm TB năm học (Thang 10) | M15: Điểm TB năm học (Thang 4) | N15: Xếp loại học tập cả năm | O15: Xếp loại rèn luyện cả năm | P15: Ghi chú
F16: Học Kỳ I | I16: Học Kỳ II
A17: STT | B17: Mã Sinh viên | C17: Họ & Tên | D17: Ngày Sinh | E17: Lớp | F17: Số TC | G17: TB Thang 10 | H17: TB Thang 4 | I17: Số TC | J17: TB Thang 10 | K17: TB Thang 4 | R17: slsv | S17: tc
A18: 1 | B18: 29206264826 | C18: Phan Thuỳ Linh | D18: 38233 | E18: K29 CLC - NAQ | F18: 16 | G18: 8.17 | H18: 3.5 | I18: 14 | J18: 8.39 | K18: 3.52 | L18: 8.27 | M18: 3.51 | N18: Giỏi | O18: Xuất Sắc | R18: 14 | S18: 1
A19: 2 | B19: 29206254918 | C19: Trần Thị Minh Anh | D19: 38509 | E19: K29NAB | F19: 18 | G19: 9.22 | H19: 3.92 | I19: 16 | J19: 8.73 | K19: 3.71 | L19: 8.99 | M19: 3.82 | N19: Xuất sắc | O19: Xuất Sắc | R19: 121 | S19: 2
A20: 3 | B20: 29206239722 | C20: Phạm Thị Mỹ Hạnh | D20: 37162 | E20: K29NAB | F20: 19 | G20: 9.23 | H20: 3.96 | I20: 18 | J20: 8.96 | K20: 3.83 | L20: 9.1 | M20: 3.9 | N20: Xuất sắc | O20: Xuất Sắc
A21: 4 | B21: 29203280330 | C21: Bùi Thị Thương | D21: 37654 | E21: K29NAD | F21: 16 | G21: 9.05 | H21: 3.87 | I21: 11 | J21: 8.65 | K21: 3.81 | L21: 8.89 | M21: 3.85 | N21: Xuất sắc | O21: Tốt | R21: 46 | S21: 1
A22: 5 | B22: 29204427605 | C22: Hà Diệu Linh | D22: 38437 | E22: K29NAT | F22: 16 | G22: 9.06 | H22: 3.91 | I22: 18 | J22: 8.28 | K22: 3.6 | L22: 8.65 | M22: 3.75 | N22: Xuất sắc | O22: Xuất Sắc | R22: 56 | S22: 1
A23: 6 | B23: 30206264178 | C23: Nguyễn Minh Châu | D23: 38893 | E23: K30NAB | F23: 18 | G23: 9.18 | H23: 3.96 | I23: 16 | J23: 9.08 | K23: 4 | L23: 9.13 | M23: 3.98 | N23: Xuất sắc | O23: Xuất Sắc | R23: 188 | S23: 2
A24: 7 | B24: 30206233828 | C24: Lưu Thị Diệu Hương | D24: 35180 | E24: K30NAB | F24: 18 | G24: 9.36 | H24: 4 | I24: 19 | J24: 9.31 | K24: 3.96 | L24: 9.33 | M24: 3.98 | N24: Xuất sắc | O24: Xuất Sắc
A25: 8 | B25: 30206250782 | C25: Trần Thị Hiếu Ly | D25: 38454 | E25: K30NAD | F25: 8 | G25: 9.25 | H25: 4 | I25: 10 | J25: 9.1 | K25: 4 | L25: =ROUND((G25*F25+J25*I25)/(I25+F25),2) -> 9.17 | M25: =ROUND((H25*F25+K25*I25)/(I25+F25),2) -> 4 | N25: =IF(M25>=3.68, "Xuất sắc", "Giỏi") -> Xuất sắc | O25: =VLOOKUP(B25,'K29-30-31'!B:G,6,0) -> Tốt | R25: 78 | S25: 1
A26: 9 | B26: 30206254319 | C26: Đậu Thị Hồng Hạnh | D26: 39033 | E26: K30NAT | F26: 18 | G26: 8.07 | H26: 3.59 | I26: 18 | J26: 8.02 | K26: 3.42 | L26: 8.05 | M26: 3.51 | N26: Giỏi | O26: Tốt | R26: 60 | S26: 1
A27: 10 | B27: 31206270878 | C27: Nguyễn Thị Ngọc Diệp | D27: 39393 | E27: K31NAB | F27: 12 | G27: 8.99 | H27: 4 | I27: 16 | J27: 9.4 | K27: 3.98 | L27: 9.22 | M27: 3.99 | N27: Xuất sắc | O27: Xuất Sắc | R27: 263 | S27: 3
A28: 11 | B28: 31206275973 | C28: Đặng Hà My | D28: 39139 | E28: K31NAB | F28: 12 | G28: 8.55 | H28: 3.78 | I28: 16 | J28: 9.25 | K28: 4 | L28: 8.95 | M28: 3.91 | N28: Xuất sắc | O28: Xuất Sắc
A29: 12 | B29: 31206270957 | C29: Huỳnh Thị Minh Thư | D29: 39414 | E29: K31NAB | F29: 12 | G29: 8.68 | H29: 3.78 | I29: 16 | J29: 9.38 | K29: 4 | L29: 9.08 | M29: 3.91 | N29: Xuất sắc | O29: Xuất Sắc
A30: 13 | B30: 31216246129 | C30: Trần Long Nhật | D30: 39260 | E30: K31NAD | F30: 12 | G30: 9.05 | H30: 3.89 | I30: 19 | J30: 9.14 | K30: 3.98 | L30: 9.11 | M30: 3.95 | N30: Xuất sắc | O30: Tốt | R30: 45 | S30: 1
A31: 14 | B31: 31206270735 | C31: Trần Duy Yến Nhi | D31: 39269 | E31: K31NAT | F31: 12 | G31: 8.61 | H31: 3.78 | I31: 17 | J31: 8.89 | K31: 3.86 | L31: 8.77 | M31: 3.83 | N31: Xuất sắc | O31: Xuất Sắc | R31: 82 | S31: 1
B33: Danh sách có 14 sinh viên.
L34: Đà Nẵng, ngày 08 tháng 09 năm 2026
B35: Xác nhận của Ban Đào tạo | G35: Lãnh đạo trường | L35: Người lập
L41: Trần Thị Đan Ngọc

Sheet K29-30-31
A1: TT(1) | B1: Mã Sinh Viên | C1: Họ và Tên | D1: Ngày Sinh | E1: Lớp | F1: Điểm Cả Năm | G1: Xếp Loại | H1: Ghi Chú
A2: 1 | B2: 29206540865 | C2: Nguyễn Mai Diễm | D2: 24/11/2005 | E2: K29HP-NAQ | F2: 90.0 | G2: Xuất Sắc
A3: 2 | B3: 29206245929 | C3: Nguyễn Thị Ánh Duyên | D3: 07/04/2005 | E3: K29HP-NAQ | F3: 90.0 | G3: Xuất Sắc
A4: 3 | B4: 29206244800 | C4: Hoàng Thi Châu Giang | D4: 28/06/2005 | E4: K29HP-NAQ | F4: 95.0 | G4: Xuất Sắc
A5: 4 | B5: 28206202311 | C5: Huỳnh Thị Thu Hiền | D5: 13/01/2004 | E5: K29HP-NAQ | F5: 87.5 | G5: Tốt
A6: 5 | B6: 29216264943 | C6: Lý Phước Minh Hoàng | D6: 14/05/2005 | E6: K29HP-NAQ | F6: 50.0 | G6: Trung Bình
A7: 6 | B7: 29206255106 | C7: Trần Lê Thu Hương | D7: 21/01/2005 | E7: K29HP-NAQ | F7: 100.0 | G7: Xuất Sắc
A8: 7 | B8: 29206264826 | C8: Phan Thuỳ Linh | D8: 03/09/2004 | E8: K29HP-NAQ | F8: 90.0 | G8: Xuất Sắc
A9: 8 | B9: 29206265300 | C9: Võ Hoàng Yến My | D9: 11/09/2005 | E9: K29HP-NAQ | F9: 88.0 | G9: Tốt
A10: 9 | B10: 29206229519 | C10: Trần Ngọc Yến Nhi | D10: 03/02/2005 | E10: K29HP-NAQ | F10: 42.0 | G10: Yếu
A11: 10 | B11: 29204550989 | C11: Lê Thị Bảo Trân | D11: 12/01/2005 | E11: K29HP-NAQ | F11: 85.5 | G11: Tốt
A12: 11 | B12: 29206237468 | C12: Trần Thị Anh Tú | D12: 25/04/2005 | E12: K29HP-NAQ | F12: 90.0 | G12: Xuất Sắc
A13: 12 | B13: 29206265092 | C13: Trương Khả Vi | D13: 07/02/2005 | E13: K29HP-NAQ | F13: 90.0 | G13: Xuất Sắc
... A65: 64 | B65: 29206259567 | C65: Phùng Thị Quỳnh Mai | D65: 26/11/2005 | E65: K29NAB2 | F65: 90.0 | G65: Xuất Sắc
A66: 65 | B66: 28216200223 | C66: Lê Hoàng Minh | D66: 03/01/2003 | F66: 35.0 | G66: Yếu
A67: 66 | B67: 29206257878 | C67: Hồ Thị Ánh Minh | D67: 06/08/2005 | E67: K29NAB3 | F67: 95.0 | G67: Xuất Sắc
A68: 67 | B68: 29216255683 | C68: Vũ Thái Quang Minh | D68: 11/08/2005 | E68: K29NAB1 | F68: 90.0 | G68: Xuất Sắc
A69: 68 | B69: 29206221348 | C69: H Phon Mlô | D69: 20/01/2004 | E69: K29NAB4 | F69: 94.0 | G69: Xuất Sắc
A70: 69 | B70: 29206221352 | C70: H Mal Mlô | D70: 26/04/2004 | E70: K29NAB4 | F70: 94.0 | G70: Xuất Sắc
A71: 70 | B71: 29206254332 | C71: Trần Thị Trà My | D71: 01/05/2005 | E71: K29NAB4 | F71: 100.0 | G71: Xuất Sắc
A72: 71 | B72: 29206257565 | C72: Nguyễn Thị Na | D72: 19/04/2005 | E72: K29NAB1 | F72: 92.5 | G72: Xuất Sắc
A73: 72 | B73: 29216255489 | C73: Hồ Hoài Nam | D73: 21/02/2005 | E73: K29NAB2 | F73: 90.0 | G73: Xuất Sắc
A74: 73 | B74: 29206240148 | C74: Nguyễn Thị Tố Nga | D74: 11/02/2005 | E74: K29NAB1 | F74: 90.0 | G74: Xuất Sắc
A75: 74 | B75: 29204637124 | C75: Võ Thị Ngân | D75: 01/11/2005 | E75: K29NAB4 | F75: 91.0 | G75: Xuất Sắc
A76: 75 | B76: 29206223040 | C76: Nguyễn Thị Ái Ngân | D76: 20/08/2005 | E76: K29NAB3 | F76: 80.0 | G76: Tốt
A77: 76 | B77: 28206420532 | C77: Nguyễn Thị Hồng Ngọc | D77: 22/12/2004 | E77: K29NAB4 | F77: 90.0 | G77: Xuất Sắc
A78: 77 | B78: 29216244388 | C78: Đồng Đăng Nguyên | D78: 07/09/2005 | E78: K29NAB1 | F78: 90.0 | G78: Xuất Sắc
... A123: 122 | B123: 29208156595 | C123: Nguyễn Lê Anh Trúc | D123: 22/11/2005 | E123: K29NAB3 | F123: 92.5 | G123: Xuất Sắc
A124: 123 | B124: 27203100479 | C124: Trần Cẩm Tú | D124: 14/12/2003 | F124: 40.0 | G124: Yếu
A125: 124 | B125: 29216261117 | C125: Lê Thanh Tú | D125: 26/10/2005 | E125: K29NAB2 | F125: 90.0 | G125: Xuất Sắc
A126: 125 | B126: 29216257598 | C126: Nguyễn Công Tuấn | D126: 07/10/2005 | E126: K29NAB1 | F126: 90.0 | G126: Xuất Sắc
A127: 126 | B127: 29216261099 | C127: Nguyễn Đình Anh Tuấn | D127: 24/06/2005 | E127: K29NAB1 | F127: 90.0 | G127: Xuất Sắc
A128: 127 | B128: 29206557575 | C128: Nguyễn Thị Nhật Tuyên | D128: 15/05/2005 | E128: K29NAB4 | F128: 91.0 | G128: Xuất Sắc
A129: 128 | B129: 29206235303 | C129: Nguyễn Lê Ánh Tuyết | D129: 27/04/2005 | E129: K29NAB2 | F129: 90.0 | G129: Xuất Sắc
A130: 129 | B130: 28204602256 | C130: Đoàn Thị Kim Uyên | D130: 01/11/2004 | E130: K29NAB2 | F130: 37.5 | G130: Yếu
A131: 130 | B131: 29204320511 | C131: Nguyễn Hoàng Tú Uyên | D131: 08/11/2005 | E131: K29NAB3 | F131: 90.0 | G131: Xuất Sắc
A132: 131 | B132: 29216258169 | C132: Ngô Hoàng Việt | D132: 20/03/2005 | E132: K29NAB2 | F132: 90.0 | G132: Xuất Sắc
A133: 132 | B133: 29206230753 | C133: Lê Thị Như Ý | D133: 03/05/2005 | E133: K29NAB3 | F133: 95.0 | G133: Xuất Sắc
A134: 133 | B134: 29204650878 | C134: Phạm Thị Hải Yến | D134: 22/06/2005 | E134: K29NAB3 | F134: 95.0 | G134: Xuất Sắc
A135: 134 | B135: 29206761077 | C135: Nguyễn Thị Hải Yến | D135: 28/11/2005 | E135: K29NAB1 | F135: 90.0 | G135: Xuất Sắc
...

Sheet Sheet1
A1: 376 | B1: 30206221367 | C1: Nguyễn Thị Kiều Trang Bích Huyền | D1: 37311 | E1: K30NAB | F1: 18 | G1: 8.39 | H1: 3.72 | I1: 19 | J1: 8.32 | K1: 3.54 | L1: 8.35 | M1: 3.63 | N1: Giỏi | O1: Yếu
A2: 749 | B2: 31206269373 | C2: Nguyễn Thị Mỹ Dung | D2: 39198 | E2: K31NAB | F2: 12 | G2: 8.69 | H2: 3.83 | I2: 0 | J2: 0 | K2: 0 | L2: 8.69 | M2: 3.83 | N2: Xuất sắc | O2: #N/A
A3: 786 | B3: 31216276846 | C3: Lưu Văn Hưng | D3: 38467 | E3: K31NAB | F3: 12 | G3: 8.98 | H3: 3.83 | I3: 16 | J3: 7.83 | K3: 3.24 | L3: 8.32 | M3: 3.49 | N3: Giỏi | O3: Yếu
A4: 905 | B4: 31206560785 | C4: Phan Linh Phương | D4: 39386 | E4: K31NAB | F4: 12 | G4: 7.84 | H4: 3.38 | I4: 16 | J4: 7.88 | K4: 3.37 | L4: 7.86 | M4: 3.37 | N4: Giỏi | O4: Yếu
A5: 906 | B5: 31216234258 | C5: Trần Chấn Quang | D5: 39354 | E5: K31NAB | F5: 12 | G5: 8.04 | H5: 3.47 | I5: 16 | J5: 8.29 | K5: 3.68 | L5: 8.18 | M5: 3.59 | N5: Giỏi | O5: Khá
A6: 914 | B6: 31206222753 | C6: Nguyễn Thuý Quỳnh | D6: 39198 | E6: K31NAB | F6: 12 | G6: 8.79 | H6: 3.88 | I6: 16 | J6: 9.08 | K6: 3.85 | L6: 8.96 | M6: 3.86 | N6: Xuất sắc | O6: Yếu
A7: 935 | B7: 31208159156 | C7: Phan Hà Cẩm Thu | D7: 39325 | E7: K31NAB | F7: 12 | G7: 8.62 | H7: 3.77 | I7: 19 | J7: 8.35 | K7: 3.73 | L7: 8.45 | M7: 3.75 | N7: Xuất sắc | O7: Khá
