Workbook
Name _DST1: #REF!
Name ADASD: #REF!
Name bb: '[1]Diem _98AV'!#REF!
Name bc: '[1]Diem _98AV'!#REF!
Name BD6HK58: '[2]97KT58'!$E$6:$DD$275
Name BD8HK: #REF!
Name bdiem: #REF!
Name CPT: #REF!
Name CSDL: [3]DSSV!$A$5:$L$504
Name DS96T: [4]DSSV!$A$6:$H$227
Name DSLOP: DSSV!$A$7:$T$996
Name du_dkien: #REF!
Name SRDFTSFSD: #REF!

Sheet DSSV
A1: BỘ GIÁO DỤC & ĐÀO TẠO | D1: BẢNG ĐIỂM TỔNG KẾT HỌC PHẦN | Q1: KHÓA: | R1: K31MPM1 | T1: =R1&" - HK" & R3 & " - "&G3& " - "&G2 -> K31MPM1 - HK1 - BIO 622 - Gen Dược Học
A2: TRƯỜNG ĐHDL DUY TÂN | F2: TÊN MÔN: | G2: =VLOOKUP($G$3,CODEMON!$C$3:$D$65536,2,0) -> Gen Dược Học | Q2: Số TC : | R2: =VLOOKUP($G$3,CODEMON!$C$3:$E$65536,3,0) -> 2
A3: 901B | E3: 254 Nguyễn Văn Linh | F3: MÃ MÔN: | G3: BIO 622 | Q3: HỌC KỲ: | R3: 1 | T3: K31MPM1
A4: Thời gian: 19h30 ngày 10/7/2026 | Q4: LẦN THI: | R4: 1
A5: STT | B5: MÃ SINH VIÊN | C5: HỌ VÀ | D5: TÊN | E5: GIỚI TÍNH | F5: NGÀY SINH | G5: LỚP | H5: A | I5: P | J5: Q | K5: H | L5: L | M5: M | N5: I | O5: G | P5: F | Q5: ĐIỂM T. KẾT | R5: ĐIỂM CHỮ | S5: GHI CHÚ | Z5: 209 PHAN THANH | AC5: 313-314-413-414-307-308-407
H6: 0.2 | I6: 0 | J6: 0.2 | K6: 0 | L6: 0 | M6: 0 | N6: 0 | O6: 0 | P6: 0.6 | Q6: =SUM(H6:P6) -> 1 | Z6: 301 | AA6: 2 | AB6: =IF(AA6=1,Z6,Z6&"/1-"&Z6&"/2") -> 301/1-301/2 | AC6: =IF(ISERROR(SEARCH(Z6,AC5)),AC5,SUBSTITUTE(AC5,Z6,AB6)) -> 313-314-413-414-307-308-407
A7: 1 | B7: 31315270077 | C7: Đặng Công | D7: Luận | E7: Nam | F7: 27/01/2001 | G7: K31MPM1 | H7: 8 | J7: 8 | P7: 9 | Q7: =IF(OR(ISNUMBER(P7)=FALSE,$Q$6<>100%,P7<1),0,ROUND(SUMPRODUCT($H$6:$P$6,H7:P7),1)) -> 8.6 | R7: =VLOOKUP(Q7,$U:$V,2,0) -> Tám Phẩy Sáu | U7: 1 | V7: Một | W7: =VLOOKUP(B7,[5]K23MPN!$B$5:$J$14,9,0) -> #N/A | Z7: 401 | AA7: 2 | AB7: =IF(AA7=1,Z7,Z7&"/1-"&Z7&"/2") -> 401/1-401/2 | AC7: =IF(ISERROR(SEARCH(Z7,AC6)),AC6,SUBSTITUTE(AC6,Z7,AB7)) -> 313-314-413-414-307-308-407
A8: 2 | B8: 31305270078 | C8: Trần Vương Diễm | D8: My | E8: Nữ | F8: 28/08/1986 | G8: K31MPM1 | H8: 7.5 | J8: 7.5 | P8: 0 | Q8: =IF(OR(ISNUMBER(P8)=FALSE,$Q$6<>100%,P8<1),0,ROUND(SUMPRODUCT($H$6:$P$6,H8:P8),1)) -> 0 | R8: =VLOOKUP(Q8,$U:$V,2,0) -> Không | S8: Hoãn thi | U8: 2 | V8: Hai | W8: =VLOOKUP(B8,[5]K23MPN!$B$5:$J$14,9,0) -> #N/A | Z8: 501 | AA8: 2 | AB8: =IF(AA8=1,Z8,Z8&"/1-"&Z8&"/2") -> 501/1-501/2 | AC8: =IF(ISERROR(SEARCH(Z8,AC7)),AC7,SUBSTITUTE(AC7,Z8,AB8)) -> 313-314-413-414-307-308-407
A9: 3 | B9: 31305270079 | C9: Nguyễn Yến | D9: Nhi | E9: Nữ | F9: 18/06/1997 | G9: K31MPM1 | H9: 7 | J9: 7.5 | P9: 8 | Q9: =IF(OR(ISNUMBER(P9)=FALSE,$Q$6<>100%,P9<1),0,ROUND(SUMPRODUCT($H$6:$P$6,H9:P9),1)) -> 7.7 | R9: =VLOOKUP(Q9,$U:$V,2,0) -> Bảy Phẩy Bảy | U9: 3 | V9: Ba | W9: =VLOOKUP(B9,[5]K23MPN!$B$5:$J$14,9,0) -> #N/A | Z9: 503 | AA9: 1 | AB9: =IF(AA9=1,Z9,Z9&"/1-"&Z9&"/2") -> 503 | AC9: =IF(ISERROR(SEARCH(Z9,AC8)),AC8,SUBSTITUTE(AC8,Z9,AB9)) -> 313-314-413-414-307-308-407
A10: 4 | B10: 31305270080 | C10: Bùi Thị Phương | D10: Uyên | E10: Nữ | F10: 22/09/1998 | G10: K31MPM1 | H10: 7 | J10: 7 | P10: 9.5 | Q10: =IF(OR(ISNUMBER(P10)=FALSE,$Q$6<>100%,P10<1),0,ROUND(SUMPRODUCT($H$6:$P$6,H10:P10),1)) -> 8.5 | R10: =VLOOKUP(Q10,$U:$V,2,0) -> Tám Phẩy Năm | U10: 4 | V10: Bốn | W10: =VLOOKUP(B10,[5]K23MPN!$B$5:$J$14,9,0) -> #N/A | Z10: 701B | AA10: 1 | AB10: =IF(AA10=1,Z10,Z10&"/1-"&Z10&"/2") -> 701B | AC10: =IF(ISERROR(SEARCH(Z10,AC9)),AC9,SUBSTITUTE(AC9,Z10,AB10)) -> 313-314-413-414-307-308-407
A11: 5 | B11: 31315270081 | C11: Nguyễn Văn | D11: Quý | E11: Nam | F11: 15/09/1981 | G11: K31MPM1 | H11: 7.5 | J11: 7 | P11: 7 | Q11: =IF(OR(ISNUMBER(P11)=FALSE,$Q$6<>100%,P11<1),0,ROUND(SUMPRODUCT($H$6:$P$6,H11:P11),1)) -> 7.1 | R11: =VLOOKUP(Q11,$U:$V,2,0) -> Bảy Phẩy Một | U11: 5 | V11: Năm | W11: =VLOOKUP(B11,[5]K23MPN!$B$5:$J$14,9,0) -> #N/A | Z11: 702 | AA11: 1 | AB11: =IF(AA11=1,Z11,Z11&"/1-"&Z11&"/2") -> 702 | AC11: =IF(ISERROR(SEARCH(Z11,AC10)),AC10,SUBSTITUTE(AC10,Z11,AB11)) -> 313-314-413-414-307-308-407
A12: 6 | B12: 31305270082 | C12: Nguyễn Huỳnh Ái | D12: Thi | E12: Nữ | F12: 28/06/2002 | G12: K31MPM1 | H12: 8.5 | J12: 8 | P12: 8.5 | Q12: =IF(OR(ISNUMBER(P12)=FALSE,$Q$6<>100%,P12<1),0,ROUND(SUMPRODUCT($H$6:$P$6,H12:P12),1)) -> 8.4 | R12: =VLOOKUP(Q12,$U:$V,2,0) -> Tám Phẩy Bốn | U12: DC | V12: Đình chỉ | W12: =VLOOKUP(B12,[5]K23MPN!$B$5:$J$14,9,0) -> #N/A | Z12: 801A | AA12: 1 | AB12: =IF(AA12=1,Z12,Z12&"/1-"&Z12&"/2") -> 801A | AC12: =IF(ISERROR(SEARCH(Z12,#REF!)),#REF!,SUBSTITUTE(#REF!,Z12,AB12)) -> #REF!
A13: 7 | Q13: 0 | R13: Không | U13: V | V13: Vắng | W13: =VLOOKUP(B13,[5]K23MPN!$B$5:$J$14,9,0) -> #N/A | Z13: 801B | AA13: 1 | AB13: =IF(AA13=1,Z13,Z13&"/1-"&Z13&"/2") -> 801B | AC13: =IF(ISERROR(SEARCH(Z13,AC12)),AC12,SUBSTITUTE(AC12,Z13,AB13)) -> #REF!
A14: 8 | Q14: =IF(OR(ISNUMBER(P14)=FALSE,$Q$6<>100%,P14<1),0,ROUND(SUMPRODUCT($H$6:$P$6,H14:P14),1)) -> 0 | R14: =VLOOKUP(Q14,$U:$V,2,0) -> Không | U14: 0 | V14: Không | W14: =VLOOKUP(B14,[5]K23MPN!$B$5:$J$14,9,0) -> #N/A | Z14: 802 | AA14: 1 | AB14: =IF(AA14=1,Z14,Z14&"/1-"&Z14&"/2") -> 802 | AC14: =IF(ISERROR(SEARCH(Z14,AC13)),AC13,SUBSTITUTE(AC13,Z14,AB14)) -> #REF!
A15: 9 | Q15: =IF(OR(ISNUMBER(P15)=FALSE,$Q$6<>100%,P15<1),0,ROUND(SUMPRODUCT($H$6:$P$6,H15:P15),1)) -> 0 | R15: =VLOOKUP(Q15,$U:$V,2,0) -> Không | U15: L | V15: Nợ LP | W15: =VLOOKUP(B15,[5]K23MPN!$B$5:$J$14,9,0) -> #N/A | Z15: 803 | AA15: 1 | AB15: =IF(AA15=1,Z15,Z15&"/1-"&Z15&"/2") -> 803 | AC15: =IF(ISERROR(SEARCH(Z15,AC14)),AC14,SUBSTITUTE(AC14,Z15,AB15)) -> #REF!
A16: 10 | Q16: =IF(OR(ISNUMBER(P16)=FALSE,$Q$6<>100%,P16<1),0,ROUND(SUMPRODUCT($H$6:$P$6,H16:P16),1)) -> 0 | R16: =VLOOKUP(Q16,$U:$V,2,0) -> Không | U16: 8 | V16: Tám | W16: =VLOOKUP(B16,[5]K23MPN!$B$5:$J$14,9,0) -> #N/A | Z16: 901A | AA16: 1 | AB16: =IF(AA16=1,Z16,Z16&"/1-"&Z16&"/2") -> 901A | AC16: =IF(ISERROR(SEARCH(Z16,AC15)),AC15,SUBSTITUTE(AC15,Z16,AB16)) -> #REF!
A17: 11 | Q17: =IF(OR(ISNUMBER(P17)=FALSE,$Q$6<>100%,P17<1),0,ROUND(SUMPRODUCT($H$6:$P$6,H17:P17),1)) -> 0 | R17: =VLOOKUP(Q17,$U:$V,2,0) -> Không | U17: 6 | V17: Sáu | W17: =VLOOKUP(B17,[5]K23MPN!$B$5:$J$14,9,0) -> #N/A | Z17: 901B | AA17: 1 | AB17: =IF(AA17=1,Z17,Z17&"/1-"&Z17&"/2") -> 901B | AC17: =IF(ISERROR(SEARCH(Z17,AC16)),AC16,SUBSTITUTE(AC16,Z17,AB17)) -> #REF!
A18: 12 | Q18: =IF(OR(ISNUMBER(P18)=FALSE,$Q$6<>100%,P18<1),0,ROUND(SUMPRODUCT($H$6:$P$6,H18:P18),1)) -> 0 | R18: =VLOOKUP(Q18,$U:$V,2,0) -> Không | U18: 9 | V18: Chín | W18: =VLOOKUP(B18,[5]K23MPN!$B$5:$J$14,9,0) -> #N/A | Z18: 902 | AA18: 1 | AB18: =IF(AA18=1,Z18,Z18&"/1-"&Z18&"/2") -> 902 | AC18: =IF(ISERROR(SEARCH(Z18,AC17)),AC17,SUBSTITUTE(AC17,Z18,AB18)) -> #REF!
A19: 13 | Q19: =IF(OR(ISNUMBER(P19)=FALSE,$Q$6<>100%,P19<1),0,ROUND(SUMPRODUCT($H$6:$P$6,H19:P19),1)) -> 0 | R19: =VLOOKUP(Q19,$U:$V,2,0) -> Không | U19: P | V19: Nợ HP | W19: =VLOOKUP(B19,[5]K22MPM!$A$5:$H$14,8,0) -> #N/A | Z19: 903 | AA19: 1 | AB19: =IF(AA19=1,Z19,Z19&"/1-"&Z19&"/2") -> 903 | AC19: =IF(ISERROR(SEARCH(Z19,AC18)),AC18,SUBSTITUTE(AC18,Z19,AB19)) -> #REF!
A20: 14 | Q20: =IF(OR(ISNUMBER(P20)=FALSE,$Q$6<>100%,P20<1),0,ROUND(SUMPRODUCT($H$6:$P$6,H20:P20),1)) -> 0 | R20: =VLOOKUP(Q20,$U:$V,2,0) -> Không | U20: 1.1 | V20: Một Phẩy Một | W20: =VLOOKUP(B20,[5]K22MPM!$A$5:$H$14,8,0) -> #N/A | Z20: 1002 | AA20: 1 | AB20: =IF(AA20=1,Z20,Z20&"/1-"&Z20&"/2") -> 1002 | AC20: =IF(ISERROR(SEARCH(Z20,AC19)),AC19,SUBSTITUTE(AC19,Z20,AB20)) -> #REF!
A21: 15 | Q21: =IF(OR(ISNUMBER(P21)=FALSE,$Q$6<>100%,P21<1),0,ROUND(SUMPRODUCT($H$6:$P$6,H21:P21),1)) -> 0 | R21: =VLOOKUP(Q21,$U:$V,2,0) -> Không | U21: 1.2 | V21: Một Phẩy Hai | W21: =VLOOKUP(B21,[5]K22MPM!$A$5:$H$14,8,0) -> #N/A | Z21: 1003 | AA21: 1 | AB21: =IF(AA21=1,Z21,Z21&"/1-"&Z21&"/2") -> 1003 | AC21: =IF(ISERROR(SEARCH(Z21,AC20)),AC20,SUBSTITUTE(AC20,Z21,AB21)) -> #REF!
A22: 16 | Q22: =IF(OR(ISNUMBER(P22)=FALSE,$Q$6<>100%,P22<1),0,ROUND(SUMPRODUCT($H$6:$P$6,H22:P22),1)) -> 0 | R22: =VLOOKUP(Q22,$U:$V,2,0) -> Không | U22: 1.3 | V22: Một Phẩy Ba | W22: =VLOOKUP(B22,[5]K22MPM!$A$5:$H$14,8,0) -> #N/A | Z22: 1101 | AA22: 2 | AB22: =IF(AA22=1,Z22,Z22&"/1-"&Z22&"/2") -> 1101/1-1101/2 | AC22: =IF(ISERROR(SEARCH(Z22,AC21)),AC21,SUBSTITUTE(AC21,Z22,AB22)) -> #REF!
A23: 17 | Q23: =IF(OR(ISNUMBER(P23)=FALSE,$Q$6<>100%,P23<1),0,ROUND(SUMPRODUCT($H$6:$P$6,H23:P23),1)) -> 0 | R23: =VLOOKUP(Q23,$U:$V,2,0) -> Không | U23: 1.5 | V23: Một Phẩy Năm | W23: =VLOOKUP(B23,[5]K22MPM!$A$5:$H$14,8,0) -> #N/A | Z23: 1201 | AA23: 2 | AB23: =IF(AA23=1,Z23,Z23&"/1-"&Z23&"/2") -> 1201/1-1201/2 | AC23: =IF(ISERROR(SEARCH(Z23,#REF!)),#REF!,SUBSTITUTE(#REF!,Z23,AB23)) -> #REF!
A24: 18 | Q24: =IF(OR(ISNUMBER(P24)=FALSE,$Q$6<>100%,P24<1),0,ROUND(SUMPRODUCT($H$6:$P$6,H24:P24),1)) -> 0 | R24: =VLOOKUP(Q24,$U:$V,2,0) -> Không | U24: 1.6 | V24: Một Phẩy Sáu | W24: =VLOOKUP(B24,[5]K22MPM!$A$5:$H$14,8,0) -> #N/A | Z24: 207 | AA24: 1 | AB24: =IF(AA24=1,Z24,Z24&"/1-"&Z24&"/2") -> 207 | AC24: =IF(ISERROR(SEARCH(Z24,AC23)),AC23,SUBSTITUTE(AC23,Z24,AB24)) -> #REF!
A25: 19 | Q25: =IF(OR(ISNUMBER(P25)=FALSE,$Q$6<>100%,P25<1),0,ROUND(SUMPRODUCT($H$6:$P$6,H25:P25),1)) -> 0 | R25: =VLOOKUP(Q25,$U:$V,2,0) -> Không | U25: 1.7 | V25: Một Phẩy Bảy | W25: =VLOOKUP(B25,[5]K22MPM!$A$5:$H$14,8,0) -> #N/A | Z25: 208 | AA25: 4 | AB25: =IF(AA25=1,Z25,Z25&"/1-"&Z25&"/2") -> 208/1-208/2 | AC25: =IF(ISERROR(SEARCH(Z25,AC24)),AC24,SUBSTITUTE(AC24,Z25,AB25)) -> #REF!
A26: 20 | Q26: =IF(OR(ISNUMBER(P26)=FALSE,$Q$6<>100%,P26<1),0,ROUND(SUMPRODUCT($H$6:$P$6,H26:P26),1)) -> 0 | R26: =VLOOKUP(Q26,$U:$V,2,0) -> Không | U26: 1.9 | V26: Một Phẩy Chín | W26: =VLOOKUP(B26,[5]K22MPM!$A$5:$H$14,8,0) -> #N/A | Z26: 214 | AA26: 2 | AB26: =IF(AA26=1,Z26,Z26&"/1-"&Z26&"/2") -> 214/1-214/2 | AC26: =IF(ISERROR(SEARCH(Z26,#REF!)),#REF!,SUBSTITUTE(#REF!,Z26,AB26)) -> #REF!
A27: 21 | Q27: =IF(OR(ISNUMBER(P27)=FALSE,$Q$6<>100%,P27<1),0,ROUND(SUMPRODUCT($H$6:$P$6,H27:P27),1)) -> 0 | R27: =VLOOKUP(Q27,$U:$V,2,0) -> Không | U27: 2.1 | V27: Hai Phẩy Một | Z27: 306 | AA27: 1 | AB27: =IF(AA27=1,Z27,Z27&"/1-"&Z27&"/2") -> 306 | AC27: =IF(ISERROR(SEARCH(Z27,AC26)),AC26,SUBSTITUTE(AC26,Z27,AB27)) -> #REF!
A28: 22 | Q28: =IF(OR(ISNUMBER(P28)=FALSE,$Q$6<>100%,P28<1),0,ROUND(SUMPRODUCT($H$6:$P$6,H28:P28),1)) -> 0 | R28: =VLOOKUP(Q28,$U:$V,2,0) -> Không | U28: 2.2 | V28: Hai Phẩy Hai | Z28: 307 | AA28: 2 | AB28: =IF(AA28=1,Z28,Z28&"/1-"&Z28&"/2") -> 307/1-307/2 | AC28: =IF(ISERROR(SEARCH(Z28,AC27)),AC27,SUBSTITUTE(AC27,Z28,AB28)) -> #REF!
A29: 23 | Q29: =IF(OR(ISNUMBER(P29)=FALSE,$Q$6<>100%,P29<1),0,ROUND(SUMPRODUCT($H$6:$P$6,H29:P29),1)) -> 0 | R29: =VLOOKUP(Q29,$U:$V,2,0) -> Không | U29: 2.3 | V29: Hai Phẩy Ba | Z29: 308 | AA29: 2 | AB29: =IF(AA29=1,Z29,Z29&"/1-"&Z29&"/2") -> 308/1-308/2 | AC29: =IF(ISERROR(SEARCH(Z29,AC28)),AC28,SUBSTITUTE(AC28,Z29,AB29)) -> #REF!
A30: 24 | Q30: =IF(OR(ISNUMBER(P30)=FALSE,$Q$6<>100%,P30<1),0,ROUND(SUMPRODUCT($H$6:$P$6,H30:P30),1)) -> 0 | R30: =VLOOKUP(Q30,$U:$V,2,0) -> Không | U30: 2.4 | V30: Hai Phẩy Bốn | Z30: 313 | AA30: 2 | AB30: =IF(AA30=1,Z30,Z30&"/1-"&Z30&"/2") -> 313/1-313/2 | AC30: =IF(ISERROR(SEARCH(Z30,AC29)),AC29,SUBSTITUTE(AC29,Z30,AB30)) -> #REF!
A31: 25 | Q31: =IF(OR(ISNUMBER(P31)=FALSE,$Q$6<>100%,P31<1),0,ROUND(SUMPRODUCT($H$6:$P$6,H31:P31),1)) -> 0 | R31: =VLOOKUP(Q31,$U:$V,2,0) -> Không | U31: 2.5 | V31: Hai Phẩy Năm | Z31: 314 | AA31: 2 | AB31: =IF(AA31=1,Z31,Z31&"/1-"&Z31&"/2") -> 314/1-314/2 | AC31: =IF(ISERROR(SEARCH(Z31,AC30)),AC30,SUBSTITUTE(AC30,Z31,AB31)) -> #REF!
A32: 26 | Q32: =IF(OR(ISNUMBER(P32)=FALSE,$Q$6<>100%,P32<1),0,ROUND(SUMPRODUCT($H$6:$P$6,H32:P32),1)) -> 0 | R32: =VLOOKUP(Q32,$U:$V,2,0) -> Không | U32: 2.6 | V32: Hai Phẩy Sáu | Z32: 406 | AA32: 1 | AB32: =IF(AA32=1,Z32,Z32&"/1-"&Z32&"/2") -> 406 | AC32: =IF(ISERROR(SEARCH(Z32,AC31)),AC31,SUBSTITUTE(AC31,Z32,AB32)) -> #REF!
A33: 27 | Q33: =IF(OR(ISNUMBER(P33)=FALSE,$Q$6<>100%,P33<1),0,ROUND(SUMPRODUCT($H$6:$P$6,H33:P33),1)) -> 0 | R33: =VLOOKUP(Q33,$U:$V,2,0) -> Không | U33: 2.7 | V33: Hai Phẩy Bảy | Z33: 407 | AA33: 2 | AB33: =IF(AA33=1,Z33,Z33&"/1-"&Z33&"/2") -> 407/1-407/2 | AC33: =IF(ISERROR(SEARCH(Z33,AC32)),AC32,SUBSTITUTE(AC32,Z33,AB33)) -> #REF!
A34: 28 | Q34: =IF(OR(ISNUMBER(P34)=FALSE,$Q$6<>100%,P34<1),0,ROUND(SUMPRODUCT($H$6:$P$6,H34:P34),1)) -> 0 | R34: =VLOOKUP(Q34,$U:$V,2,0) -> Không | U34: 2.8 | V34: Hai Phẩy Tám | Z34: 408 | AA34: 2 | AB34: =IF(AA34=1,Z34,Z34&"/1-"&Z34&"/2") -> 408/1-408/2 | AC34: =IF(ISERROR(SEARCH(Z34,AC33)),AC33,SUBSTITUTE(AC33,Z34,AB34)) -> #REF!
A35: 29 | Q35: =IF(OR(ISNUMBER(P35)=FALSE,$Q$6<>100%,P35<1),0,ROUND(SUMPRODUCT($H$6:$P$6,H35:P35),1)) -> 0 | R35: =VLOOKUP(Q35,$U:$V,2,0) -> Không | U35: 2.9 | V35: Hai Phẩy Chín | Z35: 413 | AA35: 2 | AB35: =IF(AA35=1,Z35,Z35&"/1-"&Z35&"/2") -> 413/1-413/2 | AC35: =IF(ISERROR(SEARCH(Z35,AC34)),AC34,SUBSTITUTE(AC34,Z35,AB35)) -> #REF!
A36: 30 | Q36: =IF(OR(ISNUMBER(P36)=FALSE,$Q$6<>100%,P36<1),0,ROUND(SUMPRODUCT($H$6:$P$6,H36:P36),1)) -> 0 | R36: =VLOOKUP(Q36,$U:$V,2,0) -> Không | U36: 3.1 | V36: Ba Phẩy Một | Z36: 414 | AA36: 2 | AB36: =IF(AA36=1,Z36,Z36&"/1-"&Z36&"/2") -> 414/1-414/2 | AC36: =IF(ISERROR(SEARCH(Z36,AC35)),AC35,SUBSTITUTE(AC35,Z36,AB36)) -> #REF!
A37: 31 | Q37: =IF(OR(ISNUMBER(P37)=FALSE,$Q$6<>100%,P37<1),0,ROUND(SUMPRODUCT($H$6:$P$6,H37:P37),1)) -> 0 | R37: =VLOOKUP(Q37,$U:$V,2,0) -> Không | U37: 3.2 | V37: Ba Phẩy Hai | Z37: 506 | AA37: 1 | AB37: =IF(AA37=1,Z37,Z37&"/1-"&Z37&"/2") -> 506 | AC37: =IF(ISERROR(SEARCH(Z37,AC36)),AC36,SUBSTITUTE(AC36,Z37,AB37)) -> #REF!
A38: 32 | Q38: =IF(OR(ISNUMBER(P38)=FALSE,$Q$6<>100%,P38<1),0,ROUND(SUMPRODUCT($H$6:$P$6,H38:P38),1)) -> 0 | R38: =VLOOKUP(Q38,$U:$V,2,0) -> Không | S38: 1 | U38: 3.3 | V38: Ba Phẩy Ba | Z38: 507 | AA38: 2 | AB38: =IF(AA38=1,Z38,Z38&"/1-"&Z38&"/2") -> 507/1-507/2 | AC38: =IF(ISERROR(SEARCH(Z38,AC37)),AC37,SUBSTITUTE(AC37,Z38,AB38)) -> #REF!
A39: 33 | Q39: =IF(OR(ISNUMBER(P39)=FALSE,$Q$6<>100%,P39<1),0,ROUND(SUMPRODUCT($H$6:$P$6,H39:P39),1)) -> 0 | R39: =VLOOKUP(Q39,$U:$V,2,0) -> Không | S39: 2 | U39: 3.4 | V39: Ba Phẩy Bốn | Z39: 508 | AA39: 2 | AB39: =IF(AA39=1,Z39,Z39&"/1-"&Z39&"/2") -> 508/1-508/2 | AC39: =IF(ISERROR(SEARCH(Z39,AC38)),AC38,SUBSTITUTE(AC38,Z39,AB39)) -> #REF!
U40: 3.5 | V40: Ba Phẩy Năm | Z40: 513 | AA40: 2 | AB40: =IF(AA40=1,Z40,Z40&"/1-"&Z40&"/2") -> 513/1-513/2 | AC40: =IF(ISERROR(SEARCH(Z40,AC39)),AC39,SUBSTITUTE(AC39,Z40,AB40)) -> #REF!
U41: 3.7 | V41: Ba Phẩy Bảy
U42: 3.8 | V42: Ba Phẩy Tám
U43: 3.9 | V43: Ba Phẩy Chín | Z43: K7/25 QUANG TRUNG | AC43: 304-307-310-407-301
U44: 4.1 | V44: Bốn Phẩy Một | Z44: 301 | AA44: 1 | AB44: =IF(AA44=1,Z44,Z44&"/1-"&Z44&"/2") -> 301 | AC44: =IF(ISERROR(SEARCH(Z44,AC43)),AC43,SUBSTITUTE(AC43,Z44,AB44)) -> 304-307-310-407-301
U45: 4.2 | V45: Bốn Phẩy Hai | Z45: 302 | AA45: 2 | AB45: =IF(AA45=1,Z45,Z45&"/1-"&Z45&"/2") -> 302/1-302/2 | AC45: =IF(ISERROR(SEARCH(Z45,AC44)),AC44,SUBSTITUTE(AC44,Z45,AB45)) -> 304-307-310-407-301
U46: 4.3 | V46: Bốn Phẩy Ba | Z46: 303 | AA46: 1 | AB46: =IF(AA46=1,Z46,Z46&"/1-"&Z46&"/2") -> 303 | AC46: =IF(ISERROR(SEARCH(Z46,AC45)),AC45,SUBSTITUTE(AC45,Z46,AB46)) -> 304-307-310-407-301
U47: 4.4 | V47: Bốn Phẩy Bốn | Z47: 304 | AA47: 2 | AB47: =IF(AA47=1,Z47,Z47&"/1-"&Z47&"/2") -> 304/1-304/2 | AC47: =IF(ISERROR(SEARCH(Z47,AC46)),AC46,SUBSTITUTE(AC46,Z47,AB47)) -> 304/1-304/2-307-310-407-301
U48: 4.5 | V48: Bốn Phẩy Năm | Z48: 305 | AA48: 1 | AB48: =IF(AA48=1,Z48,Z48&"/1-"&Z48&"/2") -> 305 | AC48: =IF(ISERROR(SEARCH(Z48,AC47)),AC47,SUBSTITUTE(AC47,Z48,AB48)) -> 304/1-304/2-307-310-407-301
U49: 4.6 | V49: Bốn Phẩy Sáu | Z49: 307 | AA49: 2 | AB49: =IF(AA49=1,Z49,Z49&"/1-"&Z49&"/2") -> 307/1-307/2 | AC49: =IF(ISERROR(SEARCH(Z49,AC48)),AC48,SUBSTITUTE(AC48,Z49,AB49)) -> 304/1-304/2-307/1-307/2-310-407-301
U50: 4.7 | V50: Bốn Phẩy Bảy | Z50: 308 | AA50: 1 | AB50: =IF(AA50=1,Z50,Z50&"/1-"&Z50&"/2") -> 308 | AC50: =IF(ISERROR(SEARCH(Z50,AC49)),AC49,SUBSTITUTE(AC49,Z50,AB50)) -> 304/1-304/2-307/1-307/2-310-407-301
U51: 4.8 | V51: Bốn Phẩy Tám | Z51: 310 | AA51: 2 | AB51: =IF(AA51=1,Z51,Z51&"/1-"&Z51&"/2") -> 310/1-310/2 | AC51: =IF(ISERROR(SEARCH(Z51,AC50)),AC50,SUBSTITUTE(AC50,Z51,AB51)) -> 304/1-304/2-307/1-307/2-310/1-310/2-407-301
U52: 4.9 | V52: Bốn Phẩy Chín | Z52: 407 | AA52: 2 | AB52: =IF(AA52=1,Z52,Z52&"/1-"&Z52&"/2") -> 407/1-407/2 | AC52: =IF(ISERROR(SEARCH(Z52,AC51)),AC51,SUBSTITUTE(AC51,Z52,AB52)) -> 304/1-304/2-307/1-307/2-310/1-310/2-407/1-407/2-301
U53: 5.1 | V53: Năm Phẩy Một | Z53: 410 | AA53: 2 | AB53: =IF(AA53=1,Z53,Z53&"/1-"&Z53&"/2") -> 410/1-410/2 | AC53: =IF(ISERROR(SEARCH(Z53,AC52)),AC52,SUBSTITUTE(AC52,Z53,AB53)) -> 304/1-304/2-307/1-307/2-310/1-310/2-407/1-407/2-301
U54: 5.2 | V54: Năm Phẩy Hai | Z54: 510 | AA54: 4 | AB54: =IF(AA54=1,Z54,Z54&"/1-"&Z54&"/2") -> 510/1-510/2 | AC54: =IF(ISERROR(SEARCH(Z54,AC53)),AC53,SUBSTITUTE(AC53,Z54,AB54)) -> 304/1-304/2-307/1-307/2-310/1-310/2-407/1-407/2-301
U55: 5.3 | V55: Năm Phẩy Ba | Z55: 519 | AA55: 1 | AB55: =IF(AA55=1,Z55,Z55&"/1-"&Z55&"/2") -> 519 | AC55: =IF(ISERROR(SEARCH(Z55,AC54)),AC54,SUBSTITUTE(AC54,Z55,AB55)) -> 304/1-304/2-307/1-307/2-310/1-310/2-407/1-407/2-301
U56: 5.4 | V56: Năm Phẩy Bốn | Z56: 612 | AA56: 1 | AB56: =IF(AA56=1,Z56,Z56&"/1-"&Z56&"/2") -> 612 | AC56: =IF(ISERROR(SEARCH(Z56,AC55)),AC55,SUBSTITUTE(AC55,Z56,AB56)) -> 304/1-304/2-307/1-307/2-310/1-310/2-407/1-407/2-301
U57: 5.5 | V57: Năm Phẩy Năm | Z57: 710A | AA57: 1 | AB57: =IF(AA57=1,Z57,Z57&"/1-"&Z57&"/2") -> 710A | AC57: =IF(ISERROR(SEARCH(Z57,AC56)),AC56,SUBSTITUTE(AC56,Z57,AB57)) -> 304/1-304/2-307/1-307/2-310/1-310/2-407/1-407/2-301
U58: 5.6 | V58: Năm Phẩy Sáu | Z58: 710B | AA58: 1 | AB58: =IF(AA58=1,Z58,Z58&"/1-"&Z58&"/2") -> 710B | AC58: =IF(ISERROR(SEARCH(Z58,AC57)),AC57,SUBSTITUTE(AC57,Z58,AB58)) -> 304/1-304/2-307/1-307/2-310/1-310/2-407/1-407/2-301
U59: 5.7 | V59: Năm Phẩy Bảy | Z59: 713 | AA59: 6 | AB59: =IF(AA59=1,Z59,Z59&"/1-"&Z59&"/2") -> 713/1-713/2 | AC59: =IF(ISERROR(SEARCH(Z59,AC58)),AC58,SUBSTITUTE(AC58,Z59,AB59)) -> 304/1-304/2-307/1-307/2-310/1-310/2-407/1-407/2-301
U60: 5.8 | V60: Năm Phẩy Tám | Z60: 801 | AA60: 1 | AB60: =IF(AA60=1,Z60,Z60&"/1-"&Z60&"/2") -> 801 | AC60: =IF(ISERROR(SEARCH(Z60,AC59)),AC59,SUBSTITUTE(AC59,Z60,AB60)) -> 304/1-304/2-307/1-307/2-310/1-310/2-407/1-407/2-301
U61: 5.9 | V61: Năm Phẩy Chín | Z61: 802 | AA61: 1 | AB61: =IF(AA61=1,Z61,Z61&"/1-"&Z61&"/2") -> 802 | AC61: =IF(ISERROR(SEARCH(Z61,AC60)),AC60,SUBSTITUTE(AC60,Z61,AB61)) -> 304/1-304/2-307/1-307/2-310/1-310/2-407/1-407/2-301
U62: 6.1 | V62: Sáu Phẩy Một | Z62: 803 | AA62: 1 | AB62: =IF(AA62=1,Z62,Z62&"/1-"&Z62&"/2") -> 803 | AC62: =IF(ISERROR(SEARCH(Z62,AC61)),AC61,SUBSTITUTE(AC61,Z62,AB62)) -> 304/1-304/2-307/1-307/2-310/1-310/2-407/1-407/2-301
U63: 6.2 | V63: Sáu Phẩy Hai | Z63: 805 | AA63: 1 | AB63: =IF(AA63=1,Z63,Z63&"/1-"&Z63&"/2") -> 805 | AC63: =IF(ISERROR(SEARCH(Z63,AC62)),AC62,SUBSTITUTE(AC62,Z63,AB63)) -> 304/1-304/2-307/1-307/2-310/1-310/2-407/1-407/2-301
U64: 6.3 | V64: Sáu Phẩy Ba | Z64: 806 | AA64: 1 | AB64: =IF(AA64=1,Z64,Z64&"/1-"&Z64&"/2") -> 806 | AC64: =IF(ISERROR(SEARCH(Z64,AC63)),AC63,SUBSTITUTE(AC63,Z64,AB64)) -> 304/1-304/2-307/1-307/2-310/1-310/2-407/1-407/2-301
U65: 6.4 | V65: Sáu Phẩy Bốn | Z65: 807 | AA65: 1 | AB65: =IF(AA65=1,Z65,Z65&"/1-"&Z65&"/2") -> 807 | AC65: =IF(ISERROR(SEARCH(Z65,AC64)),AC64,SUBSTITUTE(AC64,Z65,AB65)) -> 304/1-304/2-307/1-307/2-310/1-310/2-407/1-407/2-301
U66: 6.5 | V66: Sáu Phẩy Năm
U67: 6.6 | V67: Sáu Phẩy Sáu
U68: 6.7 | V68: Sáu Phẩy Bảy
U69: 6.8 | V69: Sáu Phẩy Tám
U70: 6.9 | V70: Sáu Phẩy Chín
U71: 7.1 | V71: Bảy Phẩy Một
U72: 7.2 | V72: Bảy Phẩy Hai
U73: 7.3 | V73: Bảy Phẩy Ba
U74: 7.4 | V74: Bảy Phẩy Bốn
U75: 7.5 | V75: Bảy Phẩy Năm
U76: 7.6 | V76: BảyPhẩy Sáu
U77: 7.7 | V77: Bảy Phẩy Bảy
U78: 7.8 | V78: Bảy Phẩy Tám | Z78: Bổ sung lịch thi
U79: 7.9 | V79: Bảy Phẩy Chín
U80: 8.1 | V80: Tám Phẩy Một
U81: 8.2 | V81: Tám Phẩy Hai
U82: 8.3 | V82: Tám Phẩy Ba
U83: 8.4 | V83: Tám Phẩy Bốn
U84: 8.5 | V84: Tám Phẩy Năm
U85: 8.6 | V85: Tám Phẩy Sáu
U86: 8.7 | V86: Tám Phẩy Bảy
U87: 8.8 | V87: Tám Phẩy Tám
U88: 8.9 | V88: Tám Phẩy Chín
U89: 9.1 | V89: Chín Phẩy Một
U90: 9.2 | V90: Chín Phẩy Hai
... U98: 10 | V98: Mười

Sheet IN_DTK
B1: BỘ GIÁO DỤC & ĐÀO TẠO | F1: =DSSV!D1&" * LỚP: "&UPPER(DSSV!$T$3) -> BẢNG ĐIỂM TỔNG KẾT HỌC PHẦN * LỚP: K31MPM1
B2: ĐẠI HỌC DUY TÂN | F2: ="CHUYÊN NGÀNH: "&VLOOKUP(RIGHT(DSSV!R1,4),CODEMON!$K$3:$L$27,2,0) -> CHUYÊN NGÀNH: TỔ CHỨC QUẢN LÝ DƯỢC | S2: ="Số TC : "&DSSV!R2 -> Số TC : 2
B3: ="HỌC PHẦN: "&UPPER(DSSV!G2)&" * " & "MÃ HP: "&DSSV!G3 -> HỌC PHẦN: GEN DƯỢC HỌC * MÃ HP: BIO 622 | S3: ="Học kỳ : " & DSSV!R3 -> Học kỳ : 1
B4: =DSSV!A4 -> Thời gian: 19h30 ngày 10/7/2026 | S4: ="Lần thi : "&DSSV!R4 -> Lần thi : 1
B5: 1 | C5: 2 | D5: 3 | E5: 4 | F5: 6 | G5: 7 | H5: 8 | I5: 9 | J5: 10 | K5: 11 | L5: 12 | M5: 13 | N5: 14 | O5: 15 | P5: 16 | Q5: 17 | R5: 18 | S5: 19
B6: STT | C6: MÃ HỌC VIÊN | D6: HỌ VÀ TÊN | F6: NGÀY SINH | G6: LỚP | H6: ĐIỂM QTHT & KTHP | Q6: ĐIỂM T. KẾT | S6: GHI CHÚ
A7: STT | H7: A | I7: P | J7: Q | K7: H | L7: L | M7: M | N7: I | O7: G | P7: F
H8: =DSSV!H6 -> 0.2 | I8: =DSSV!I6 -> 0 | J8: =DSSV!J6 -> 0.2 | K8: =DSSV!K6 -> 0 | L8: =DSSV!L6 -> 0 | M8: =DSSV!M6 -> 0 | N8: =DSSV!N6 -> 0 | O8: =DSSV!O6 -> 0 | P8: =DSSV!P6 -> 0.6 | Q8: SỐ | R8: CHỮ
A9: 1 | B9: 1 | C9: =IF(ISNA(VLOOKUP($A9,DSLOP,IN_DTK!C$5,0))=FALSE,VLOOKUP($A9,DSLOP,IN_DTK!C$5,0),"") -> 31315270077 | D9: =IF(ISNA(VLOOKUP($A9,DSLOP,IN_DTK!D$5,0))=FALSE,VLOOKUP($A9,DSLOP,IN_DTK!D$5,0),"") -> Đặng Công | E9: =IF(ISNA(VLOOKUP($A9,DSLOP,IN_DTK!E$5,0))=FALSE,VLOOKUP($A9,DSLOP,IN_DTK!E$5,0),"") -> Luận | F9: =IF(ISNA(VLOOKUP($A9,DSLOP,IN_DTK!F$5,0))=FALSE,VLOOKUP($A9,DSLOP,IN_DTK!F$5,0),"") -> 27/01/2001 | G9: =IF(ISNA(VLOOKUP($A9,DSLOP,IN_DTK!G$5,0))=FALSE,VLOOKUP($A9,DSLOP,IN_DTK!G$5,0),"") -> K31MPM1 | H9: =IF(ISNA(VLOOKUP($A9,DSLOP,IN_DTK!H$5,0))=FALSE,IF(H$8<>0,VLOOKUP($A9,DSLOP,IN_DTK!H$5,0),""),"") -> 8 | I9: =IF(ISNA(VLOOKUP($A9,DSLOP,IN_DTK!I$5,0))=FALSE,IF(I$8<>0,VLOOKUP($A9,DSLOP,IN_DTK!I$5,0),""),"") | J9: =IF(ISNA(VLOOKUP($A9,DSLOP,IN_DTK!J$5,0))=FALSE,IF(J$8<>0,VLOOKUP($A9,DSLOP,IN_DTK!J$5,0),""),"") -> 8 | K9: =IF(ISNA(VLOOKUP($A9,DSLOP,IN_DTK!K$5,0))=FALSE,IF(K$8<>0,VLOOKUP($A9,DSLOP,IN_DTK!K$5,0),""),"") | L9: =IF(ISNA(VLOOKUP($A9,DSLOP,IN_DTK!L$5,0))=FALSE,IF(L$8<>0,VLOOKUP($A9,DSLOP,IN_DTK!L$5,0),""),"") | M9: =IF(ISNA(VLOOKUP($A9,DSLOP,IN_DTK!M$5,0))=FALSE,IF(M$8<>0,VLOOKUP($A9,DSLOP,IN_DTK!M$5,0),""),"") | N9: =IF(ISNA(VLOOKUP($A9,DSLOP,IN_DTK!N$5,0))=FALSE,IF(N$8<>0,VLOOKUP($A9,DSLOP,IN_DTK!N$5,0),""),"") | O9: =IF(ISNA(VLOOKUP($A9,DSLOP,IN_DTK!O$5,0))=FALSE,IF(O$8<>0,VLOOKUP($A9,DSLOP,IN_DTK!O$5,0),""),"") | ... R9: =IF(ISNA(VLOOKUP($A9,DSLOP,IN_DTK!R$5,0))=FALSE,IF(R$8<>0,VLOOKUP($A9,DSLOP,IN_DTK!R$5,0),""),"") -> Tám Phẩy Sáu | S9: =IF(ISNA(VLOOKUP($A9,DSLOP,IN_DTK!S$5,0))=FALSE,IF(A$9<>0,VLOOKUP($A9,DSLOP,IN_DTK!S$5,0),""),"") -> 0 | T9: TS. Nguyễn Thành Trung
A10: 2 | B10: 2 | C10: =IF(ISNA(VLOOKUP($A10,DSLOP,IN_DTK!C$5,0))=FALSE,VLOOKUP($A10,DSLOP,IN_DTK!C$5,0),"") -> 31305270078 | D10: =IF(ISNA(VLOOKUP($A10,DSLOP,IN_DTK!D$5,0))=FALSE,VLOOKUP($A10,DSLOP,IN_DTK!D$5,0),"") -> Trần Vương Diễm | E10: =IF(ISNA(VLOOKUP($A10,DSLOP,IN_DTK!E$5,0))=FALSE,VLOOKUP($A10,DSLOP,IN_DTK!E$5,0),"") -> My | F10: =IF(ISNA(VLOOKUP($A10,DSLOP,IN_DTK!F$5,0))=FALSE,VLOOKUP($A10,DSLOP,IN_DTK!F$5,0),"") -> 28/08/1986 | G10: =IF(ISNA(VLOOKUP($A10,DSLOP,IN_DTK!G$5,0))=FALSE,VLOOKUP($A10,DSLOP,IN_DTK!G$5,0),"") -> K31MPM1 | H10: =IF(ISNA(VLOOKUP($A10,DSLOP,IN_DTK!H$5,0))=FALSE,IF(H$8<>0,VLOOKUP($A10,DSLOP,IN_DTK!H$5,0),""),"") -> 7.5 | I10: =IF(ISNA(VLOOKUP($A10,DSLOP,IN_DTK!I$5,0))=FALSE,IF(I$8<>0,VLOOKUP($A10,DSLOP,IN_DTK!I$5,0),""),"") | J10: =IF(ISNA(VLOOKUP($A10,DSLOP,IN_DTK!J$5,0))=FALSE,IF(J$8<>0,VLOOKUP($A10,DSLOP,IN_DTK!J$5,0),""),"") -> 7.5 | K10: =IF(ISNA(VLOOKUP($A10,DSLOP,IN_DTK!K$5,0))=FALSE,IF(K$8<>0,VLOOKUP($A10,DSLOP,IN_DTK!K$5,0),""),"") | L10: =IF(ISNA(VLOOKUP($A10,DSLOP,IN_DTK!L$5,0))=FALSE,IF(L$8<>0,VLOOKUP($A10,DSLOP,IN_DTK!L$5,0),""),"") | M10: =IF(ISNA(VLOOKUP($A10,DSLOP,IN_DTK!M$5,0))=FALSE,IF(M$8<>0,VLOOKUP($A10,DSLOP,IN_DTK!M$5,0),""),"") | N10: =IF(ISNA(VLOOKUP($A10,DSLOP,IN_DTK!N$5,0))=FALSE,IF(N$8<>0,VLOOKUP($A10,DSLOP,IN_DTK!N$5,0),""),"") | O10: =IF(ISNA(VLOOKUP($A10,DSLOP,IN_DTK!O$5,0))=FALSE,IF(O$8<>0,VLOOKUP($A10,DSLOP,IN_DTK!O$5,0),""),"") | ... R10: =IF(ISNA(VLOOKUP($A10,DSLOP,IN_DTK!R$5,0))=FALSE,IF(R$8<>0,VLOOKUP($A10,DSLOP,IN_DTK!R$5,0),""),"") -> Không | S10: =IF(ISNA(VLOOKUP($A10,DSLOP,IN_DTK!S$5,0))=FALSE,IF(A$9<>0,VLOOKUP($A10,DSLOP,IN_DTK!S$5,0),""),"") -> Hoãn thi
A11: 3 | B11: 3 | C11: =IF(ISNA(VLOOKUP($A11,DSLOP,IN_DTK!C$5,0))=FALSE,VLOOKUP($A11,DSLOP,IN_DTK!C$5,0),"") -> 31305270079 | D11: =IF(ISNA(VLOOKUP($A11,DSLOP,IN_DTK!D$5,0))=FALSE,VLOOKUP($A11,DSLOP,IN_DTK!D$5,0),"") -> Nguyễn Yến | E11: =IF(ISNA(VLOOKUP($A11,DSLOP,IN_DTK!E$5,0))=FALSE,VLOOKUP($A11,DSLOP,IN_DTK!E$5,0),"") -> Nhi | F11: =IF(ISNA(VLOOKUP($A11,DSLOP,IN_DTK!F$5,0))=FALSE,VLOOKUP($A11,DSLOP,IN_DTK!F$5,0),"") -> 18/06/1997 | G11: =IF(ISNA(VLOOKUP($A11,DSLOP,IN_DTK!G$5,0))=FALSE,VLOOKUP($A11,DSLOP,IN_DTK!G$5,0),"") -> K31MPM1 | H11: =IF(ISNA(VLOOKUP($A11,DSLOP,IN_DTK!H$5,0))=FALSE,IF(H$8<>0,VLOOKUP($A11,DSLOP,IN_DTK!H$5,0),""),"") -> 7 | I11: =IF(ISNA(VLOOKUP($A11,DSLOP,IN_DTK!I$5,0))=FALSE,IF(I$8<>0,VLOOKUP($A11,DSLOP,IN_DTK!I$5,0),""),"") | J11: =IF(ISNA(VLOOKUP($A11,DSLOP,IN_DTK!J$5,0))=FALSE,IF(J$8<>0,VLOOKUP($A11,DSLOP,IN_DTK!J$5,0),""),"") -> 7.5 | K11: =IF(ISNA(VLOOKUP($A11,DSLOP,IN_DTK!K$5,0))=FALSE,IF(K$8<>0,VLOOKUP($A11,DSLOP,IN_DTK!K$5,0),""),"") | L11: =IF(ISNA(VLOOKUP($A11,DSLOP,IN_DTK!L$5,0))=FALSE,IF(L$8<>0,VLOOKUP($A11,DSLOP,IN_DTK!L$5,0),""),"") | M11: =IF(ISNA(VLOOKUP($A11,DSLOP,IN_DTK!M$5,0))=FALSE,IF(M$8<>0,VLOOKUP($A11,DSLOP,IN_DTK!M$5,0),""),"") | N11: =IF(ISNA(VLOOKUP($A11,DSLOP,IN_DTK!N$5,0))=FALSE,IF(N$8<>0,VLOOKUP($A11,DSLOP,IN_DTK!N$5,0),""),"") | O11: =IF(ISNA(VLOOKUP($A11,DSLOP,IN_DTK!O$5,0))=FALSE,IF(O$8<>0,VLOOKUP($A11,DSLOP,IN_DTK!O$5,0),""),"") | ... R11: =IF(ISNA(VLOOKUP($A11,DSLOP,IN_DTK!R$5,0))=FALSE,IF(R$8<>0,VLOOKUP($A11,DSLOP,IN_DTK!R$5,0),""),"") -> Bảy Phẩy Bảy | S11: =IF(ISNA(VLOOKUP($A11,DSLOP,IN_DTK!S$5,0))=FALSE,IF(A$9<>0,VLOOKUP($A11,DSLOP,IN_DTK!S$5,0),""),"") -> 0
A12: 4 | B12: 4 | C12: =IF(ISNA(VLOOKUP($A12,DSLOP,IN_DTK!C$5,0))=FALSE,VLOOKUP($A12,DSLOP,IN_DTK!C$5,0),"") -> 31305270080 | D12: =IF(ISNA(VLOOKUP($A12,DSLOP,IN_DTK!D$5,0))=FALSE,VLOOKUP($A12,DSLOP,IN_DTK!D$5,0),"") -> Bùi Thị Phương | E12: =IF(ISNA(VLOOKUP($A12,DSLOP,IN_DTK!E$5,0))=FALSE,VLOOKUP($A12,DSLOP,IN_DTK!E$5,0),"") -> Uyên | F12: =IF(ISNA(VLOOKUP($A12,DSLOP,IN_DTK!F$5,0))=FALSE,VLOOKUP($A12,DSLOP,IN_DTK!F$5,0),"") -> 22/09/1998 | G12: =IF(ISNA(VLOOKUP($A12,DSLOP,IN_DTK!G$5,0))=FALSE,VLOOKUP($A12,DSLOP,IN_DTK!G$5,0),"") -> K31MPM1 | H12: =IF(ISNA(VLOOKUP($A12,DSLOP,IN_DTK!H$5,0))=FALSE,IF(H$8<>0,VLOOKUP($A12,DSLOP,IN_DTK!H$5,0),""),"") -> 7 | I12: =IF(ISNA(VLOOKUP($A12,DSLOP,IN_DTK!I$5,0))=FALSE,IF(I$8<>0,VLOOKUP($A12,DSLOP,IN_DTK!I$5,0),""),"") | J12: =IF(ISNA(VLOOKUP($A12,DSLOP,IN_DTK!J$5,0))=FALSE,IF(J$8<>0,VLOOKUP($A12,DSLOP,IN_DTK!J$5,0),""),"") -> 7 | K12: =IF(ISNA(VLOOKUP($A12,DSLOP,IN_DTK!K$5,0))=FALSE,IF(K$8<>0,VLOOKUP($A12,DSLOP,IN_DTK!K$5,0),""),"") | L12: =IF(ISNA(VLOOKUP($A12,DSLOP,IN_DTK!L$5,0))=FALSE,IF(L$8<>0,VLOOKUP($A12,DSLOP,IN_DTK!L$5,0),""),"") | M12: =IF(ISNA(VLOOKUP($A12,DSLOP,IN_DTK!M$5,0))=FALSE,IF(M$8<>0,VLOOKUP($A12,DSLOP,IN_DTK!M$5,0),""),"") | N12: =IF(ISNA(VLOOKUP($A12,DSLOP,IN_DTK!N$5,0))=FALSE,IF(N$8<>0,VLOOKUP($A12,DSLOP,IN_DTK!N$5,0),""),"") | O12: =IF(ISNA(VLOOKUP($A12,DSLOP,IN_DTK!O$5,0))=FALSE,IF(O$8<>0,VLOOKUP($A12,DSLOP,IN_DTK!O$5,0),""),"") | ... R12: =IF(ISNA(VLOOKUP($A12,DSLOP,IN_DTK!R$5,0))=FALSE,IF(R$8<>0,VLOOKUP($A12,DSLOP,IN_DTK!R$5,0),""),"") -> Tám Phẩy Năm | S12: =IF(ISNA(VLOOKUP($A12,DSLOP,IN_DTK!S$5,0))=FALSE,IF(A$9<>0,VLOOKUP($A12,DSLOP,IN_DTK!S$5,0),""),"") -> 0
A13: 5 | B13: 5 | C13: =IF(ISNA(VLOOKUP($A13,DSLOP,IN_DTK!C$5,0))=FALSE,VLOOKUP($A13,DSLOP,IN_DTK!C$5,0),"") -> 31315270081 | D13: =IF(ISNA(VLOOKUP($A13,DSLOP,IN_DTK!D$5,0))=FALSE,VLOOKUP($A13,DSLOP,IN_DTK!D$5,0),"") -> Nguyễn Văn | E13: =IF(ISNA(VLOOKUP($A13,DSLOP,IN_DTK!E$5,0))=FALSE,VLOOKUP($A13,DSLOP,IN_DTK!E$5,0),"") -> Quý | F13: =IF(ISNA(VLOOKUP($A13,DSLOP,IN_DTK!F$5,0))=FALSE,VLOOKUP($A13,DSLOP,IN_DTK!F$5,0),"") -> 15/09/1981 | G13: =IF(ISNA(VLOOKUP($A13,DSLOP,IN_DTK!G$5,0))=FALSE,VLOOKUP($A13,DSLOP,IN_DTK!G$5,0),"") -> K31MPM1 | H13: =IF(ISNA(VLOOKUP($A13,DSLOP,IN_DTK!H$5,0))=FALSE,IF(H$8<>0,VLOOKUP($A13,DSLOP,IN_DTK!H$5,0),""),"") -> 7.5 | I13: =IF(ISNA(VLOOKUP($A13,DSLOP,IN_DTK!I$5,0))=FALSE,IF(I$8<>0,VLOOKUP($A13,DSLOP,IN_DTK!I$5,0),""),"") | J13: =IF(ISNA(VLOOKUP($A13,DSLOP,IN_DTK!J$5,0))=FALSE,IF(J$8<>0,VLOOKUP($A13,DSLOP,IN_DTK!J$5,0),""),"") -> 7 | K13: =IF(ISNA(VLOOKUP($A13,DSLOP,IN_DTK!K$5,0))=FALSE,IF(K$8<>0,VLOOKUP($A13,DSLOP,IN_DTK!K$5,0),""),"") | L13: =IF(ISNA(VLOOKUP($A13,DSLOP,IN_DTK!L$5,0))=FALSE,IF(L$8<>0,VLOOKUP($A13,DSLOP,IN_DTK!L$5,0),""),"") | M13: =IF(ISNA(VLOOKUP($A13,DSLOP,IN_DTK!M$5,0))=FALSE,IF(M$8<>0,VLOOKUP($A13,DSLOP,IN_DTK!M$5,0),""),"") | N13: =IF(ISNA(VLOOKUP($A13,DSLOP,IN_DTK!N$5,0))=FALSE,IF(N$8<>0,VLOOKUP($A13,DSLOP,IN_DTK!N$5,0),""),"") | O13: =IF(ISNA(VLOOKUP($A13,DSLOP,IN_DTK!O$5,0))=FALSE,IF(O$8<>0,VLOOKUP($A13,DSLOP,IN_DTK!O$5,0),""),"") | ... R13: =IF(ISNA(VLOOKUP($A13,DSLOP,IN_DTK!R$5,0))=FALSE,IF(R$8<>0,VLOOKUP($A13,DSLOP,IN_DTK!R$5,0),""),"") -> Bảy Phẩy Một | S13: =IF(ISNA(VLOOKUP($A13,DSLOP,IN_DTK!S$5,0))=FALSE,IF(A$9<>0,VLOOKUP($A13,DSLOP,IN_DTK!S$5,0),""),"") -> 0
A14: 6 | B14: 6 | C14: =IF(ISNA(VLOOKUP($A14,DSLOP,IN_DTK!C$5,0))=FALSE,VLOOKUP($A14,DSLOP,IN_DTK!C$5,0),"") -> 31305270082 | D14: =IF(ISNA(VLOOKUP($A14,DSLOP,IN_DTK!D$5,0))=FALSE,VLOOKUP($A14,DSLOP,IN_DTK!D$5,0),"") -> Nguyễn Huỳnh Ái | E14: =IF(ISNA(VLOOKUP($A14,DSLOP,IN_DTK!E$5,0))=FALSE,VLOOKUP($A14,DSLOP,IN_DTK!E$5,0),"") -> Thi | F14: =IF(ISNA(VLOOKUP($A14,DSLOP,IN_DTK!F$5,0))=FALSE,VLOOKUP($A14,DSLOP,IN_DTK!F$5,0),"") -> 28/06/2002 | G14: =IF(ISNA(VLOOKUP($A14,DSLOP,IN_DTK!G$5,0))=FALSE,VLOOKUP($A14,DSLOP,IN_DTK!G$5,0),"") -> K31MPM1 | H14: =IF(ISNA(VLOOKUP($A14,DSLOP,IN_DTK!H$5,0))=FALSE,IF(H$8<>0,VLOOKUP($A14,DSLOP,IN_DTK!H$5,0),""),"") -> 8.5 | I14: =IF(ISNA(VLOOKUP($A14,DSLOP,IN_DTK!I$5,0))=FALSE,IF(I$8<>0,VLOOKUP($A14,DSLOP,IN_DTK!I$5,0),""),"") | J14: =IF(ISNA(VLOOKUP($A14,DSLOP,IN_DTK!J$5,0))=FALSE,IF(J$8<>0,VLOOKUP($A14,DSLOP,IN_DTK!J$5,0),""),"") -> 8 | K14: =IF(ISNA(VLOOKUP($A14,DSLOP,IN_DTK!K$5,0))=FALSE,IF(K$8<>0,VLOOKUP($A14,DSLOP,IN_DTK!K$5,0),""),"") | L14: =IF(ISNA(VLOOKUP($A14,DSLOP,IN_DTK!L$5,0))=FALSE,IF(L$8<>0,VLOOKUP($A14,DSLOP,IN_DTK!L$5,0),""),"") | M14: =IF(ISNA(VLOOKUP($A14,DSLOP,IN_DTK!M$5,0))=FALSE,IF(M$8<>0,VLOOKUP($A14,DSLOP,IN_DTK!M$5,0),""),"") | N14: =IF(ISNA(VLOOKUP($A14,DSLOP,IN_DTK!N$5,0))=FALSE,IF(N$8<>0,VLOOKUP($A14,DSLOP,IN_DTK!N$5,0),""),"") | O14: =IF(ISNA(VLOOKUP($A14,DSLOP,IN_DTK!O$5,0))=FALSE,IF(O$8<>0,VLOOKUP($A14,DSLOP,IN_DTK!O$5,0),""),"") | ... R14: =IF(ISNA(VLOOKUP($A14,DSLOP,IN_DTK!R$5,0))=FALSE,IF(R$8<>0,VLOOKUP($A14,DSLOP,IN_DTK!R$5,0),""),"") -> Tám Phẩy Bốn | S14: =IF(ISNA(VLOOKUP($A14,DSLOP,IN_DTK!S$5,0))=FALSE,IF(A$9<>0,VLOOKUP($A14,DSLOP,IN_DTK!S$5,0),""),"") -> 0
A15: 7 | B15: 7 | C15: =IF(ISNA(VLOOKUP($A15,DSLOP,IN_DTK!C$5,0))=FALSE,VLOOKUP($A15,DSLOP,IN_DTK!C$5,0),"") -> 0 | D15: =IF(ISNA(VLOOKUP($A15,DSLOP,IN_DTK!D$5,0))=FALSE,VLOOKUP($A15,DSLOP,IN_DTK!D$5,0),"") -> 0 | E15: =IF(ISNA(VLOOKUP($A15,DSLOP,IN_DTK!E$5,0))=FALSE,VLOOKUP($A15,DSLOP,IN_DTK!E$5,0),"") -> 0 | F15: =IF(ISNA(VLOOKUP($A15,DSLOP,IN_DTK!F$5,0))=FALSE,VLOOKUP($A15,DSLOP,IN_DTK!F$5,0),"") -> 0 | G15: =IF(ISNA(VLOOKUP($A15,DSLOP,IN_DTK!G$5,0))=FALSE,VLOOKUP($A15,DSLOP,IN_DTK!G$5,0),"") -> 0 | H15: =IF(ISNA(VLOOKUP($A15,DSLOP,IN_DTK!H$5,0))=FALSE,IF(H$8<>0,VLOOKUP($A15,DSLOP,IN_DTK!H$5,0),""),"") -> 0 | I15: =IF(ISNA(VLOOKUP($A15,DSLOP,IN_DTK!I$5,0))=FALSE,IF(I$8<>0,VLOOKUP($A15,DSLOP,IN_DTK!I$5,0),""),"") | J15: =IF(ISNA(VLOOKUP($A15,DSLOP,IN_DTK!J$5,0))=FALSE,IF(J$8<>0,VLOOKUP($A15,DSLOP,IN_DTK!J$5,0),""),"") -> 0 | K15: =IF(ISNA(VLOOKUP($A15,DSLOP,IN_DTK!K$5,0))=FALSE,IF(K$8<>0,VLOOKUP($A15,DSLOP,IN_DTK!K$5,0),""),"") | L15: =IF(ISNA(VLOOKUP($A15,DSLOP,IN_DTK!L$5,0))=FALSE,IF(L$8<>0,VLOOKUP($A15,DSLOP,IN_DTK!L$5,0),""),"") | M15: =IF(ISNA(VLOOKUP($A15,DSLOP,IN_DTK!M$5,0))=FALSE,IF(M$8<>0,VLOOKUP($A15,DSLOP,IN_DTK!M$5,0),""),"") | N15: =IF(ISNA(VLOOKUP($A15,DSLOP,IN_DTK!N$5,0))=FALSE,IF(N$8<>0,VLOOKUP($A15,DSLOP,IN_DTK!N$5,0),""),"") | O15: =IF(ISNA(VLOOKUP($A15,DSLOP,IN_DTK!O$5,0))=FALSE,IF(O$8<>0,VLOOKUP($A15,DSLOP,IN_DTK!O$5,0),""),"") | ... R15: =IF(ISNA(VLOOKUP($A15,DSLOP,IN_DTK!R$5,0))=FALSE,IF(R$8<>0,VLOOKUP($A15,DSLOP,IN_DTK!R$5,0),""),"") -> Không | S15: =IF(ISNA(VLOOKUP($A15,DSLOP,IN_DTK!S$5,0))=FALSE,IF(A$9<>0,VLOOKUP($A15,DSLOP,IN_DTK!S$5,0),""),"") -> 0
A16: 8 | B16: 8 | C16: =IF(ISNA(VLOOKUP($A16,DSLOP,IN_DTK!C$5,0))=FALSE,VLOOKUP($A16,DSLOP,IN_DTK!C$5,0),"") -> 0 | D16: =IF(ISNA(VLOOKUP($A16,DSLOP,IN_DTK!D$5,0))=FALSE,VLOOKUP($A16,DSLOP,IN_DTK!D$5,0),"") -> 0 | E16: =IF(ISNA(VLOOKUP($A16,DSLOP,IN_DTK!E$5,0))=FALSE,VLOOKUP($A16,DSLOP,IN_DTK!E$5,0),"") -> 0 | F16: =IF(ISNA(VLOOKUP($A16,DSLOP,IN_DTK!F$5,0))=FALSE,VLOOKUP($A16,DSLOP,IN_DTK!F$5,0),"") -> 0 | G16: =IF(ISNA(VLOOKUP($A16,DSLOP,IN_DTK!G$5,0))=FALSE,VLOOKUP($A16,DSLOP,IN_DTK!G$5,0),"") -> 0 | H16: =IF(ISNA(VLOOKUP($A16,DSLOP,IN_DTK!H$5,0))=FALSE,IF(H$8<>0,VLOOKUP($A16,DSLOP,IN_DTK!H$5,0),""),"") -> 0 | I16: =IF(ISNA(VLOOKUP($A16,DSLOP,IN_DTK!I$5,0))=FALSE,IF(I$8<>0,VLOOKUP($A16,DSLOP,IN_DTK!I$5,0),""),"") | J16: =IF(ISNA(VLOOKUP($A16,DSLOP,IN_DTK!J$5,0))=FALSE,IF(J$8<>0,VLOOKUP($A16,DSLOP,IN_DTK!J$5,0),""),"") -> 0 | K16: =IF(ISNA(VLOOKUP($A16,DSLOP,IN_DTK!K$5,0))=FALSE,IF(K$8<>0,VLOOKUP($A16,DSLOP,IN_DTK!K$5,0),""),"") | L16: =IF(ISNA(VLOOKUP($A16,DSLOP,IN_DTK!L$5,0))=FALSE,IF(L$8<>0,VLOOKUP($A16,DSLOP,IN_DTK!L$5,0),""),"") | M16: =IF(ISNA(VLOOKUP($A16,DSLOP,IN_DTK!M$5,0))=FALSE,IF(M$8<>0,VLOOKUP($A16,DSLOP,IN_DTK!M$5,0),""),"") | N16: =IF(ISNA(VLOOKUP($A16,DSLOP,IN_DTK!N$5,0))=FALSE,IF(N$8<>0,VLOOKUP($A16,DSLOP,IN_DTK!N$5,0),""),"") | O16: =IF(ISNA(VLOOKUP($A16,DSLOP,IN_DTK!O$5,0))=FALSE,IF(O$8<>0,VLOOKUP($A16,DSLOP,IN_DTK!O$5,0),""),"") | ... R16: =IF(ISNA(VLOOKUP($A16,DSLOP,IN_DTK!R$5,0))=FALSE,IF(R$8<>0,VLOOKUP($A16,DSLOP,IN_DTK!R$5,0),""),"") -> Không | S16: =IF(ISNA(VLOOKUP($A16,DSLOP,IN_DTK!S$5,0))=FALSE,IF(A$9<>0,VLOOKUP($A16,DSLOP,IN_DTK!S$5,0),""),"") -> 0
A17: 9 | B17: 9 | C17: =IF(ISNA(VLOOKUP($A17,DSLOP,IN_DTK!C$5,0))=FALSE,VLOOKUP($A17,DSLOP,IN_DTK!C$5,0),"") -> 0 | D17: =IF(ISNA(VLOOKUP($A17,DSLOP,IN_DTK!D$5,0))=FALSE,VLOOKUP($A17,DSLOP,IN_DTK!D$5,0),"") -> 0 | E17: =IF(ISNA(VLOOKUP($A17,DSLOP,IN_DTK!E$5,0))=FALSE,VLOOKUP($A17,DSLOP,IN_DTK!E$5,0),"") -> 0 | F17: =IF(ISNA(VLOOKUP($A17,DSLOP,IN_DTK!F$5,0))=FALSE,VLOOKUP($A17,DSLOP,IN_DTK!F$5,0),"") -> 0 | G17: =IF(ISNA(VLOOKUP($A17,DSLOP,IN_DTK!G$5,0))=FALSE,VLOOKUP($A17,DSLOP,IN_DTK!G$5,0),"") -> 0 | H17: =IF(ISNA(VLOOKUP($A17,DSLOP,IN_DTK!H$5,0))=FALSE,IF(H$8<>0,VLOOKUP($A17,DSLOP,IN_DTK!H$5,0),""),"") -> 0 | I17: =IF(ISNA(VLOOKUP($A17,DSLOP,IN_DTK!I$5,0))=FALSE,IF(I$8<>0,VLOOKUP($A17,DSLOP,IN_DTK!I$5,0),""),"") | J17: =IF(ISNA(VLOOKUP($A17,DSLOP,IN_DTK!J$5,0))=FALSE,IF(J$8<>0,VLOOKUP($A17,DSLOP,IN_DTK!J$5,0),""),"") -> 0 | K17: =IF(ISNA(VLOOKUP($A17,DSLOP,IN_DTK!K$5,0))=FALSE,IF(K$8<>0,VLOOKUP($A17,DSLOP,IN_DTK!K$5,0),""),"") | L17: =IF(ISNA(VLOOKUP($A17,DSLOP,IN_DTK!L$5,0))=FALSE,IF(L$8<>0,VLOOKUP($A17,DSLOP,IN_DTK!L$5,0),""),"") | M17: =IF(ISNA(VLOOKUP($A17,DSLOP,IN_DTK!M$5,0))=FALSE,IF(M$8<>0,VLOOKUP($A17,DSLOP,IN_DTK!M$5,0),""),"") | N17: =IF(ISNA(VLOOKUP($A17,DSLOP,IN_DTK!N$5,0))=FALSE,IF(N$8<>0,VLOOKUP($A17,DSLOP,IN_DTK!N$5,0),""),"") | O17: =IF(ISNA(VLOOKUP($A17,DSLOP,IN_DTK!O$5,0))=FALSE,IF(O$8<>0,VLOOKUP($A17,DSLOP,IN_DTK!O$5,0),""),"") | ... R17: =IF(ISNA(VLOOKUP($A17,DSLOP,IN_DTK!R$5,0))=FALSE,IF(R$8<>0,VLOOKUP($A17,DSLOP,IN_DTK!R$5,0),""),"") -> Không | S17: =IF(ISNA(VLOOKUP($A17,DSLOP,IN_DTK!S$5,0))=FALSE,IF(A$9<>0,VLOOKUP($A17,DSLOP,IN_DTK!S$5,0),""),"") -> 0
A18: 10 | B18: 10 | C18: =IF(ISNA(VLOOKUP($A18,DSLOP,IN_DTK!C$5,0))=FALSE,VLOOKUP($A18,DSLOP,IN_DTK!C$5,0),"") -> 0 | D18: =IF(ISNA(VLOOKUP($A18,DSLOP,IN_DTK!D$5,0))=FALSE,VLOOKUP($A18,DSLOP,IN_DTK!D$5,0),"") -> 0 | E18: =IF(ISNA(VLOOKUP($A18,DSLOP,IN_DTK!E$5,0))=FALSE,VLOOKUP($A18,DSLOP,IN_DTK!E$5,0),"") -> 0 | F18: =IF(ISNA(VLOOKUP($A18,DSLOP,IN_DTK!F$5,0))=FALSE,VLOOKUP($A18,DSLOP,IN_DTK!F$5,0),"") -> 0 | G18: =IF(ISNA(VLOOKUP($A18,DSLOP,IN_DTK!G$5,0))=FALSE,VLOOKUP($A18,DSLOP,IN_DTK!G$5,0),"") -> 0 | H18: =IF(ISNA(VLOOKUP($A18,DSLOP,IN_DTK!H$5,0))=FALSE,IF(H$8<>0,VLOOKUP($A18,DSLOP,IN_DTK!H$5,0),""),"") -> 0 | I18: =IF(ISNA(VLOOKUP($A18,DSLOP,IN_DTK!I$5,0))=FALSE,IF(I$8<>0,VLOOKUP($A18,DSLOP,IN_DTK!I$5,0),""),"") | J18: =IF(ISNA(VLOOKUP($A18,DSLOP,IN_DTK!J$5,0))=FALSE,IF(J$8<>0,VLOOKUP($A18,DSLOP,IN_DTK!J$5,0),""),"") -> 0 | K18: =IF(ISNA(VLOOKUP($A18,DSLOP,IN_DTK!K$5,0))=FALSE,IF(K$8<>0,VLOOKUP($A18,DSLOP,IN_DTK!K$5,0),""),"") | L18: =IF(ISNA(VLOOKUP($A18,DSLOP,IN_DTK!L$5,0))=FALSE,IF(L$8<>0,VLOOKUP($A18,DSLOP,IN_DTK!L$5,0),""),"") | M18: =IF(ISNA(VLOOKUP($A18,DSLOP,IN_DTK!M$5,0))=FALSE,IF(M$8<>0,VLOOKUP($A18,DSLOP,IN_DTK!M$5,0),""),"") | N18: =IF(ISNA(VLOOKUP($A18,DSLOP,IN_DTK!N$5,0))=FALSE,IF(N$8<>0,VLOOKUP($A18,DSLOP,IN_DTK!N$5,0),""),"") | O18: =IF(ISNA(VLOOKUP($A18,DSLOP,IN_DTK!O$5,0))=FALSE,IF(O$8<>0,VLOOKUP($A18,DSLOP,IN_DTK!O$5,0),""),"") | ... R18: =IF(ISNA(VLOOKUP($A18,DSLOP,IN_DTK!R$5,0))=FALSE,IF(R$8<>0,VLOOKUP($A18,DSLOP,IN_DTK!R$5,0),""),"") -> Không
A19: 11 | B19: 11 | C19: =IF(ISNA(VLOOKUP($A19,DSLOP,IN_DTK!C$5,0))=FALSE,VLOOKUP($A19,DSLOP,IN_DTK!C$5,0),"") -> 0 | D19: =IF(ISNA(VLOOKUP($A19,DSLOP,IN_DTK!D$5,0))=FALSE,VLOOKUP($A19,DSLOP,IN_DTK!D$5,0),"") -> 0 | E19: =IF(ISNA(VLOOKUP($A19,DSLOP,IN_DTK!E$5,0))=FALSE,VLOOKUP($A19,DSLOP,IN_DTK!E$5,0),"") -> 0 | F19: =IF(ISNA(VLOOKUP($A19,DSLOP,IN_DTK!F$5,0))=FALSE,VLOOKUP($A19,DSLOP,IN_DTK!F$5,0),"") -> 0 | G19: =IF(ISNA(VLOOKUP($A19,DSLOP,IN_DTK!G$5,0))=FALSE,VLOOKUP($A19,DSLOP,IN_DTK!G$5,0),"") -> 0 | H19: =IF(ISNA(VLOOKUP($A19,DSLOP,IN_DTK!H$5,0))=FALSE,IF(H$8<>0,VLOOKUP($A19,DSLOP,IN_DTK!H$5,0),""),"") -> 0 | I19: =IF(ISNA(VLOOKUP($A19,DSLOP,IN_DTK!I$5,0))=FALSE,IF(I$8<>0,VLOOKUP($A19,DSLOP,IN_DTK!I$5,0),""),"") | J19: =IF(ISNA(VLOOKUP($A19,DSLOP,IN_DTK!J$5,0))=FALSE,IF(J$8<>0,VLOOKUP($A19,DSLOP,IN_DTK!J$5,0),""),"") -> 0 | K19: =IF(ISNA(VLOOKUP($A19,DSLOP,IN_DTK!K$5,0))=FALSE,IF(K$8<>0,VLOOKUP($A19,DSLOP,IN_DTK!K$5,0),""),"") | L19: =IF(ISNA(VLOOKUP($A19,DSLOP,IN_DTK!L$5,0))=FALSE,IF(L$8<>0,VLOOKUP($A19,DSLOP,IN_DTK!L$5,0),""),"") | M19: =IF(ISNA(VLOOKUP($A19,DSLOP,IN_DTK!M$5,0))=FALSE,IF(M$8<>0,VLOOKUP($A19,DSLOP,IN_DTK!M$5,0),""),"") | N19: =IF(ISNA(VLOOKUP($A19,DSLOP,IN_DTK!N$5,0))=FALSE,IF(N$8<>0,VLOOKUP($A19,DSLOP,IN_DTK!N$5,0),""),"") | O19: =IF(ISNA(VLOOKUP($A19,DSLOP,IN_DTK!O$5,0))=FALSE,IF(O$8<>0,VLOOKUP($A19,DSLOP,IN_DTK!O$5,0),""),"") | ... R19: =IF(ISNA(VLOOKUP($A19,DSLOP,IN_DTK!R$5,0))=FALSE,IF(R$8<>0,VLOOKUP($A19,DSLOP,IN_DTK!R$5,0),""),"") -> Không | S19: =IF(ISNA(VLOOKUP($A19,DSLOP,IN_DTK!S$5,0))=FALSE,IF(A$9<>0,VLOOKUP($A19,DSLOP,IN_DTK!S$5,0),""),"") -> 0
A20: 12 | B20: 12 | C20: =IF(ISNA(VLOOKUP($A20,DSLOP,IN_DTK!C$5,0))=FALSE,VLOOKUP($A20,DSLOP,IN_DTK!C$5,0),"") -> 0 | D20: =IF(ISNA(VLOOKUP($A20,DSLOP,IN_DTK!D$5,0))=FALSE,VLOOKUP($A20,DSLOP,IN_DTK!D$5,0),"") -> 0 | E20: =IF(ISNA(VLOOKUP($A20,DSLOP,IN_DTK!E$5,0))=FALSE,VLOOKUP($A20,DSLOP,IN_DTK!E$5,0),"") -> 0 | F20: =IF(ISNA(VLOOKUP($A20,DSLOP,IN_DTK!F$5,0))=FALSE,VLOOKUP($A20,DSLOP,IN_DTK!F$5,0),"") -> 0 | G20: =IF(ISNA(VLOOKUP($A20,DSLOP,IN_DTK!G$5,0))=FALSE,VLOOKUP($A20,DSLOP,IN_DTK!G$5,0),"") -> 0 | H20: =IF(ISNA(VLOOKUP($A20,DSLOP,IN_DTK!H$5,0))=FALSE,IF(H$8<>0,VLOOKUP($A20,DSLOP,IN_DTK!H$5,0),""),"") -> 0 | I20: =IF(ISNA(VLOOKUP($A20,DSLOP,IN_DTK!I$5,0))=FALSE,IF(I$8<>0,VLOOKUP($A20,DSLOP,IN_DTK!I$5,0),""),"") | J20: =IF(ISNA(VLOOKUP($A20,DSLOP,IN_DTK!J$5,0))=FALSE,IF(J$8<>0,VLOOKUP($A20,DSLOP,IN_DTK!J$5,0),""),"") -> 0 | K20: =IF(ISNA(VLOOKUP($A20,DSLOP,IN_DTK!K$5,0))=FALSE,IF(K$8<>0,VLOOKUP($A20,DSLOP,IN_DTK!K$5,0),""),"") | L20: =IF(ISNA(VLOOKUP($A20,DSLOP,IN_DTK!L$5,0))=FALSE,IF(L$8<>0,VLOOKUP($A20,DSLOP,IN_DTK!L$5,0),""),"") | M20: =IF(ISNA(VLOOKUP($A20,DSLOP,IN_DTK!M$5,0))=FALSE,IF(M$8<>0,VLOOKUP($A20,DSLOP,IN_DTK!M$5,0),""),"") | N20: =IF(ISNA(VLOOKUP($A20,DSLOP,IN_DTK!N$5,0))=FALSE,IF(N$8<>0,VLOOKUP($A20,DSLOP,IN_DTK!N$5,0),""),"") | O20: =IF(ISNA(VLOOKUP($A20,DSLOP,IN_DTK!O$5,0))=FALSE,IF(O$8<>0,VLOOKUP($A20,DSLOP,IN_DTK!O$5,0),""),"") | ... R20: =IF(ISNA(VLOOKUP($A20,DSLOP,IN_DTK!R$5,0))=FALSE,IF(R$8<>0,VLOOKUP($A20,DSLOP,IN_DTK!R$5,0),""),"") -> Không | S20: =IF(ISNA(VLOOKUP($A20,DSLOP,IN_DTK!S$5,0))=FALSE,IF(A$9<>0,VLOOKUP($A20,DSLOP,IN_DTK!S$5,0),""),"") -> 0
A21: 13 | B21: 13 | C21: =IF(ISNA(VLOOKUP($A21,DSLOP,IN_DTK!C$5,0))=FALSE,VLOOKUP($A21,DSLOP,IN_DTK!C$5,0),"") -> 0 | D21: =IF(ISNA(VLOOKUP($A21,DSLOP,IN_DTK!D$5,0))=FALSE,VLOOKUP($A21,DSLOP,IN_DTK!D$5,0),"") -> 0 | E21: =IF(ISNA(VLOOKUP($A21,DSLOP,IN_DTK!E$5,0))=FALSE,VLOOKUP($A21,DSLOP,IN_DTK!E$5,0),"") -> 0 | F21: =IF(ISNA(VLOOKUP($A21,DSLOP,IN_DTK!F$5,0))=FALSE,VLOOKUP($A21,DSLOP,IN_DTK!F$5,0),"") -> 0 | G21: =IF(ISNA(VLOOKUP($A21,DSLOP,IN_DTK!G$5,0))=FALSE,VLOOKUP($A21,DSLOP,IN_DTK!G$5,0),"") -> 0 | H21: =IF(ISNA(VLOOKUP($A21,DSLOP,IN_DTK!H$5,0))=FALSE,IF(H$8<>0,VLOOKUP($A21,DSLOP,IN_DTK!H$5,0),""),"") -> 0 | I21: =IF(ISNA(VLOOKUP($A21,DSLOP,IN_DTK!I$5,0))=FALSE,IF(I$8<>0,VLOOKUP($A21,DSLOP,IN_DTK!I$5,0),""),"") | J21: =IF(ISNA(VLOOKUP($A21,DSLOP,IN_DTK!J$5,0))=FALSE,IF(J$8<>0,VLOOKUP($A21,DSLOP,IN_DTK!J$5,0),""),"") -> 0 | K21: =IF(ISNA(VLOOKUP($A21,DSLOP,IN_DTK!K$5,0))=FALSE,IF(K$8<>0,VLOOKUP($A21,DSLOP,IN_DTK!K$5,0),""),"") | L21: =IF(ISNA(VLOOKUP($A21,DSLOP,IN_DTK!L$5,0))=FALSE,IF(L$8<>0,VLOOKUP($A21,DSLOP,IN_DTK!L$5,0),""),"") | M21: =IF(ISNA(VLOOKUP($A21,DSLOP,IN_DTK!M$5,0))=FALSE,IF(M$8<>0,VLOOKUP($A21,DSLOP,IN_DTK!M$5,0),""),"") | N21: =IF(ISNA(VLOOKUP($A21,DSLOP,IN_DTK!N$5,0))=FALSE,IF(N$8<>0,VLOOKUP($A21,DSLOP,IN_DTK!N$5,0),""),"") | O21: =IF(ISNA(VLOOKUP($A21,DSLOP,IN_DTK!O$5,0))=FALSE,IF(O$8<>0,VLOOKUP($A21,DSLOP,IN_DTK!O$5,0),""),"") | ... R21: =IF(ISNA(VLOOKUP($A21,DSLOP,IN_DTK!R$5,0))=FALSE,IF(R$8<>0,VLOOKUP($A21,DSLOP,IN_DTK!R$5,0),""),"") -> Không | S21: =IF(ISNA(VLOOKUP($A21,DSLOP,IN_DTK!S$5,0))=FALSE,IF(A$9<>0,VLOOKUP($A21,DSLOP,IN_DTK!S$5,0),""),"") -> 0
A22: 14 | B22: 14 | C22: =IF(ISNA(VLOOKUP($A22,DSLOP,IN_DTK!C$5,0))=FALSE,VLOOKUP($A22,DSLOP,IN_DTK!C$5,0),"") -> 0 | D22: =IF(ISNA(VLOOKUP($A22,DSLOP,IN_DTK!D$5,0))=FALSE,VLOOKUP($A22,DSLOP,IN_DTK!D$5,0),"") -> 0 | E22: =IF(ISNA(VLOOKUP($A22,DSLOP,IN_DTK!E$5,0))=FALSE,VLOOKUP($A22,DSLOP,IN_DTK!E$5,0),"") -> 0 | F22: =IF(ISNA(VLOOKUP($A22,DSLOP,IN_DTK!F$5,0))=FALSE,VLOOKUP($A22,DSLOP,IN_DTK!F$5,0),"") -> 0 | G22: =IF(ISNA(VLOOKUP($A22,DSLOP,IN_DTK!G$5,0))=FALSE,VLOOKUP($A22,DSLOP,IN_DTK!G$5,0),"") -> 0 | H22: =IF(ISNA(VLOOKUP($A22,DSLOP,IN_DTK!H$5,0))=FALSE,IF(H$8<>0,VLOOKUP($A22,DSLOP,IN_DTK!H$5,0),""),"") -> 0 | I22: =IF(ISNA(VLOOKUP($A22,DSLOP,IN_DTK!I$5,0))=FALSE,IF(I$8<>0,VLOOKUP($A22,DSLOP,IN_DTK!I$5,0),""),"") | J22: =IF(ISNA(VLOOKUP($A22,DSLOP,IN_DTK!J$5,0))=FALSE,IF(J$8<>0,VLOOKUP($A22,DSLOP,IN_DTK!J$5,0),""),"") -> 0 | K22: =IF(ISNA(VLOOKUP($A22,DSLOP,IN_DTK!K$5,0))=FALSE,IF(K$8<>0,VLOOKUP($A22,DSLOP,IN_DTK!K$5,0),""),"") | L22: =IF(ISNA(VLOOKUP($A22,DSLOP,IN_DTK!L$5,0))=FALSE,IF(L$8<>0,VLOOKUP($A22,DSLOP,IN_DTK!L$5,0),""),"") | M22: =IF(ISNA(VLOOKUP($A22,DSLOP,IN_DTK!M$5,0))=FALSE,IF(M$8<>0,VLOOKUP($A22,DSLOP,IN_DTK!M$5,0),""),"") | N22: =IF(ISNA(VLOOKUP($A22,DSLOP,IN_DTK!N$5,0))=FALSE,IF(N$8<>0,VLOOKUP($A22,DSLOP,IN_DTK!N$5,0),""),"") | O22: =IF(ISNA(VLOOKUP($A22,DSLOP,IN_DTK!O$5,0))=FALSE,IF(O$8<>0,VLOOKUP($A22,DSLOP,IN_DTK!O$5,0),""),"") | ... R22: =IF(ISNA(VLOOKUP($A22,DSLOP,IN_DTK!R$5,0))=FALSE,IF(R$8<>0,VLOOKUP($A22,DSLOP,IN_DTK!R$5,0),""),"") -> Không | S22: =IF(ISNA(VLOOKUP($A22,DSLOP,IN_DTK!S$5,0))=FALSE,IF(A$9<>0,VLOOKUP($A22,DSLOP,IN_DTK!S$5,0),""),"") -> 0
A23: 15 | B23: 15 | C23: =IF(ISNA(VLOOKUP($A23,DSLOP,IN_DTK!C$5,0))=FALSE,VLOOKUP($A23,DSLOP,IN_DTK!C$5,0),"") -> 0 | D23: =IF(ISNA(VLOOKUP($A23,DSLOP,IN_DTK!D$5,0))=FALSE,VLOOKUP($A23,DSLOP,IN_DTK!D$5,0),"") -> 0 | E23: =IF(ISNA(VLOOKUP($A23,DSLOP,IN_DTK!E$5,0))=FALSE,VLOOKUP($A23,DSLOP,IN_DTK!E$5,0),"") -> 0 | F23: =IF(ISNA(VLOOKUP($A23,DSLOP,IN_DTK!F$5,0))=FALSE,VLOOKUP($A23,DSLOP,IN_DTK!F$5,0),"") -> 0 | G23: =IF(ISNA(VLOOKUP($A23,DSLOP,IN_DTK!G$5,0))=FALSE,VLOOKUP($A23,DSLOP,IN_DTK!G$5,0),"") -> 0 | H23: =IF(ISNA(VLOOKUP($A23,DSLOP,IN_DTK!H$5,0))=FALSE,IF(H$8<>0,VLOOKUP($A23,DSLOP,IN_DTK!H$5,0),""),"") -> 0 | I23: =IF(ISNA(VLOOKUP($A23,DSLOP,IN_DTK!I$5,0))=FALSE,IF(I$8<>0,VLOOKUP($A23,DSLOP,IN_DTK!I$5,0),""),"") | J23: =IF(ISNA(VLOOKUP($A23,DSLOP,IN_DTK!J$5,0))=FALSE,IF(J$8<>0,VLOOKUP($A23,DSLOP,IN_DTK!J$5,0),""),"") -> 0 | K23: =IF(ISNA(VLOOKUP($A23,DSLOP,IN_DTK!K$5,0))=FALSE,IF(K$8<>0,VLOOKUP($A23,DSLOP,IN_DTK!K$5,0),""),"") | L23: =IF(ISNA(VLOOKUP($A23,DSLOP,IN_DTK!L$5,0))=FALSE,IF(L$8<>0,VLOOKUP($A23,DSLOP,IN_DTK!L$5,0),""),"") | M23: =IF(ISNA(VLOOKUP($A23,DSLOP,IN_DTK!M$5,0))=FALSE,IF(M$8<>0,VLOOKUP($A23,DSLOP,IN_DTK!M$5,0),""),"") | N23: =IF(ISNA(VLOOKUP($A23,DSLOP,IN_DTK!N$5,0))=FALSE,IF(N$8<>0,VLOOKUP($A23,DSLOP,IN_DTK!N$5,0),""),"") | O23: =IF(ISNA(VLOOKUP($A23,DSLOP,IN_DTK!O$5,0))=FALSE,IF(O$8<>0,VLOOKUP($A23,DSLOP,IN_DTK!O$5,0),""),"") | ... R23: =IF(ISNA(VLOOKUP($A23,DSLOP,IN_DTK!R$5,0))=FALSE,IF(R$8<>0,VLOOKUP($A23,DSLOP,IN_DTK!R$5,0),""),"") -> Không | S23: =IF(ISNA(VLOOKUP($A23,DSLOP,IN_DTK!S$5,0))=FALSE,IF(A$9<>0,VLOOKUP($A23,DSLOP,IN_DTK!S$5,0),""),"") -> 0
A24: 16 | B24: 16 | C24: =IF(ISNA(VLOOKUP($A24,DSLOP,IN_DTK!C$5,0))=FALSE,VLOOKUP($A24,DSLOP,IN_DTK!C$5,0),"") -> 0 | D24: =IF(ISNA(VLOOKUP($A24,DSLOP,IN_DTK!D$5,0))=FALSE,VLOOKUP($A24,DSLOP,IN_DTK!D$5,0),"") -> 0 | E24: =IF(ISNA(VLOOKUP($A24,DSLOP,IN_DTK!E$5,0))=FALSE,VLOOKUP($A24,DSLOP,IN_DTK!E$5,0),"") -> 0 | F24: =IF(ISNA(VLOOKUP($A24,DSLOP,IN_DTK!F$5,0))=FALSE,VLOOKUP($A24,DSLOP,IN_DTK!F$5,0),"") -> 0 | G24: =IF(ISNA(VLOOKUP($A24,DSLOP,IN_DTK!G$5,0))=FALSE,VLOOKUP($A24,DSLOP,IN_DTK!G$5,0),"") -> 0 | H24: =IF(ISNA(VLOOKUP($A24,DSLOP,IN_DTK!H$5,0))=FALSE,IF(H$8<>0,VLOOKUP($A24,DSLOP,IN_DTK!H$5,0),""),"") -> 0 | I24: =IF(ISNA(VLOOKUP($A24,DSLOP,IN_DTK!I$5,0))=FALSE,IF(I$8<>0,VLOOKUP($A24,DSLOP,IN_DTK!I$5,0),""),"") | J24: =IF(ISNA(VLOOKUP($A24,DSLOP,IN_DTK!J$5,0))=FALSE,IF(J$8<>0,VLOOKUP($A24,DSLOP,IN_DTK!J$5,0),""),"") -> 0 | K24: =IF(ISNA(VLOOKUP($A24,DSLOP,IN_DTK!K$5,0))=FALSE,IF(K$8<>0,VLOOKUP($A24,DSLOP,IN_DTK!K$5,0),""),"") | L24: =IF(ISNA(VLOOKUP($A24,DSLOP,IN_DTK!L$5,0))=FALSE,IF(L$8<>0,VLOOKUP($A24,DSLOP,IN_DTK!L$5,0),""),"") | M24: =IF(ISNA(VLOOKUP($A24,DSLOP,IN_DTK!M$5,0))=FALSE,IF(M$8<>0,VLOOKUP($A24,DSLOP,IN_DTK!M$5,0),""),"") | N24: =IF(ISNA(VLOOKUP($A24,DSLOP,IN_DTK!N$5,0))=FALSE,IF(N$8<>0,VLOOKUP($A24,DSLOP,IN_DTK!N$5,0),""),"") | O24: =IF(ISNA(VLOOKUP($A24,DSLOP,IN_DTK!O$5,0))=FALSE,IF(O$8<>0,VLOOKUP($A24,DSLOP,IN_DTK!O$5,0),""),"") | ... R24: =IF(ISNA(VLOOKUP($A24,DSLOP,IN_DTK!R$5,0))=FALSE,IF(R$8<>0,VLOOKUP($A24,DSLOP,IN_DTK!R$5,0),""),"") -> Không | S24: =IF(ISNA(VLOOKUP($A24,DSLOP,IN_DTK!S$5,0))=FALSE,IF(A$9<>0,VLOOKUP($A24,DSLOP,IN_DTK!S$5,0),""),"") -> 0
A25: 17 | B25: 17 | C25: =IF(ISNA(VLOOKUP($A25,DSLOP,IN_DTK!C$5,0))=FALSE,VLOOKUP($A25,DSLOP,IN_DTK!C$5,0),"") -> 0 | D25: =IF(ISNA(VLOOKUP($A25,DSLOP,IN_DTK!D$5,0))=FALSE,VLOOKUP($A25,DSLOP,IN_DTK!D$5,0),"") -> 0 | E25: =IF(ISNA(VLOOKUP($A25,DSLOP,IN_DTK!E$5,0))=FALSE,VLOOKUP($A25,DSLOP,IN_DTK!E$5,0),"") -> 0 | F25: =IF(ISNA(VLOOKUP($A25,DSLOP,IN_DTK!F$5,0))=FALSE,VLOOKUP($A25,DSLOP,IN_DTK!F$5,0),"") -> 0 | G25: =IF(ISNA(VLOOKUP($A25,DSLOP,IN_DTK!G$5,0))=FALSE,VLOOKUP($A25,DSLOP,IN_DTK!G$5,0),"") -> 0 | H25: =IF(ISNA(VLOOKUP($A25,DSLOP,IN_DTK!H$5,0))=FALSE,IF(H$8<>0,VLOOKUP($A25,DSLOP,IN_DTK!H$5,0),""),"") -> 0 | I25: =IF(ISNA(VLOOKUP($A25,DSLOP,IN_DTK!I$5,0))=FALSE,IF(I$8<>0,VLOOKUP($A25,DSLOP,IN_DTK!I$5,0),""),"") | J25: =IF(ISNA(VLOOKUP($A25,DSLOP,IN_DTK!J$5,0))=FALSE,IF(J$8<>0,VLOOKUP($A25,DSLOP,IN_DTK!J$5,0),""),"") -> 0 | K25: =IF(ISNA(VLOOKUP($A25,DSLOP,IN_DTK!K$5,0))=FALSE,IF(K$8<>0,VLOOKUP($A25,DSLOP,IN_DTK!K$5,0),""),"") | L25: =IF(ISNA(VLOOKUP($A25,DSLOP,IN_DTK!L$5,0))=FALSE,IF(L$8<>0,VLOOKUP($A25,DSLOP,IN_DTK!L$5,0),""),"") | M25: =IF(ISNA(VLOOKUP($A25,DSLOP,IN_DTK!M$5,0))=FALSE,IF(M$8<>0,VLOOKUP($A25,DSLOP,IN_DTK!M$5,0),""),"") | N25: =IF(ISNA(VLOOKUP($A25,DSLOP,IN_DTK!N$5,0))=FALSE,IF(N$8<>0,VLOOKUP($A25,DSLOP,IN_DTK!N$5,0),""),"") | O25: =IF(ISNA(VLOOKUP($A25,DSLOP,IN_DTK!O$5,0))=FALSE,IF(O$8<>0,VLOOKUP($A25,DSLOP,IN_DTK!O$5,0),""),"") | ... R25: =IF(ISNA(VLOOKUP($A25,DSLOP,IN_DTK!R$5,0))=FALSE,IF(R$8<>0,VLOOKUP($A25,DSLOP,IN_DTK!R$5,0),""),"") -> Không | S25: =IF(ISNA(VLOOKUP($A25,DSLOP,IN_DTK!S$5,0))=FALSE,IF(A$9<>0,VLOOKUP($A25,DSLOP,IN_DTK!S$5,0),""),"") -> 0
A26: 18 | B26: 18 | C26: =IF(ISNA(VLOOKUP($A26,DSLOP,IN_DTK!C$5,0))=FALSE,VLOOKUP($A26,DSLOP,IN_DTK!C$5,0),"") -> 0 | D26: =IF(ISNA(VLOOKUP($A26,DSLOP,IN_DTK!D$5,0))=FALSE,VLOOKUP($A26,DSLOP,IN_DTK!D$5,0),"") -> 0 | E26: =IF(ISNA(VLOOKUP($A26,DSLOP,IN_DTK!E$5,0))=FALSE,VLOOKUP($A26,DSLOP,IN_DTK!E$5,0),"") -> 0 | F26: =IF(ISNA(VLOOKUP($A26,DSLOP,IN_DTK!F$5,0))=FALSE,VLOOKUP($A26,DSLOP,IN_DTK!F$5,0),"") -> 0 | G26: =IF(ISNA(VLOOKUP($A26,DSLOP,IN_DTK!G$5,0))=FALSE,VLOOKUP($A26,DSLOP,IN_DTK!G$5,0),"") -> 0 | H26: =IF(ISNA(VLOOKUP($A26,DSLOP,IN_DTK!H$5,0))=FALSE,IF(H$8<>0,VLOOKUP($A26,DSLOP,IN_DTK!H$5,0),""),"") -> 0 | I26: =IF(ISNA(VLOOKUP($A26,DSLOP,IN_DTK!I$5,0))=FALSE,IF(I$8<>0,VLOOKUP($A26,DSLOP,IN_DTK!I$5,0),""),"") | J26: =IF(ISNA(VLOOKUP($A26,DSLOP,IN_DTK!J$5,0))=FALSE,IF(J$8<>0,VLOOKUP($A26,DSLOP,IN_DTK!J$5,0),""),"") -> 0 | K26: =IF(ISNA(VLOOKUP($A26,DSLOP,IN_DTK!K$5,0))=FALSE,IF(K$8<>0,VLOOKUP($A26,DSLOP,IN_DTK!K$5,0),""),"") | L26: =IF(ISNA(VLOOKUP($A26,DSLOP,IN_DTK!L$5,0))=FALSE,IF(L$8<>0,VLOOKUP($A26,DSLOP,IN_DTK!L$5,0),""),"") | M26: =IF(ISNA(VLOOKUP($A26,DSLOP,IN_DTK!M$5,0))=FALSE,IF(M$8<>0,VLOOKUP($A26,DSLOP,IN_DTK!M$5,0),""),"") | N26: =IF(ISNA(VLOOKUP($A26,DSLOP,IN_DTK!N$5,0))=FALSE,IF(N$8<>0,VLOOKUP($A26,DSLOP,IN_DTK!N$5,0),""),"") | O26: =IF(ISNA(VLOOKUP($A26,DSLOP,IN_DTK!O$5,0))=FALSE,IF(O$8<>0,VLOOKUP($A26,DSLOP,IN_DTK!O$5,0),""),"") | ... R26: =IF(ISNA(VLOOKUP($A26,DSLOP,IN_DTK!R$5,0))=FALSE,IF(R$8<>0,VLOOKUP($A26,DSLOP,IN_DTK!R$5,0),""),"") -> Không | S26: =IF(ISNA(VLOOKUP($A26,DSLOP,IN_DTK!S$5,0))=FALSE,IF(A$9<>0,VLOOKUP($A26,DSLOP,IN_DTK!S$5,0),""),"") -> 0
A27: 19 | B27: 19 | C27: =IF(ISNA(VLOOKUP($A27,DSLOP,IN_DTK!C$5,0))=FALSE,VLOOKUP($A27,DSLOP,IN_DTK!C$5,0),"") -> 0 | D27: =IF(ISNA(VLOOKUP($A27,DSLOP,IN_DTK!D$5,0))=FALSE,VLOOKUP($A27,DSLOP,IN_DTK!D$5,0),"") -> 0 | E27: =IF(ISNA(VLOOKUP($A27,DSLOP,IN_DTK!E$5,0))=FALSE,VLOOKUP($A27,DSLOP,IN_DTK!E$5,0),"") -> 0 | F27: =IF(ISNA(VLOOKUP($A27,DSLOP,IN_DTK!F$5,0))=FALSE,VLOOKUP($A27,DSLOP,IN_DTK!F$5,0),"") -> 0 | G27: =IF(ISNA(VLOOKUP($A27,DSLOP,IN_DTK!G$5,0))=FALSE,VLOOKUP($A27,DSLOP,IN_DTK!G$5,0),"") -> 0 | H27: =IF(ISNA(VLOOKUP($A27,DSLOP,IN_DTK!H$5,0))=FALSE,IF(H$8<>0,VLOOKUP($A27,DSLOP,IN_DTK!H$5,0),""),"") -> 0 | I27: =IF(ISNA(VLOOKUP($A27,DSLOP,IN_DTK!I$5,0))=FALSE,IF(I$8<>0,VLOOKUP($A27,DSLOP,IN_DTK!I$5,0),""),"") | J27: =IF(ISNA(VLOOKUP($A27,DSLOP,IN_DTK!J$5,0))=FALSE,IF(J$8<>0,VLOOKUP($A27,DSLOP,IN_DTK!J$5,0),""),"") -> 0 | K27: =IF(ISNA(VLOOKUP($A27,DSLOP,IN_DTK!K$5,0))=FALSE,IF(K$8<>0,VLOOKUP($A27,DSLOP,IN_DTK!K$5,0),""),"") | L27: =IF(ISNA(VLOOKUP($A27,DSLOP,IN_DTK!L$5,0))=FALSE,IF(L$8<>0,VLOOKUP($A27,DSLOP,IN_DTK!L$5,0),""),"") | M27: =IF(ISNA(VLOOKUP($A27,DSLOP,IN_DTK!M$5,0))=FALSE,IF(M$8<>0,VLOOKUP($A27,DSLOP,IN_DTK!M$5,0),""),"") | N27: =IF(ISNA(VLOOKUP($A27,DSLOP,IN_DTK!N$5,0))=FALSE,IF(N$8<>0,VLOOKUP($A27,DSLOP,IN_DTK!N$5,0),""),"") | O27: =IF(ISNA(VLOOKUP($A27,DSLOP,IN_DTK!O$5,0))=FALSE,IF(O$8<>0,VLOOKUP($A27,DSLOP,IN_DTK!O$5,0),""),"") | ... R27: =IF(ISNA(VLOOKUP($A27,DSLOP,IN_DTK!R$5,0))=FALSE,IF(R$8<>0,VLOOKUP($A27,DSLOP,IN_DTK!R$5,0),""),"") -> Không | S27: =IF(ISNA(VLOOKUP($A27,DSLOP,IN_DTK!S$5,0))=FALSE,IF(A$9<>0,VLOOKUP($A27,DSLOP,IN_DTK!S$5,0),""),"") -> 0
A28: 20 | B28: 20 | C28: =IF(ISNA(VLOOKUP($A28,DSLOP,IN_DTK!C$5,0))=FALSE,VLOOKUP($A28,DSLOP,IN_DTK!C$5,0),"") -> 0 | D28: =IF(ISNA(VLOOKUP($A28,DSLOP,IN_DTK!D$5,0))=FALSE,VLOOKUP($A28,DSLOP,IN_DTK!D$5,0),"") -> 0 | E28: =IF(ISNA(VLOOKUP($A28,DSLOP,IN_DTK!E$5,0))=FALSE,VLOOKUP($A28,DSLOP,IN_DTK!E$5,0),"") -> 0 | F28: =IF(ISNA(VLOOKUP($A28,DSLOP,IN_DTK!F$5,0))=FALSE,VLOOKUP($A28,DSLOP,IN_DTK!F$5,0),"") -> 0 | G28: =IF(ISNA(VLOOKUP($A28,DSLOP,IN_DTK!G$5,0))=FALSE,VLOOKUP($A28,DSLOP,IN_DTK!G$5,0),"") -> 0 | H28: =IF(ISNA(VLOOKUP($A28,DSLOP,IN_DTK!H$5,0))=FALSE,IF(H$8<>0,VLOOKUP($A28,DSLOP,IN_DTK!H$5,0),""),"") -> 0 | I28: =IF(ISNA(VLOOKUP($A28,DSLOP,IN_DTK!I$5,0))=FALSE,IF(I$8<>0,VLOOKUP($A28,DSLOP,IN_DTK!I$5,0),""),"") | J28: =IF(ISNA(VLOOKUP($A28,DSLOP,IN_DTK!J$5,0))=FALSE,IF(J$8<>0,VLOOKUP($A28,DSLOP,IN_DTK!J$5,0),""),"") -> 0 | K28: =IF(ISNA(VLOOKUP($A28,DSLOP,IN_DTK!K$5,0))=FALSE,IF(K$8<>0,VLOOKUP($A28,DSLOP,IN_DTK!K$5,0),""),"") | L28: =IF(ISNA(VLOOKUP($A28,DSLOP,IN_DTK!L$5,0))=FALSE,IF(L$8<>0,VLOOKUP($A28,DSLOP,IN_DTK!L$5,0),""),"") | M28: =IF(ISNA(VLOOKUP($A28,DSLOP,IN_DTK!M$5,0))=FALSE,IF(M$8<>0,VLOOKUP($A28,DSLOP,IN_DTK!M$5,0),""),"") | N28: =IF(ISNA(VLOOKUP($A28,DSLOP,IN_DTK!N$5,0))=FALSE,IF(N$8<>0,VLOOKUP($A28,DSLOP,IN_DTK!N$5,0),""),"") | O28: =IF(ISNA(VLOOKUP($A28,DSLOP,IN_DTK!O$5,0))=FALSE,IF(O$8<>0,VLOOKUP($A28,DSLOP,IN_DTK!O$5,0),""),"") | ... R28: =IF(ISNA(VLOOKUP($A28,DSLOP,IN_DTK!R$5,0))=FALSE,IF(R$8<>0,VLOOKUP($A28,DSLOP,IN_DTK!R$5,0),""),"") -> Không | S28: =IF(ISNA(VLOOKUP($A28,DSLOP,IN_DTK!S$5,0))=FALSE,IF(A$9<>0,VLOOKUP($A28,DSLOP,IN_DTK!S$5,0),""),"") -> 0
A29: 21 | B29: 21 | C29: =IF(ISNA(VLOOKUP($A29,DSLOP,IN_DTK!C$5,0))=FALSE,VLOOKUP($A29,DSLOP,IN_DTK!C$5,0),"") -> 0 | D29: =IF(ISNA(VLOOKUP($A29,DSLOP,IN_DTK!D$5,0))=FALSE,VLOOKUP($A29,DSLOP,IN_DTK!D$5,0),"") -> 0 | E29: =IF(ISNA(VLOOKUP($A29,DSLOP,IN_DTK!E$5,0))=FALSE,VLOOKUP($A29,DSLOP,IN_DTK!E$5,0),"") -> 0 | F29: =IF(ISNA(VLOOKUP($A29,DSLOP,IN_DTK!F$5,0))=FALSE,VLOOKUP($A29,DSLOP,IN_DTK!F$5,0),"") -> 0 | G29: =IF(ISNA(VLOOKUP($A29,DSLOP,IN_DTK!G$5,0))=FALSE,VLOOKUP($A29,DSLOP,IN_DTK!G$5,0),"") -> 0 | H29: =IF(ISNA(VLOOKUP($A29,DSLOP,IN_DTK!H$5,0))=FALSE,IF(H$8<>0,VLOOKUP($A29,DSLOP,IN_DTK!H$5,0),""),"") -> 0 | I29: =IF(ISNA(VLOOKUP($A29,DSLOP,IN_DTK!I$5,0))=FALSE,IF(I$8<>0,VLOOKUP($A29,DSLOP,IN_DTK!I$5,0),""),"") | J29: =IF(ISNA(VLOOKUP($A29,DSLOP,IN_DTK!J$5,0))=FALSE,IF(J$8<>0,VLOOKUP($A29,DSLOP,IN_DTK!J$5,0),""),"") -> 0 | K29: =IF(ISNA(VLOOKUP($A29,DSLOP,IN_DTK!K$5,0))=FALSE,IF(K$8<>0,VLOOKUP($A29,DSLOP,IN_DTK!K$5,0),""),"") | L29: =IF(ISNA(VLOOKUP($A29,DSLOP,IN_DTK!L$5,0))=FALSE,IF(L$8<>0,VLOOKUP($A29,DSLOP,IN_DTK!L$5,0),""),"") | M29: =IF(ISNA(VLOOKUP($A29,DSLOP,IN_DTK!M$5,0))=FALSE,IF(M$8<>0,VLOOKUP($A29,DSLOP,IN_DTK!M$5,0),""),"") | N29: =IF(ISNA(VLOOKUP($A29,DSLOP,IN_DTK!N$5,0))=FALSE,IF(N$8<>0,VLOOKUP($A29,DSLOP,IN_DTK!N$5,0),""),"") | O29: =IF(ISNA(VLOOKUP($A29,DSLOP,IN_DTK!O$5,0))=FALSE,IF(O$8<>0,VLOOKUP($A29,DSLOP,IN_DTK!O$5,0),""),"") | ... R29: =IF(ISNA(VLOOKUP($A29,DSLOP,IN_DTK!R$5,0))=FALSE,IF(R$8<>0,VLOOKUP($A29,DSLOP,IN_DTK!R$5,0),""),"") -> Không | S29: =IF(ISNA(VLOOKUP($A29,DSLOP,IN_DTK!S$5,0))=FALSE,IF(A$9<>0,VLOOKUP($A29,DSLOP,IN_DTK!S$5,0),""),"") -> 0
A30: 22 | B30: 22 | C30: =IF(ISNA(VLOOKUP($A30,DSLOP,IN_DTK!C$5,0))=FALSE,VLOOKUP($A30,DSLOP,IN_DTK!C$5,0),"") -> 0 | D30: =IF(ISNA(VLOOKUP($A30,DSLOP,IN_DTK!D$5,0))=FALSE,VLOOKUP($A30,DSLOP,IN_DTK!D$5,0),"") -> 0 | E30: =IF(ISNA(VLOOKUP($A30,DSLOP,IN_DTK!E$5,0))=FALSE,VLOOKUP($A30,DSLOP,IN_DTK!E$5,0),"") -> 0 | F30: =IF(ISNA(VLOOKUP($A30,DSLOP,IN_DTK!F$5,0))=FALSE,VLOOKUP($A30,DSLOP,IN_DTK!F$5,0),"") -> 0 | G30: =IF(ISNA(VLOOKUP($A30,DSLOP,IN_DTK!G$5,0))=FALSE,VLOOKUP($A30,DSLOP,IN_DTK!G$5,0),"") -> 0 | H30: =IF(ISNA(VLOOKUP($A30,DSLOP,IN_DTK!H$5,0))=FALSE,IF(H$8<>0,VLOOKUP($A30,DSLOP,IN_DTK!H$5,0),""),"") -> 0 | I30: =IF(ISNA(VLOOKUP($A30,DSLOP,IN_DTK!I$5,0))=FALSE,IF(I$8<>0,VLOOKUP($A30,DSLOP,IN_DTK!I$5,0),""),"") | J30: =IF(ISNA(VLOOKUP($A30,DSLOP,IN_DTK!J$5,0))=FALSE,IF(J$8<>0,VLOOKUP($A30,DSLOP,IN_DTK!J$5,0),""),"") -> 0 | K30: =IF(ISNA(VLOOKUP($A30,DSLOP,IN_DTK!K$5,0))=FALSE,IF(K$8<>0,VLOOKUP($A30,DSLOP,IN_DTK!K$5,0),""),"") | L30: =IF(ISNA(VLOOKUP($A30,DSLOP,IN_DTK!L$5,0))=FALSE,IF(L$8<>0,VLOOKUP($A30,DSLOP,IN_DTK!L$5,0),""),"") | M30: =IF(ISNA(VLOOKUP($A30,DSLOP,IN_DTK!M$5,0))=FALSE,IF(M$8<>0,VLOOKUP($A30,DSLOP,IN_DTK!M$5,0),""),"") | N30: =IF(ISNA(VLOOKUP($A30,DSLOP,IN_DTK!N$5,0))=FALSE,IF(N$8<>0,VLOOKUP($A30,DSLOP,IN_DTK!N$5,0),""),"") | O30: =IF(ISNA(VLOOKUP($A30,DSLOP,IN_DTK!O$5,0))=FALSE,IF(O$8<>0,VLOOKUP($A30,DSLOP,IN_DTK!O$5,0),""),"") | ... R30: =IF(ISNA(VLOOKUP($A30,DSLOP,IN_DTK!R$5,0))=FALSE,IF(R$8<>0,VLOOKUP($A30,DSLOP,IN_DTK!R$5,0),""),"") -> Không | S30: =IF(ISNA(VLOOKUP($A30,DSLOP,IN_DTK!S$5,0))=FALSE,IF(A$9<>0,VLOOKUP($A30,DSLOP,IN_DTK!S$5,0),""),"") -> 0
... A52: 44 | B52: 44 | C52: =IF(ISNA(VLOOKUP($A52,DSLOP,IN_DTK!C$5,0))=FALSE,VLOOKUP($A52,DSLOP,IN_DTK!C$5,0),"") | D52: =IF(ISNA(VLOOKUP($A52,DSLOP,IN_DTK!D$5,0))=FALSE,VLOOKUP($A52,DSLOP,IN_DTK!D$5,0),"") | E52: =IF(ISNA(VLOOKUP($A52,DSLOP,IN_DTK!E$5,0))=FALSE,VLOOKUP($A52,DSLOP,IN_DTK!E$5,0),"") | F52: =IF(ISNA(VLOOKUP($A52,DSLOP,IN_DTK!F$5,0))=FALSE,VLOOKUP($A52,DSLOP,IN_DTK!F$5,0),"") | G52: =IF(ISNA(VLOOKUP($A52,DSLOP,IN_DTK!G$5,0))=FALSE,VLOOKUP($A52,DSLOP,IN_DTK!G$5,0),"") | H52: =IF(ISNA(VLOOKUP($A52,DSLOP,IN_DTK!H$5,0))=FALSE,IF(H$8<>0,VLOOKUP($A52,DSLOP,IN_DTK!H$5,0),""),"") | I52: =IF(ISNA(VLOOKUP($A52,DSLOP,IN_DTK!I$5,0))=FALSE,IF(I$8<>0,VLOOKUP($A52,DSLOP,IN_DTK!I$5,0),""),"") | J52: =IF(ISNA(VLOOKUP($A52,DSLOP,IN_DTK!J$5,0))=FALSE,IF(J$8<>0,VLOOKUP($A52,DSLOP,IN_DTK!J$5,0),""),"") | K52: =IF(ISNA(VLOOKUP($A52,DSLOP,IN_DTK!K$5,0))=FALSE,IF(K$8<>0,VLOOKUP($A52,DSLOP,IN_DTK!K$5,0),""),"") | L52: =IF(ISNA(VLOOKUP($A52,DSLOP,IN_DTK!L$5,0))=FALSE,IF(L$8<>0,VLOOKUP($A52,DSLOP,IN_DTK!L$5,0),""),"") | M52: =IF(ISNA(VLOOKUP($A52,DSLOP,IN_DTK!M$5,0))=FALSE,IF(M$8<>0,VLOOKUP($A52,DSLOP,IN_DTK!M$5,0),""),"") | N52: =IF(ISNA(VLOOKUP($A52,DSLOP,IN_DTK!N$5,0))=FALSE,IF(N$8<>0,VLOOKUP($A52,DSLOP,IN_DTK!N$5,0),""),"") | O52: =IF(ISNA(VLOOKUP($A52,DSLOP,IN_DTK!O$5,0))=FALSE,IF(O$8<>0,VLOOKUP($A52,DSLOP,IN_DTK!O$5,0),""),"") | ... R52: =IF(ISNA(VLOOKUP($A52,DSLOP,IN_DTK!R$5,0))=FALSE,IF(R$8<>0,VLOOKUP($A52,DSLOP,IN_DTK!R$5,0),""),"") | S52: =IF(ISNA(VLOOKUP($A52,DSLOP,IN_DTK!S$5,0))=FALSE,IF(A$9<>0,VLOOKUP($A52,DSLOP,IN_DTK!S$5,0),""),"")
C54: BẢNG THỐNG KÊ SỐ LIỆU
C55: STT | D55: NỘI DUNG THỐNG KÊ | G55: SỐ LƯỢNG | H55: TỶ LỆ (%) | J55: GHI CHÚ
C56: 1 | D56: Số học viên đạt | G56: =COUNTIF($Q$9:$Q$28,">=4") -> 5 | H56: =G56/$G$58 -> 0.83333333
C57: 2 | D57: Số học viên nợ | G57: =COUNTIF($Q$9:$Q$14,"<4") -> 1 | H57: =G57/$G$58 -> 0.16666667
C58: TỔNG CỘNG : | G58: =SUM(G56:G57) -> 6 | H58: =SUM(H56:I57) -> 1
P59: ="Đà Nẵng, " & TEXT(TODAY(),"dd/mm/yyyy") -> Đà Nẵng, 05/11/2026
C60: NGƯỜI LẬP | E60: NGƯỜI KIỂM TRA | H60: LÃNH ĐẠO ĐƠN VỊ | P60: TRƯỞNG BAN SAU ĐẠI HỌC
A66: NGUYỄN TRỌNG TUỆ NGUYỄN KIM ĐỨC NGUYỄN ÂN | C66: Huỳnh Thị Tú | P66: TS. Nguyễn Công Minh

Sheet DTK_AV
A1: BỘ GIÁO DỤC & ĐÀO TẠO | E1: =DSSV!D1&" * LỚP: "&UPPER(DSSV!R1) -> BẢNG ĐIỂM TỔNG KẾT HỌC PHẦN * LỚP: K31MPM1
B2: TRƯỜNG ĐẠI HỌC DUY TÂN | E2: ="CHUYÊN NGÀNH: "&VLOOKUP(RIGHT(DSSV!R1,4),CODEMON!$K$3:$L$27,2,0) -> CHUYÊN NGÀNH: TỔ CHỨC QUẢN LÝ DƯỢC | T2: ="Số TC : "&DSSV!R2 -> Số TC : 2
A3: ="MÔN: "&UPPER(DSSV!G2)&" * " & "MÃ MÔN: "&DSSV!G3 -> MÔN: GEN DƯỢC HỌC * MÃ MÔN: BIO 622 | T3: ="Học kỳ : " & DSSV!R3 -> Học kỳ : 1
A4: =DSSV!A4 -> Thời gian: 19h30 ngày 10/7/2026 | T4: ="Lần thi : "&DSSV!R4 -> Lần thi : 1
A5: 1 | B5: 2 | C5: 3 | D5: 4 | E5: 6 | F5: 7 | T5: 19
A6: STT | B6: MÃ HỌC VIÊN | C6: HỌ VÀ | D6: TÊN | E6: NGÀY SINH | F6: LỚP | G6: ĐIỂM QUÁ TRÌNH HỌC TẬP (%) | O6: ĐIỂM THI KTHP | R6: ĐIỂM TỔNG KẾT | T6: GHI CHÚ
G7: A | H7: P | I7: Q | J7: H | K7: L | L7: M | M7: I | N7: G | O7: NGHE ĐỌC VIẾT (60%) | P7: VẤN ĐÁP (40%) | Q7: F | R7: SỐ | S7: CHỮ
G8: 0.05 | H8: 0 | I8: 0.2 | J8: 0.2 | K8: 0 | L8: 0 | M8: 0 | N8: 0 | Q8: 0.55 | R8: =SUM(G8:Q8) -> 1 | V8: 1 | W8: Một
A9: 1 | B9: =IF(ISNA(VLOOKUP($A9,DSLOP,DTK_AV!B$5,0))=FALSE,VLOOKUP($A9,DSLOP,DTK_AV!B$5,0),"") -> 31315270077 | C9: =IF(ISNA(VLOOKUP($A9,DSLOP,DTK_AV!C$5,0))=FALSE,VLOOKUP($A9,DSLOP,DTK_AV!C$5,0),"") -> Đặng Công | D9: =IF(ISNA(VLOOKUP($A9,DSLOP,DTK_AV!D$5,0))=FALSE,VLOOKUP($A9,DSLOP,DTK_AV!D$5,0),"") -> Luận | E9: =IF(ISNA(VLOOKUP($A9,DSLOP,DTK_AV!E$5,0))=FALSE,VLOOKUP($A9,DSLOP,DTK_AV!E$5,0),"") -> 27/01/2001 | F9: =IF(ISNA(VLOOKUP($A9,DSLOP,DTK_AV!F$5,0))=FALSE,VLOOKUP($A9,DSLOP,DTK_AV!F$5,0),"") -> K31MPM1 | Q9: =ROUND(SUM(IF(ISNUMBER(O9),O9,0 )*0.6,IF(ISNUMBER(P9),P9,0 )*0.4),1) -> 0 | R9: =IF(OR(Q9<4,$R$8<>100%),0,ROUND(SUMPRODUCT(G9:Q9,$G$8:$Q$8)/$R$8,1)) -> 0 | S9: =VLOOKUP(R9,$V:$W,2,0) -> Không | T9: =IF(ISNA(VLOOKUP($A9,DSLOP,DTK_AV!T$5,0))=FALSE,VLOOKUP($A9,DSLOP,DTK_AV!T$5,0),"") -> 0 | V9: 0 | W9: Không
A10: =A9+1 -> 2 | B10: =IF(ISNA(VLOOKUP($A10,DSLOP,DTK_AV!B$5,0))=FALSE,VLOOKUP($A10,DSLOP,DTK_AV!B$5,0),"") -> 31305270078 | C10: =IF(ISNA(VLOOKUP($A10,DSLOP,DTK_AV!C$5,0))=FALSE,VLOOKUP($A10,DSLOP,DTK_AV!C$5,0),"") -> Trần Vương Diễm | D10: =IF(ISNA(VLOOKUP($A10,DSLOP,DTK_AV!D$5,0))=FALSE,VLOOKUP($A10,DSLOP,DTK_AV!D$5,0),"") -> My | E10: =IF(ISNA(VLOOKUP($A10,DSLOP,DTK_AV!E$5,0))=FALSE,VLOOKUP($A10,DSLOP,DTK_AV!E$5,0),"") -> 28/08/1986 | F10: =IF(ISNA(VLOOKUP($A10,DSLOP,DTK_AV!F$5,0))=FALSE,VLOOKUP($A10,DSLOP,DTK_AV!F$5,0),"") -> K31MPM1 | Q10: =ROUND(SUM(IF(ISNUMBER(O10),O10,0 )*0.6,IF(ISNUMBER(P10),P10,0 )*0.4),1) -> 0 | R10: =IF(OR(Q10<4,$R$8<>100%),0,ROUND(SUMPRODUCT(G10:Q10,$G$8:$Q$8)/$R$8,1)) -> 0 | S10: =VLOOKUP(R10,$V:$W,2,0) -> Không | T10: =IF(ISNA(VLOOKUP($A10,DSLOP,DTK_AV!T$5,0))=FALSE,VLOOKUP($A10,DSLOP,DTK_AV!T$5,0),"") -> Hoãn thi | V10: 1.1 | W10: Một Phẩy Một
A11: =A10+1 -> 3 | B11: =IF(ISNA(VLOOKUP($A11,DSLOP,DTK_AV!B$5,0))=FALSE,VLOOKUP($A11,DSLOP,DTK_AV!B$5,0),"") -> 31305270079 | C11: =IF(ISNA(VLOOKUP($A11,DSLOP,DTK_AV!C$5,0))=FALSE,VLOOKUP($A11,DSLOP,DTK_AV!C$5,0),"") -> Nguyễn Yến | D11: =IF(ISNA(VLOOKUP($A11,DSLOP,DTK_AV!D$5,0))=FALSE,VLOOKUP($A11,DSLOP,DTK_AV!D$5,0),"") -> Nhi | E11: =IF(ISNA(VLOOKUP($A11,DSLOP,DTK_AV!E$5,0))=FALSE,VLOOKUP($A11,DSLOP,DTK_AV!E$5,0),"") -> 18/06/1997 | F11: =IF(ISNA(VLOOKUP($A11,DSLOP,DTK_AV!F$5,0))=FALSE,VLOOKUP($A11,DSLOP,DTK_AV!F$5,0),"") -> K31MPM1 | Q11: =ROUND(SUM(IF(ISNUMBER(O11),O11,0 )*0.6,IF(ISNUMBER(P11),P11,0 )*0.4),1) -> 0 | R11: =IF(OR(Q11<4,$R$8<>100%),0,ROUND(SUMPRODUCT(G11:Q11,$G$8:$Q$8)/$R$8,1)) -> 0 | S11: =VLOOKUP(R11,$V:$W,2,0) -> Không | T11: =IF(ISNA(VLOOKUP($A11,DSLOP,DTK_AV!T$5,0))=FALSE,VLOOKUP($A11,DSLOP,DTK_AV!T$5,0),"") -> 0 | V11: 1.2 | W11: Một Phẩy Hai
A12: =A11+1 -> 4 | B12: =IF(ISNA(VLOOKUP($A12,DSLOP,DTK_AV!B$5,0))=FALSE,VLOOKUP($A12,DSLOP,DTK_AV!B$5,0),"") -> 31305270080 | C12: =IF(ISNA(VLOOKUP($A12,DSLOP,DTK_AV!C$5,0))=FALSE,VLOOKUP($A12,DSLOP,DTK_AV!C$5,0),"") -> Bùi Thị Phương | D12: =IF(ISNA(VLOOKUP($A12,DSLOP,DTK_AV!D$5,0))=FALSE,VLOOKUP($A12,DSLOP,DTK_AV!D$5,0),"") -> Uyên | E12: =IF(ISNA(VLOOKUP($A12,DSLOP,DTK_AV!E$5,0))=FALSE,VLOOKUP($A12,DSLOP,DTK_AV!E$5,0),"") -> 22/09/1998 | F12: =IF(ISNA(VLOOKUP($A12,DSLOP,DTK_AV!F$5,0))=FALSE,VLOOKUP($A12,DSLOP,DTK_AV!F$5,0),"") -> K31MPM1 | Q12: =ROUND(SUM(IF(ISNUMBER(O12),O12,0 )*0.6,IF(ISNUMBER(P12),P12,0 )*0.4),1) -> 0 | R12: =IF(OR(Q12<4,$R$8<>100%),0,ROUND(SUMPRODUCT(G12:Q12,$G$8:$Q$8)/$R$8,1)) -> 0 | S12: =VLOOKUP(R12,$V:$W,2,0) -> Không | T12: =IF(ISNA(VLOOKUP($A12,DSLOP,DTK_AV!T$5,0))=FALSE,VLOOKUP($A12,DSLOP,DTK_AV!T$5,0),"") -> 0 | V12: 1.3 | W12: Một Phẩy Ba
A13: =A12+1 -> 5 | B13: =IF(ISNA(VLOOKUP($A13,DSLOP,DTK_AV!B$5,0))=FALSE,VLOOKUP($A13,DSLOP,DTK_AV!B$5,0),"") -> 31315270081 | C13: =IF(ISNA(VLOOKUP($A13,DSLOP,DTK_AV!C$5,0))=FALSE,VLOOKUP($A13,DSLOP,DTK_AV!C$5,0),"") -> Nguyễn Văn | D13: =IF(ISNA(VLOOKUP($A13,DSLOP,DTK_AV!D$5,0))=FALSE,VLOOKUP($A13,DSLOP,DTK_AV!D$5,0),"") -> Quý | E13: =IF(ISNA(VLOOKUP($A13,DSLOP,DTK_AV!E$5,0))=FALSE,VLOOKUP($A13,DSLOP,DTK_AV!E$5,0),"") -> 15/09/1981 | F13: =IF(ISNA(VLOOKUP($A13,DSLOP,DTK_AV!F$5,0))=FALSE,VLOOKUP($A13,DSLOP,DTK_AV!F$5,0),"") -> K31MPM1 | Q13: =ROUND(SUM(IF(ISNUMBER(O13),O13,0 )*0.6,IF(ISNUMBER(P13),P13,0 )*0.4),1) -> 0 | R13: =IF(OR(Q13<4,$R$8<>100%),0,ROUND(SUMPRODUCT(G13:Q13,$G$8:$Q$8)/$R$8,1)) -> 0 | S13: =VLOOKUP(R13,$V:$W,2,0) -> Không | T13: =IF(ISNA(VLOOKUP($A13,DSLOP,DTK_AV!T$5,0))=FALSE,VLOOKUP($A13,DSLOP,DTK_AV!T$5,0),"") -> 0 | V13: 1.4 | W13: Một Phẩy Bốn
A14: =A13+1 -> 6 | B14: =IF(ISNA(VLOOKUP($A14,DSLOP,DTK_AV!B$5,0))=FALSE,VLOOKUP($A14,DSLOP,DTK_AV!B$5,0),"") -> 31305270082 | C14: =IF(ISNA(VLOOKUP($A14,DSLOP,DTK_AV!C$5,0))=FALSE,VLOOKUP($A14,DSLOP,DTK_AV!C$5,0),"") -> Nguyễn Huỳnh Ái | D14: =IF(ISNA(VLOOKUP($A14,DSLOP,DTK_AV!D$5,0))=FALSE,VLOOKUP($A14,DSLOP,DTK_AV!D$5,0),"") -> Thi | E14: =IF(ISNA(VLOOKUP($A14,DSLOP,DTK_AV!E$5,0))=FALSE,VLOOKUP($A14,DSLOP,DTK_AV!E$5,0),"") -> 28/06/2002 | F14: =IF(ISNA(VLOOKUP($A14,DSLOP,DTK_AV!F$5,0))=FALSE,VLOOKUP($A14,DSLOP,DTK_AV!F$5,0),"") -> K31MPM1 | Q14: =ROUND(SUM(IF(ISNUMBER(O14),O14,0 )*0.6,IF(ISNUMBER(P14),P14,0 )*0.4),1) -> 0 | R14: =IF(OR(Q14<4,$R$8<>100%),0,ROUND(SUMPRODUCT(G14:Q14,$G$8:$Q$8)/$R$8,1)) -> 0 | S14: =VLOOKUP(R14,$V:$W,2,0) -> Không | T14: =IF(ISNA(VLOOKUP($A14,DSLOP,DTK_AV!T$5,0))=FALSE,VLOOKUP($A14,DSLOP,DTK_AV!T$5,0),"") -> 0 | V14: 1.5 | W14: Một Phẩy Năm
A15: =A14+1 -> 7 | B15: =IF(ISNA(VLOOKUP($A15,DSLOP,DTK_AV!B$5,0))=FALSE,VLOOKUP($A15,DSLOP,DTK_AV!B$5,0),"") -> 0 | C15: =IF(ISNA(VLOOKUP($A15,DSLOP,DTK_AV!C$5,0))=FALSE,VLOOKUP($A15,DSLOP,DTK_AV!C$5,0),"") -> 0 | D15: =IF(ISNA(VLOOKUP($A15,DSLOP,DTK_AV!D$5,0))=FALSE,VLOOKUP($A15,DSLOP,DTK_AV!D$5,0),"") -> 0 | E15: =IF(ISNA(VLOOKUP($A15,DSLOP,DTK_AV!E$5,0))=FALSE,VLOOKUP($A15,DSLOP,DTK_AV!E$5,0),"") -> 0 | F15: =IF(ISNA(VLOOKUP($A15,DSLOP,DTK_AV!F$5,0))=FALSE,VLOOKUP($A15,DSLOP,DTK_AV!F$5,0),"") -> 0 | Q15: =ROUND(SUM(IF(ISNUMBER(O15),O15,0 )*0.6,IF(ISNUMBER(P15),P15,0 )*0.4),1) -> 0 | R15: =IF(OR(Q15<4,$R$8<>100%),0,ROUND(SUMPRODUCT(G15:Q15,$G$8:$Q$8)/$R$8,1)) -> 0 | S15: =VLOOKUP(R15,$V:$W,2,0) -> Không | T15: =IF(ISNA(VLOOKUP($A15,DSLOP,DTK_AV!T$5,0))=FALSE,VLOOKUP($A15,DSLOP,DTK_AV!T$5,0),"") -> 0 | V15: 1.6 | W15: Một Phẩy Sáu
A16: =A15+1 -> 8 | B16: =IF(ISNA(VLOOKUP($A16,DSLOP,DTK_AV!B$5,0))=FALSE,VLOOKUP($A16,DSLOP,DTK_AV!B$5,0),"") -> 0 | C16: =IF(ISNA(VLOOKUP($A16,DSLOP,DTK_AV!C$5,0))=FALSE,VLOOKUP($A16,DSLOP,DTK_AV!C$5,0),"") -> 0 | D16: =IF(ISNA(VLOOKUP($A16,DSLOP,DTK_AV!D$5,0))=FALSE,VLOOKUP($A16,DSLOP,DTK_AV!D$5,0),"") -> 0 | E16: =IF(ISNA(VLOOKUP($A16,DSLOP,DTK_AV!E$5,0))=FALSE,VLOOKUP($A16,DSLOP,DTK_AV!E$5,0),"") -> 0 | F16: =IF(ISNA(VLOOKUP($A16,DSLOP,DTK_AV!F$5,0))=FALSE,VLOOKUP($A16,DSLOP,DTK_AV!F$5,0),"") -> 0 | Q16: =ROUND(SUM(IF(ISNUMBER(O16),O16,0 )*0.6,IF(ISNUMBER(P16),P16,0 )*0.4),1) -> 0 | R16: =IF(OR(Q16<4,$R$8<>100%),0,ROUND(SUMPRODUCT(G16:Q16,$G$8:$Q$8)/$R$8,1)) -> 0 | S16: =VLOOKUP(R16,$V:$W,2,0) -> Không | T16: =IF(ISNA(VLOOKUP($A16,DSLOP,DTK_AV!T$5,0))=FALSE,VLOOKUP($A16,DSLOP,DTK_AV!T$5,0),"") -> 0 | V16: 1.7 | W16: Một Phẩy Bảy
A17: =A16+1 -> 9 | B17: =IF(ISNA(VLOOKUP($A17,DSLOP,DTK_AV!B$5,0))=FALSE,VLOOKUP($A17,DSLOP,DTK_AV!B$5,0),"") -> 0 | C17: =IF(ISNA(VLOOKUP($A17,DSLOP,DTK_AV!C$5,0))=FALSE,VLOOKUP($A17,DSLOP,DTK_AV!C$5,0),"") -> 0 | D17: =IF(ISNA(VLOOKUP($A17,DSLOP,DTK_AV!D$5,0))=FALSE,VLOOKUP($A17,DSLOP,DTK_AV!D$5,0),"") -> 0 | E17: =IF(ISNA(VLOOKUP($A17,DSLOP,DTK_AV!E$5,0))=FALSE,VLOOKUP($A17,DSLOP,DTK_AV!E$5,0),"") -> 0 | F17: =IF(ISNA(VLOOKUP($A17,DSLOP,DTK_AV!F$5,0))=FALSE,VLOOKUP($A17,DSLOP,DTK_AV!F$5,0),"") -> 0 | Q17: =ROUND(SUM(IF(ISNUMBER(O17),O17,0 )*0.6,IF(ISNUMBER(P17),P17,0 )*0.4),1) -> 0 | R17: =IF(OR(Q17<4,$R$8<>100%),0,ROUND(SUMPRODUCT(G17:Q17,$G$8:$Q$8)/$R$8,1)) -> 0 | S17: =VLOOKUP(R17,$V:$W,2,0) -> Không | T17: =IF(ISNA(VLOOKUP($A17,DSLOP,DTK_AV!T$5,0))=FALSE,VLOOKUP($A17,DSLOP,DTK_AV!T$5,0),"") -> 0 | V17: 1.8 | W17: Một Phẩy Tám
A18: =A17+1 -> 10 | B18: =IF(ISNA(VLOOKUP($A18,DSLOP,DTK_AV!B$5,0))=FALSE,VLOOKUP($A18,DSLOP,DTK_AV!B$5,0),"") -> 0 | C18: =IF(ISNA(VLOOKUP($A18,DSLOP,DTK_AV!C$5,0))=FALSE,VLOOKUP($A18,DSLOP,DTK_AV!C$5,0),"") -> 0 | D18: =IF(ISNA(VLOOKUP($A18,DSLOP,DTK_AV!D$5,0))=FALSE,VLOOKUP($A18,DSLOP,DTK_AV!D$5,0),"") -> 0 | E18: =IF(ISNA(VLOOKUP($A18,DSLOP,DTK_AV!E$5,0))=FALSE,VLOOKUP($A18,DSLOP,DTK_AV!E$5,0),"") -> 0 | F18: =IF(ISNA(VLOOKUP($A18,DSLOP,DTK_AV!F$5,0))=FALSE,VLOOKUP($A18,DSLOP,DTK_AV!F$5,0),"") -> 0 | Q18: =ROUND(SUM(IF(ISNUMBER(O18),O18,0 )*0.6,IF(ISNUMBER(P18),P18,0 )*0.4),1) -> 0 | R18: =IF(OR(Q18<4,$R$8<>100%),0,ROUND(SUMPRODUCT(G18:Q18,$G$8:$Q$8)/$R$8,1)) -> 0 | S18: =VLOOKUP(R18,$V:$W,2,0) -> Không | T18: =IF(ISNA(VLOOKUP($A18,DSLOP,DTK_AV!T$5,0))=FALSE,VLOOKUP($A18,DSLOP,DTK_AV!T$5,0),"") -> 0 | V18: 2 | W18: Hai
A19: =A18+1 -> 11 | B19: =IF(ISNA(VLOOKUP($A19,DSLOP,DTK_AV!B$5,0))=FALSE,VLOOKUP($A19,DSLOP,DTK_AV!B$5,0),"") -> 0 | C19: =IF(ISNA(VLOOKUP($A19,DSLOP,DTK_AV!C$5,0))=FALSE,VLOOKUP($A19,DSLOP,DTK_AV!C$5,0),"") -> 0 | D19: =IF(ISNA(VLOOKUP($A19,DSLOP,DTK_AV!D$5,0))=FALSE,VLOOKUP($A19,DSLOP,DTK_AV!D$5,0),"") -> 0 | E19: =IF(ISNA(VLOOKUP($A19,DSLOP,DTK_AV!E$5,0))=FALSE,VLOOKUP($A19,DSLOP,DTK_AV!E$5,0),"") -> 0 | F19: =IF(ISNA(VLOOKUP($A19,DSLOP,DTK_AV!F$5,0))=FALSE,VLOOKUP($A19,DSLOP,DTK_AV!F$5,0),"") -> 0 | Q19: =ROUND(SUM(IF(ISNUMBER(O19),O19,0 )*0.6,IF(ISNUMBER(P19),P19,0 )*0.4),1) -> 0 | R19: =IF(OR(Q19<4,$R$8<>100%),0,ROUND(SUMPRODUCT(G19:Q19,$G$8:$Q$8)/$R$8,1)) -> 0 | S19: =VLOOKUP(R19,$V:$W,2,0) -> Không | T19: =IF(ISNA(VLOOKUP($A19,DSLOP,DTK_AV!T$5,0))=FALSE,VLOOKUP($A19,DSLOP,DTK_AV!T$5,0),"") -> 0 | V19: 2.3 | W19: Hai Phẩy Ba
A20: =A19+1 -> 12 | B20: =IF(ISNA(VLOOKUP($A20,DSLOP,DTK_AV!B$5,0))=FALSE,VLOOKUP($A20,DSLOP,DTK_AV!B$5,0),"") -> 0 | C20: =IF(ISNA(VLOOKUP($A20,DSLOP,DTK_AV!C$5,0))=FALSE,VLOOKUP($A20,DSLOP,DTK_AV!C$5,0),"") -> 0 | D20: =IF(ISNA(VLOOKUP($A20,DSLOP,DTK_AV!D$5,0))=FALSE,VLOOKUP($A20,DSLOP,DTK_AV!D$5,0),"") -> 0 | E20: =IF(ISNA(VLOOKUP($A20,DSLOP,DTK_AV!E$5,0))=FALSE,VLOOKUP($A20,DSLOP,DTK_AV!E$5,0),"") -> 0 | F20: =IF(ISNA(VLOOKUP($A20,DSLOP,DTK_AV!F$5,0))=FALSE,VLOOKUP($A20,DSLOP,DTK_AV!F$5,0),"") -> 0 | Q20: =ROUND(SUM(IF(ISNUMBER(O20),O20,0 )*0.6,IF(ISNUMBER(P20),P20,0 )*0.4),1) -> 0 | R20: =IF(OR(Q20<4,$R$8<>100%),0,ROUND(SUMPRODUCT(G20:Q20,$G$8:$Q$8)/$R$8,1)) -> 0 | S20: =VLOOKUP(R20,$V:$W,2,0) -> Không | T20: =IF(ISNA(VLOOKUP($A20,DSLOP,DTK_AV!T$5,0))=FALSE,VLOOKUP($A20,DSLOP,DTK_AV!T$5,0),"") -> 0 | V20: 2.4 | W20: Hai Phẩy Bốn
A21: =A20+1 -> 13 | B21: =IF(ISNA(VLOOKUP($A21,DSLOP,DTK_AV!B$5,0))=FALSE,VLOOKUP($A21,DSLOP,DTK_AV!B$5,0),"") -> 0 | C21: =IF(ISNA(VLOOKUP($A21,DSLOP,DTK_AV!C$5,0))=FALSE,VLOOKUP($A21,DSLOP,DTK_AV!C$5,0),"") -> 0 | D21: =IF(ISNA(VLOOKUP($A21,DSLOP,DTK_AV!D$5,0))=FALSE,VLOOKUP($A21,DSLOP,DTK_AV!D$5,0),"") -> 0 | E21: =IF(ISNA(VLOOKUP($A21,DSLOP,DTK_AV!E$5,0))=FALSE,VLOOKUP($A21,DSLOP,DTK_AV!E$5,0),"") -> 0 | F21: =IF(ISNA(VLOOKUP($A21,DSLOP,DTK_AV!F$5,0))=FALSE,VLOOKUP($A21,DSLOP,DTK_AV!F$5,0),"") -> 0 | Q21: =ROUND(SUM(IF(ISNUMBER(O21),O21,0 )*0.6,IF(ISNUMBER(P21),P21,0 )*0.4),1) -> 0 | R21: =IF(OR(Q21<4,$R$8<>100%),0,ROUND(SUMPRODUCT(G21:Q21,$G$8:$Q$8)/$R$8,1)) -> 0 | S21: =VLOOKUP(R21,$V:$W,2,0) -> Không | T21: =IF(ISNA(VLOOKUP($A21,DSLOP,DTK_AV!T$5,0))=FALSE,VLOOKUP($A21,DSLOP,DTK_AV!T$5,0),"") -> 0 | V21: 2.5 | W21: Hai Phẩy Năm
... A79: =A78+1 -> 71 | B79: =IF(ISNA(VLOOKUP($A79,DSLOP,DTK_AV!B$5,0))=FALSE,VLOOKUP($A79,DSLOP,DTK_AV!B$5,0),"") | C79: =IF(ISNA(VLOOKUP($A79,DSLOP,DTK_AV!C$5,0))=FALSE,VLOOKUP($A79,DSLOP,DTK_AV!C$5,0),"") | D79: =IF(ISNA(VLOOKUP($A79,DSLOP,DTK_AV!D$5,0))=FALSE,VLOOKUP($A79,DSLOP,DTK_AV!D$5,0),"") | E79: =IF(ISNA(VLOOKUP($A79,DSLOP,DTK_AV!E$5,0))=FALSE,VLOOKUP($A79,DSLOP,DTK_AV!E$5,0),"") | F79: =IF(ISNA(VLOOKUP($A79,DSLOP,DTK_AV!F$5,0))=FALSE,VLOOKUP($A79,DSLOP,DTK_AV!F$5,0),"") | Q79: =ROUND(SUM(IF(ISNUMBER(O79),O79,0 )*0.6,IF(ISNUMBER(P79),P79,0 )*0.4),1) -> 0 | R79: =IF(OR(Q79<4,$R$8<>100%),0,ROUND(SUMPRODUCT(G79:Q79,$G$8:$Q$8)/$R$8,1)) -> 0 | S79: =VLOOKUP(R79,$V:$W,2,0) -> Không | T79: =IF(ISNA(VLOOKUP($A79,DSLOP,DTK_AV!T$5,0))=FALSE,VLOOKUP($A79,DSLOP,DTK_AV!T$5,0),"") | V79: 8.3 | W79: Tám Phẩy Ba
V80: 8.4 | W80: Tám Phẩy Bốn
B81: STT | C81: NỘI DUNG THỐNG KÊ | E81: SỐ LƯỢNG | F81: TỶ LỆ (%) | G81: GHI CHÚ | V81: 8.5 | W81: Tám Phẩy Năm
B82: 1 | C82: Số học viên đạt | E82: =COUNTIF($R$9:$R$79,">=4") -> 0 | F82: =E82/$E$84 -> 0 | V82: 8.6 | W82: Tám Phẩy Sáu
B83: 2 | C83: Số học viên nợ | E83: =COUNTIF($R$9:$R$79,"<4") -> 71 | F83: =E83/$E$84 -> 1 | V83: 8.7 | W83: Tám Phẩy Bảy
B84: TỔNG CỘNG : | E84: =SUM(E82:E83) -> 71 | F84: =SUM(F82:G83) -> 1 | V84: 8.8 | W84: Tám Phẩy Tám
S85: ="Đà Nẵng, " & TEXT(TODAY(),"dd/mm/yyyy") -> Đà Nẵng, 05/11/2026 | V85: 8.9 | W85: Tám Phẩy Chín
B86: NGƯỜI LẬP | E86: NGƯỜI KIỂM TRA | L86: LÃNH ĐẠO KHOA | S86: TP. ĐÀO TẠO ĐH & SAU ĐH | V86: 9 | W86: Chín
L87: (Ký ghi rõ họ tên) | V87: 9.1 | W87: Chín Phẩy Một
V88: 9.2 | W88: Chín Phẩy Hai
V89: 9.3 | W89: Chín Phẩy Ba
V90: 9.4 | W90: ChínPhẩy Bốn
A91: Nguyễn Hồng Giang | S91: TS. Nguyễn Phi Sơn | V91: 9.5 | W91: Chín Phẩy Năm
V92: 9.6 | W92: Chín Phẩy Sáu
V93: 9.7 | W93: ChínPhẩy Bảy
V94: DC | W94: Đình chỉ
V95: L | W95: Nợ LP
V96: P | W96: Nợ HP
V97: V | W97: Vắng

Sheet DS_THI
B1: BỘ GIÁO DỤC & ĐÀO TẠO | E1: =DSSV!D1 -> BẢNG ĐIỂM TỔNG KẾT HỌC PHẦN
B2: ĐẠI HỌC DUY TÂN | E2: ="LỚP: "&UPPER(DSSV!$T$3)&" * CHUYÊN NGÀNH: "&VLOOKUP(RIGHT(DSSV!R1,4),CODEMON!$K$3:$L$27,2,0) -> LỚP: K31MPM1 * CHUYÊN NGÀNH: TỔ CHỨC QUẢN LÝ DƯỢC | M2: ="Số TC : " & DSSV!R2 -> Số TC : 2
B3: ="MÔN: "&UPPER(DSSV!G2)&" * " & "MÃ MÔN: "&DSSV!G3 -> MÔN: GEN DƯỢC HỌC * MÃ MÔN: BIO 622 | M3: ="Học kỳ : " &DSSV!R3 -> Học kỳ : 1 | O3: 31
B4: 1 | C4: 2 | D4: 3 | E4: 4 | F4: 5 | G4: 6 | H4: 7 | M4: 19
B5: =DSSV!$A$4 & " - Phòng : "&O5&" * "&DSSV!$E$3 -> Thời gian: 19h30 ngày 10/7/2026 - Phòng : 901B * 254 Nguyễn Văn Linh | M5: ="Lần thi : "&DSSV!$R$4 -> Lần thi : 1 | O5: =IF(ISERROR(FIND("-",$Q$5)),$Q$5,LEFT($Q$5,FIND("-",$Q$5)-1)) -> 901B | P5: <<---- | Q5: =DSSV!$A$3 -> 901B
A6: STT | B6: STT | C6: MÃ HỌC VIÊN | D6: HỌ VÀ TÊN | F6: GIỚI | G6: NGÀY SINH | H6: LỚP | I6: SỐ TỜ | J6: KÝ TÊN | K6: ĐIỂM THI | M6: GHI CHÚ
K7: SỐ | L7: CHỮ
A8: =IF(ISNUMBER(N8),N8+1,IF(B8<=$O$3,A7+1,"")) -> 1 | B8: 1 | C8: =IF(ISNA(VLOOKUP($A8,DSLOP,DS_THI!C$4,0))=FALSE,VLOOKUP($A8,DSLOP,DS_THI!C$4,0),"") -> 31315270077 | D8: =IF(ISNA(VLOOKUP($A8,DSLOP,DS_THI!D$4,0))=FALSE,VLOOKUP($A8,DSLOP,DS_THI!D$4,0),"") -> Đặng Công | E8: =IF(ISNA(VLOOKUP($A8,DSLOP,DS_THI!E$4,0))=FALSE,VLOOKUP($A8,DSLOP,DS_THI!E$4,0),"") -> Luận | F8: =IF(ISNA(VLOOKUP($A8,DSLOP,DS_THI!F$4,0))=FALSE,VLOOKUP($A8,DSLOP,DS_THI!F$4,0),"") -> Nam | G8: =IF(ISNA(VLOOKUP($A8,DSLOP,DS_THI!G$4,0))=FALSE,VLOOKUP($A8,DSLOP,DS_THI!G$4,0),"") -> 27/01/2001 | H8: =IF(ISNA(VLOOKUP($A8,DSLOP,DS_THI!H$4,0))=FALSE,VLOOKUP($A8,DSLOP,DS_THI!H$4,0),"") -> K31MPM1 | M8: =IF($C8<>0,IF(ISNA(VLOOKUP($A8,DSLOP,DS_THI!M$4,0))=FALSE,VLOOKUP($A8,DSLOP,DS_THI!M$4,0),""),"") -> 0 | N8: 0
A9: =IF(ISNUMBER(N9),N9+1,IF(B9<=$O$3,A8+1,"")) -> 2 | B9: =B8+1 -> 2 | C9: =IF(ISNA(VLOOKUP($A9,DSLOP,DS_THI!C$4,0))=FALSE,VLOOKUP($A9,DSLOP,DS_THI!C$4,0),"") -> 31305270078 | D9: =IF(ISNA(VLOOKUP($A9,DSLOP,DS_THI!D$4,0))=FALSE,VLOOKUP($A9,DSLOP,DS_THI!D$4,0),"") -> Trần Vương Diễm | E9: =IF(ISNA(VLOOKUP($A9,DSLOP,DS_THI!E$4,0))=FALSE,VLOOKUP($A9,DSLOP,DS_THI!E$4,0),"") -> My | F9: =IF(ISNA(VLOOKUP($A9,DSLOP,DS_THI!F$4,0))=FALSE,VLOOKUP($A9,DSLOP,DS_THI!F$4,0),"") -> Nữ | G9: =IF(ISNA(VLOOKUP($A9,DSLOP,DS_THI!G$4,0))=FALSE,VLOOKUP($A9,DSLOP,DS_THI!G$4,0),"") -> 28/08/1986 | H9: =IF(ISNA(VLOOKUP($A9,DSLOP,DS_THI!H$4,0))=FALSE,VLOOKUP($A9,DSLOP,DS_THI!H$4,0),"") -> K31MPM1 | M9: =IF($C9<>0,IF(ISNA(VLOOKUP($A9,DSLOP,DS_THI!M$4,0))=FALSE,VLOOKUP($A9,DSLOP,DS_THI!M$4,0),""),"") -> Hoãn thi
A10: =IF(ISNUMBER(N10),N10+1,IF(B10<=$O$3,A9+1,"")) -> 3 | B10: =B9+1 -> 3 | C10: =IF(ISNA(VLOOKUP($A10,DSLOP,DS_THI!C$4,0))=FALSE,VLOOKUP($A10,DSLOP,DS_THI!C$4,0),"") -> 31305270079 | D10: =IF(ISNA(VLOOKUP($A10,DSLOP,DS_THI!D$4,0))=FALSE,VLOOKUP($A10,DSLOP,DS_THI!D$4,0),"") -> Nguyễn Yến | E10: =IF(ISNA(VLOOKUP($A10,DSLOP,DS_THI!E$4,0))=FALSE,VLOOKUP($A10,DSLOP,DS_THI!E$4,0),"") -> Nhi | F10: =IF(ISNA(VLOOKUP($A10,DSLOP,DS_THI!F$4,0))=FALSE,VLOOKUP($A10,DSLOP,DS_THI!F$4,0),"") -> Nữ | G10: =IF(ISNA(VLOOKUP($A10,DSLOP,DS_THI!G$4,0))=FALSE,VLOOKUP($A10,DSLOP,DS_THI!G$4,0),"") -> 18/06/1997 | H10: =IF(ISNA(VLOOKUP($A10,DSLOP,DS_THI!H$4,0))=FALSE,VLOOKUP($A10,DSLOP,DS_THI!H$4,0),"") -> K31MPM1 | M10: =IF($C10<>0,IF(ISNA(VLOOKUP($A10,DSLOP,DS_THI!M$4,0))=FALSE,VLOOKUP($A10,DSLOP,DS_THI!M$4,0),""),"") -> 0
A11: =IF(ISNUMBER(N11),N11+1,IF(B11<=$O$3,A10+1,"")) -> 4 | B11: =B10+1 -> 4 | C11: =IF(ISNA(VLOOKUP($A11,DSLOP,DS_THI!C$4,0))=FALSE,VLOOKUP($A11,DSLOP,DS_THI!C$4,0),"") -> 31305270080 | D11: =IF(ISNA(VLOOKUP($A11,DSLOP,DS_THI!D$4,0))=FALSE,VLOOKUP($A11,DSLOP,DS_THI!D$4,0),"") -> Bùi Thị Phương | E11: =IF(ISNA(VLOOKUP($A11,DSLOP,DS_THI!E$4,0))=FALSE,VLOOKUP($A11,DSLOP,DS_THI!E$4,0),"") -> Uyên | F11: =IF(ISNA(VLOOKUP($A11,DSLOP,DS_THI!F$4,0))=FALSE,VLOOKUP($A11,DSLOP,DS_THI!F$4,0),"") -> Nữ | G11: =IF(ISNA(VLOOKUP($A11,DSLOP,DS_THI!G$4,0))=FALSE,VLOOKUP($A11,DSLOP,DS_THI!G$4,0),"") -> 22/09/1998 | H11: =IF(ISNA(VLOOKUP($A11,DSLOP,DS_THI!H$4,0))=FALSE,VLOOKUP($A11,DSLOP,DS_THI!H$4,0),"") -> K31MPM1 | M11: =IF($C11<>0,IF(ISNA(VLOOKUP($A11,DSLOP,DS_THI!M$4,0))=FALSE,VLOOKUP($A11,DSLOP,DS_THI!M$4,0),""),"") -> 0
A12: =IF(ISNUMBER(N12),N12+1,IF(B12<=$O$3,A11+1,"")) -> 5 | B12: =B11+1 -> 5 | C12: =IF(ISNA(VLOOKUP($A12,DSLOP,DS_THI!C$4,0))=FALSE,VLOOKUP($A12,DSLOP,DS_THI!C$4,0),"") -> 31315270081 | D12: =IF(ISNA(VLOOKUP($A12,DSLOP,DS_THI!D$4,0))=FALSE,VLOOKUP($A12,DSLOP,DS_THI!D$4,0),"") -> Nguyễn Văn | E12: =IF(ISNA(VLOOKUP($A12,DSLOP,DS_THI!E$4,0))=FALSE,VLOOKUP($A12,DSLOP,DS_THI!E$4,0),"") -> Quý | F12: =IF(ISNA(VLOOKUP($A12,DSLOP,DS_THI!F$4,0))=FALSE,VLOOKUP($A12,DSLOP,DS_THI!F$4,0),"") -> Nam | G12: =IF(ISNA(VLOOKUP($A12,DSLOP,DS_THI!G$4,0))=FALSE,VLOOKUP($A12,DSLOP,DS_THI!G$4,0),"") -> 15/09/1981 | H12: =IF(ISNA(VLOOKUP($A12,DSLOP,DS_THI!H$4,0))=FALSE,VLOOKUP($A12,DSLOP,DS_THI!H$4,0),"") -> K31MPM1 | M12: =IF($C12<>0,IF(ISNA(VLOOKUP($A12,DSLOP,DS_THI!M$4,0))=FALSE,VLOOKUP($A12,DSLOP,DS_THI!M$4,0),""),"") -> 0
A13: =IF(ISNUMBER(N13),N13+1,IF(B13<=$O$3,A12+1,"")) -> 6 | B13: =B12+1 -> 6 | C13: =IF(ISNA(VLOOKUP($A13,DSLOP,DS_THI!C$4,0))=FALSE,VLOOKUP($A13,DSLOP,DS_THI!C$4,0),"") -> 31305270082 | D13: =IF(ISNA(VLOOKUP($A13,DSLOP,DS_THI!D$4,0))=FALSE,VLOOKUP($A13,DSLOP,DS_THI!D$4,0),"") -> Nguyễn Huỳnh Ái | E13: =IF(ISNA(VLOOKUP($A13,DSLOP,DS_THI!E$4,0))=FALSE,VLOOKUP($A13,DSLOP,DS_THI!E$4,0),"") -> Thi | F13: =IF(ISNA(VLOOKUP($A13,DSLOP,DS_THI!F$4,0))=FALSE,VLOOKUP($A13,DSLOP,DS_THI!F$4,0),"") -> Nữ | G13: =IF(ISNA(VLOOKUP($A13,DSLOP,DS_THI!G$4,0))=FALSE,VLOOKUP($A13,DSLOP,DS_THI!G$4,0),"") -> 28/06/2002 | H13: =IF(ISNA(VLOOKUP($A13,DSLOP,DS_THI!H$4,0))=FALSE,VLOOKUP($A13,DSLOP,DS_THI!H$4,0),"") -> K31MPM1 | M13: =IF($C13<>0,IF(ISNA(VLOOKUP($A13,DSLOP,DS_THI!M$4,0))=FALSE,VLOOKUP($A13,DSLOP,DS_THI!M$4,0),""),"") -> 0
A14: =IF(ISNUMBER(N14),N14+1,IF(B14<=$O$3,A13+1,"")) -> 7 | B14: =B13+1 -> 7 | C14: =IF(ISNA(VLOOKUP($A14,DSLOP,DS_THI!C$4,0))=FALSE,VLOOKUP($A14,DSLOP,DS_THI!C$4,0),"") -> 0 | D14: =IF(ISNA(VLOOKUP($A14,DSLOP,DS_THI!D$4,0))=FALSE,VLOOKUP($A14,DSLOP,DS_THI!D$4,0),"") -> 0 | E14: =IF(ISNA(VLOOKUP($A14,DSLOP,DS_THI!E$4,0))=FALSE,VLOOKUP($A14,DSLOP,DS_THI!E$4,0),"") -> 0 | F14: =IF(ISNA(VLOOKUP($A14,DSLOP,DS_THI!F$4,0))=FALSE,VLOOKUP($A14,DSLOP,DS_THI!F$4,0),"") -> 0 | G14: =IF(ISNA(VLOOKUP($A14,DSLOP,DS_THI!G$4,0))=FALSE,VLOOKUP($A14,DSLOP,DS_THI!G$4,0),"") -> 0 | H14: =IF(ISNA(VLOOKUP($A14,DSLOP,DS_THI!H$4,0))=FALSE,VLOOKUP($A14,DSLOP,DS_THI!H$4,0),"") -> 0 | M14: =IF($C14<>0,IF(ISNA(VLOOKUP($A14,DSLOP,DS_THI!M$4,0))=FALSE,VLOOKUP($A14,DSLOP,DS_THI!M$4,0),""),"")
A15: =IF(ISNUMBER(N15),N15+1,IF(B15<=$O$3,A14+1,"")) -> 8 | B15: =B14+1 -> 8 | C15: =IF(ISNA(VLOOKUP($A15,DSLOP,DS_THI!C$4,0))=FALSE,VLOOKUP($A15,DSLOP,DS_THI!C$4,0),"") -> 0 | D15: =IF(ISNA(VLOOKUP($A15,DSLOP,DS_THI!D$4,0))=FALSE,VLOOKUP($A15,DSLOP,DS_THI!D$4,0),"") -> 0 | E15: =IF(ISNA(VLOOKUP($A15,DSLOP,DS_THI!E$4,0))=FALSE,VLOOKUP($A15,DSLOP,DS_THI!E$4,0),"") -> 0 | F15: =IF(ISNA(VLOOKUP($A15,DSLOP,DS_THI!F$4,0))=FALSE,VLOOKUP($A15,DSLOP,DS_THI!F$4,0),"") -> 0 | G15: =IF(ISNA(VLOOKUP($A15,DSLOP,DS_THI!G$4,0))=FALSE,VLOOKUP($A15,DSLOP,DS_THI!G$4,0),"") -> 0 | H15: =IF(ISNA(VLOOKUP($A15,DSLOP,DS_THI!H$4,0))=FALSE,VLOOKUP($A15,DSLOP,DS_THI!H$4,0),"") -> 0 | M15: =IF($C15<>0,IF(ISNA(VLOOKUP($A15,DSLOP,DS_THI!M$4,0))=FALSE,VLOOKUP($A15,DSLOP,DS_THI!M$4,0),""),"")
A16: =IF(ISNUMBER(N16),N16+1,IF(B16<=$O$3,A15+1,"")) -> 9 | B16: =B15+1 -> 9 | C16: =IF(ISNA(VLOOKUP($A16,DSLOP,DS_THI!C$4,0))=FALSE,VLOOKUP($A16,DSLOP,DS_THI!C$4,0),"") -> 0 | D16: =IF(ISNA(VLOOKUP($A16,DSLOP,DS_THI!D$4,0))=FALSE,VLOOKUP($A16,DSLOP,DS_THI!D$4,0),"") -> 0 | E16: =IF(ISNA(VLOOKUP($A16,DSLOP,DS_THI!E$4,0))=FALSE,VLOOKUP($A16,DSLOP,DS_THI!E$4,0),"") -> 0 | F16: =IF(ISNA(VLOOKUP($A16,DSLOP,DS_THI!F$4,0))=FALSE,VLOOKUP($A16,DSLOP,DS_THI!F$4,0),"") -> 0 | G16: =IF(ISNA(VLOOKUP($A16,DSLOP,DS_THI!G$4,0))=FALSE,VLOOKUP($A16,DSLOP,DS_THI!G$4,0),"") -> 0 | H16: =IF(ISNA(VLOOKUP($A16,DSLOP,DS_THI!H$4,0))=FALSE,VLOOKUP($A16,DSLOP,DS_THI!H$4,0),"") -> 0 | M16: =IF($C16<>0,IF(ISNA(VLOOKUP($A16,DSLOP,DS_THI!M$4,0))=FALSE,VLOOKUP($A16,DSLOP,DS_THI!M$4,0),""),"")
A17: =IF(ISNUMBER(N17),N17+1,IF(B17<=$O$3,A16+1,"")) -> 10 | B17: =B16+1 -> 10 | C17: =IF(ISNA(VLOOKUP($A17,DSLOP,DS_THI!C$4,0))=FALSE,VLOOKUP($A17,DSLOP,DS_THI!C$4,0),"") -> 0 | D17: =IF(ISNA(VLOOKUP($A17,DSLOP,DS_THI!D$4,0))=FALSE,VLOOKUP($A17,DSLOP,DS_THI!D$4,0),"") -> 0 | E17: =IF(ISNA(VLOOKUP($A17,DSLOP,DS_THI!E$4,0))=FALSE,VLOOKUP($A17,DSLOP,DS_THI!E$4,0),"") -> 0 | F17: =IF(ISNA(VLOOKUP($A17,DSLOP,DS_THI!F$4,0))=FALSE,VLOOKUP($A17,DSLOP,DS_THI!F$4,0),"") -> 0 | G17: =IF(ISNA(VLOOKUP($A17,DSLOP,DS_THI!G$4,0))=FALSE,VLOOKUP($A17,DSLOP,DS_THI!G$4,0),"") -> 0 | H17: =IF(ISNA(VLOOKUP($A17,DSLOP,DS_THI!H$4,0))=FALSE,VLOOKUP($A17,DSLOP,DS_THI!H$4,0),"") -> 0 | M17: =IF($C17<>0,IF(ISNA(VLOOKUP($A17,DSLOP,DS_THI!M$4,0))=FALSE,VLOOKUP($A17,DSLOP,DS_THI!M$4,0),""),"")
A18: =IF(ISNUMBER(N18),N18+1,IF(B18<=$O$3,A17+1,"")) -> 11 | B18: =B17+1 -> 11 | C18: =IF(ISNA(VLOOKUP($A18,DSLOP,DS_THI!C$4,0))=FALSE,VLOOKUP($A18,DSLOP,DS_THI!C$4,0),"") -> 0 | D18: =IF(ISNA(VLOOKUP($A18,DSLOP,DS_THI!D$4,0))=FALSE,VLOOKUP($A18,DSLOP,DS_THI!D$4,0),"") -> 0 | E18: =IF(ISNA(VLOOKUP($A18,DSLOP,DS_THI!E$4,0))=FALSE,VLOOKUP($A18,DSLOP,DS_THI!E$4,0),"") -> 0 | F18: =IF(ISNA(VLOOKUP($A18,DSLOP,DS_THI!F$4,0))=FALSE,VLOOKUP($A18,DSLOP,DS_THI!F$4,0),"") -> 0 | G18: =IF(ISNA(VLOOKUP($A18,DSLOP,DS_THI!G$4,0))=FALSE,VLOOKUP($A18,DSLOP,DS_THI!G$4,0),"") -> 0 | H18: =IF(ISNA(VLOOKUP($A18,DSLOP,DS_THI!H$4,0))=FALSE,VLOOKUP($A18,DSLOP,DS_THI!H$4,0),"") -> 0 | M18: =IF($C18<>0,IF(ISNA(VLOOKUP($A18,DSLOP,DS_THI!M$4,0))=FALSE,VLOOKUP($A18,DSLOP,DS_THI!M$4,0),""),"")
A19: =IF(ISNUMBER(N19),N19+1,IF(B19<=$O$3,A18+1,"")) -> 12 | B19: =B18+1 -> 12 | C19: =IF(ISNA(VLOOKUP($A19,DSLOP,DS_THI!C$4,0))=FALSE,VLOOKUP($A19,DSLOP,DS_THI!C$4,0),"") -> 0 | D19: =IF(ISNA(VLOOKUP($A19,DSLOP,DS_THI!D$4,0))=FALSE,VLOOKUP($A19,DSLOP,DS_THI!D$4,0),"") -> 0 | E19: =IF(ISNA(VLOOKUP($A19,DSLOP,DS_THI!E$4,0))=FALSE,VLOOKUP($A19,DSLOP,DS_THI!E$4,0),"") -> 0 | F19: =IF(ISNA(VLOOKUP($A19,DSLOP,DS_THI!F$4,0))=FALSE,VLOOKUP($A19,DSLOP,DS_THI!F$4,0),"") -> 0 | G19: =IF(ISNA(VLOOKUP($A19,DSLOP,DS_THI!G$4,0))=FALSE,VLOOKUP($A19,DSLOP,DS_THI!G$4,0),"") -> 0 | H19: =IF(ISNA(VLOOKUP($A19,DSLOP,DS_THI!H$4,0))=FALSE,VLOOKUP($A19,DSLOP,DS_THI!H$4,0),"") -> 0 | M19: =IF($C19<>0,IF(ISNA(VLOOKUP($A19,DSLOP,DS_THI!M$4,0))=FALSE,VLOOKUP($A19,DSLOP,DS_THI!M$4,0),""),"")
A20: =IF(ISNUMBER(N20),N20+1,IF(B20<=$O$3,A19+1,"")) -> 13 | B20: =B19+1 -> 13 | C20: =IF(ISNA(VLOOKUP($A20,DSLOP,DS_THI!C$4,0))=FALSE,VLOOKUP($A20,DSLOP,DS_THI!C$4,0),"") -> 0 | D20: =IF(ISNA(VLOOKUP($A20,DSLOP,DS_THI!D$4,0))=FALSE,VLOOKUP($A20,DSLOP,DS_THI!D$4,0),"") -> 0 | E20: =IF(ISNA(VLOOKUP($A20,DSLOP,DS_THI!E$4,0))=FALSE,VLOOKUP($A20,DSLOP,DS_THI!E$4,0),"") -> 0 | F20: =IF(ISNA(VLOOKUP($A20,DSLOP,DS_THI!F$4,0))=FALSE,VLOOKUP($A20,DSLOP,DS_THI!F$4,0),"") -> 0 | G20: =IF(ISNA(VLOOKUP($A20,DSLOP,DS_THI!G$4,0))=FALSE,VLOOKUP($A20,DSLOP,DS_THI!G$4,0),"") -> 0 | H20: =IF(ISNA(VLOOKUP($A20,DSLOP,DS_THI!H$4,0))=FALSE,VLOOKUP($A20,DSLOP,DS_THI!H$4,0),"") -> 0 | M20: =IF($C20<>0,IF(ISNA(VLOOKUP($A20,DSLOP,DS_THI!M$4,0))=FALSE,VLOOKUP($A20,DSLOP,DS_THI!M$4,0),""),"")
... A39: =IF(ISNUMBER(N39),N39+1,IF(B39<=$O$3,A38+1,"")) | B39: =B38+1 -> 32 | C39: =IF(ISNA(VLOOKUP($A39,DSLOP,DS_THI!C$4,0))=FALSE,VLOOKUP($A39,DSLOP,DS_THI!C$4,0),"") | D39: =IF(ISNA(VLOOKUP($A39,DSLOP,DS_THI!D$4,0))=FALSE,VLOOKUP($A39,DSLOP,DS_THI!D$4,0),"") | E39: =IF(ISNA(VLOOKUP($A39,DSLOP,DS_THI!E$4,0))=FALSE,VLOOKUP($A39,DSLOP,DS_THI!E$4,0),"") | F39: =IF(ISNA(VLOOKUP($A39,DSLOP,DS_THI!F$4,0))=FALSE,VLOOKUP($A39,DSLOP,DS_THI!F$4,0),"") | G39: =IF(ISNA(VLOOKUP($A39,DSLOP,DS_THI!G$4,0))=FALSE,VLOOKUP($A39,DSLOP,DS_THI!G$4,0),"") | H39: =IF(ISNA(VLOOKUP($A39,DSLOP,DS_THI!H$4,0))=FALSE,VLOOKUP($A39,DSLOP,DS_THI!H$4,0),"") | M39: =IF($C39<>0,IF(ISNA(VLOOKUP($A39,DSLOP,DS_THI!M$4,0))=FALSE,VLOOKUP($A39,DSLOP,DS_THI!M$4,0),""),"")
A40: =IF(ISNUMBER(N40),N40+1,IF(B40<=$O$3,A39+1,"")) | B40: =DSSV!$A$4 & " - Phòng : "&O40&" * "&DSSV!$E$3 -> Thời gian: 19h30 ngày 10/7/2026 - Phòng : 901B * 254 Nguyễn Văn Linh | M40: ="Lần thi : "&DSSV!$R$4 -> Lần thi : 1 | O40: =IF(ISERROR(FIND("-",SUBSTITUTE(Q40,O5&"-","",1))),Q40,LEFT(SUBSTITUTE(Q40,O5&"-","",1),FIND("-",SUBSTITUTE(Q40,O5&"-","",1))-1)) -> 901B | P40: <<---- | Q40: =SUBSTITUTE(Q5,O5&"-","",1) -> 901B
A41: =IF(ISNUMBER(N41),N41+1,IF(B41<=$O$3,A40+1,"")) | B41: STT | C41: MÃ HỌC VIÊN | D41: HỌ VÀ TÊN | F41: GIỚI | G41: NGÀY SINH | H41: LỚP | I41: SỐ TỜ | J41: KÝ TÊN | K41: ĐIỂM THI | M41: GHI CHÚ
A42: =IF(ISNUMBER(N42),N42+1,IF(B42<=$O$3,A41+1,"")) -> #VALUE! | K42: SỐ | L42: CHỮ
A43: =IF(ISNUMBER(N43),N43+1,IF(B43<=$O$3,A42+1,"")) -> 32 | B43: 1 | C43: =IF(ISNA(VLOOKUP($A43,DSLOP,DS_THI!C$4,0))=FALSE,VLOOKUP($A43,DSLOP,DS_THI!C$4,0),"") -> 0 | D43: =IF(ISNA(VLOOKUP($A43,DSLOP,DS_THI!D$4,0))=FALSE,VLOOKUP($A43,DSLOP,DS_THI!D$4,0),"") -> 0 | E43: =IF(ISNA(VLOOKUP($A43,DSLOP,DS_THI!E$4,0))=FALSE,VLOOKUP($A43,DSLOP,DS_THI!E$4,0),"") -> 0 | F43: =IF(ISNA(VLOOKUP($A43,DSLOP,DS_THI!F$4,0))=FALSE,VLOOKUP($A43,DSLOP,DS_THI!F$4,0),"") -> 0 | G43: =IF(ISNA(VLOOKUP($A43,DSLOP,DS_THI!G$4,0))=FALSE,VLOOKUP($A43,DSLOP,DS_THI!G$4,0),"") -> 0 | H43: =IF(ISNA(VLOOKUP($A43,DSLOP,DS_THI!H$4,0))=FALSE,VLOOKUP($A43,DSLOP,DS_THI!H$4,0),"") -> 0 | M43: =IF($C43<>0,IF(ISNA(VLOOKUP($A43,DSLOP,DS_THI!M$4,0))=FALSE,VLOOKUP($A43,DSLOP,DS_THI!M$4,0),""),"") | N43: =MAX(A8:A39) -> 31
A44: =IF(ISNUMBER(N44),N44+1,IF(B44<=$O$3,A43+1,"")) -> 33 | B44: =B43+1 -> 2 | C44: =IF(ISNA(VLOOKUP($A44,DSLOP,DS_THI!C$4,0))=FALSE,VLOOKUP($A44,DSLOP,DS_THI!C$4,0),"") -> 0 | D44: =IF(ISNA(VLOOKUP($A44,DSLOP,DS_THI!D$4,0))=FALSE,VLOOKUP($A44,DSLOP,DS_THI!D$4,0),"") -> 0 | E44: =IF(ISNA(VLOOKUP($A44,DSLOP,DS_THI!E$4,0))=FALSE,VLOOKUP($A44,DSLOP,DS_THI!E$4,0),"") -> 0 | F44: =IF(ISNA(VLOOKUP($A44,DSLOP,DS_THI!F$4,0))=FALSE,VLOOKUP($A44,DSLOP,DS_THI!F$4,0),"") -> 0 | G44: =IF(ISNA(VLOOKUP($A44,DSLOP,DS_THI!G$4,0))=FALSE,VLOOKUP($A44,DSLOP,DS_THI!G$4,0),"") -> 0 | H44: =IF(ISNA(VLOOKUP($A44,DSLOP,DS_THI!H$4,0))=FALSE,VLOOKUP($A44,DSLOP,DS_THI!H$4,0),"") -> 0 | M44: =IF($C44<>0,IF(ISNA(VLOOKUP($A44,DSLOP,DS_THI!M$4,0))=FALSE,VLOOKUP($A44,DSLOP,DS_THI!M$4,0),""),"")
A45: =IF(ISNUMBER(N45),N45+1,IF(B45<=$O$3,A44+1,"")) -> 34 | B45: =B44+1 -> 3 | C45: =IF(ISNA(VLOOKUP($A45,DSLOP,DS_THI!C$4,0))=FALSE,VLOOKUP($A45,DSLOP,DS_THI!C$4,0),"") | D45: =IF(ISNA(VLOOKUP($A45,DSLOP,DS_THI!D$4,0))=FALSE,VLOOKUP($A45,DSLOP,DS_THI!D$4,0),"") | E45: =IF(ISNA(VLOOKUP($A45,DSLOP,DS_THI!E$4,0))=FALSE,VLOOKUP($A45,DSLOP,DS_THI!E$4,0),"") | F45: =IF(ISNA(VLOOKUP($A45,DSLOP,DS_THI!F$4,0))=FALSE,VLOOKUP($A45,DSLOP,DS_THI!F$4,0),"") | G45: =IF(ISNA(VLOOKUP($A45,DSLOP,DS_THI!G$4,0))=FALSE,VLOOKUP($A45,DSLOP,DS_THI!G$4,0),"") | H45: =IF(ISNA(VLOOKUP($A45,DSLOP,DS_THI!H$4,0))=FALSE,VLOOKUP($A45,DSLOP,DS_THI!H$4,0),"") | M45: =IF($C45<>0,IF(ISNA(VLOOKUP($A45,DSLOP,DS_THI!M$4,0))=FALSE,VLOOKUP($A45,DSLOP,DS_THI!M$4,0),""),"")
A46: =IF(ISNUMBER(N46),N46+1,IF(B46<=$O$3,A45+1,"")) -> 35 | B46: =B45+1 -> 4 | C46: =IF(ISNA(VLOOKUP($A46,DSLOP,DS_THI!C$4,0))=FALSE,VLOOKUP($A46,DSLOP,DS_THI!C$4,0),"") | D46: =IF(ISNA(VLOOKUP($A46,DSLOP,DS_THI!D$4,0))=FALSE,VLOOKUP($A46,DSLOP,DS_THI!D$4,0),"") | E46: =IF(ISNA(VLOOKUP($A46,DSLOP,DS_THI!E$4,0))=FALSE,VLOOKUP($A46,DSLOP,DS_THI!E$4,0),"") | F46: =IF(ISNA(VLOOKUP($A46,DSLOP,DS_THI!F$4,0))=FALSE,VLOOKUP($A46,DSLOP,DS_THI!F$4,0),"") | G46: =IF(ISNA(VLOOKUP($A46,DSLOP,DS_THI!G$4,0))=FALSE,VLOOKUP($A46,DSLOP,DS_THI!G$4,0),"") | H46: =IF(ISNA(VLOOKUP($A46,DSLOP,DS_THI!H$4,0))=FALSE,VLOOKUP($A46,DSLOP,DS_THI!H$4,0),"") | M46: =IF($C46<>0,IF(ISNA(VLOOKUP($A46,DSLOP,DS_THI!M$4,0))=FALSE,VLOOKUP($A46,DSLOP,DS_THI!M$4,0),""),"")
A47: =IF(ISNUMBER(N47),N47+1,IF(B47<=$O$3,A46+1,"")) -> 36 | B47: =B46+1 -> 5 | C47: =IF(ISNA(VLOOKUP($A47,DSLOP,DS_THI!C$4,0))=FALSE,VLOOKUP($A47,DSLOP,DS_THI!C$4,0),"") | D47: =IF(ISNA(VLOOKUP($A47,DSLOP,DS_THI!D$4,0))=FALSE,VLOOKUP($A47,DSLOP,DS_THI!D$4,0),"") | E47: =IF(ISNA(VLOOKUP($A47,DSLOP,DS_THI!E$4,0))=FALSE,VLOOKUP($A47,DSLOP,DS_THI!E$4,0),"") | F47: =IF(ISNA(VLOOKUP($A47,DSLOP,DS_THI!F$4,0))=FALSE,VLOOKUP($A47,DSLOP,DS_THI!F$4,0),"") | G47: =IF(ISNA(VLOOKUP($A47,DSLOP,DS_THI!G$4,0))=FALSE,VLOOKUP($A47,DSLOP,DS_THI!G$4,0),"") | H47: =IF(ISNA(VLOOKUP($A47,DSLOP,DS_THI!H$4,0))=FALSE,VLOOKUP($A47,DSLOP,DS_THI!H$4,0),"") | M47: =IF($C47<>0,IF(ISNA(VLOOKUP($A47,DSLOP,DS_THI!M$4,0))=FALSE,VLOOKUP($A47,DSLOP,DS_THI!M$4,0),""),"")
A48: =IF(ISNUMBER(N48),N48+1,IF(B48<=$O$3,A47+1,"")) -> 37 | B48: =B47+1 -> 6 | C48: =IF(ISNA(VLOOKUP($A48,DSLOP,DS_THI!C$4,0))=FALSE,VLOOKUP($A48,DSLOP,DS_THI!C$4,0),"") | D48: =IF(ISNA(VLOOKUP($A48,DSLOP,DS_THI!D$4,0))=FALSE,VLOOKUP($A48,DSLOP,DS_THI!D$4,0),"") | E48: =IF(ISNA(VLOOKUP($A48,DSLOP,DS_THI!E$4,0))=FALSE,VLOOKUP($A48,DSLOP,DS_THI!E$4,0),"") | F48: =IF(ISNA(VLOOKUP($A48,DSLOP,DS_THI!F$4,0))=FALSE,VLOOKUP($A48,DSLOP,DS_THI!F$4,0),"") | G48: =IF(ISNA(VLOOKUP($A48,DSLOP,DS_THI!G$4,0))=FALSE,VLOOKUP($A48,DSLOP,DS_THI!G$4,0),"") | H48: =IF(ISNA(VLOOKUP($A48,DSLOP,DS_THI!H$4,0))=FALSE,VLOOKUP($A48,DSLOP,DS_THI!H$4,0),"") | M48: =IF($C48<>0,IF(ISNA(VLOOKUP($A48,DSLOP,DS_THI!M$4,0))=FALSE,VLOOKUP($A48,DSLOP,DS_THI!M$4,0),""),"")
A49: =IF(ISNUMBER(N49),N49+1,IF(B49<=$O$3,A48+1,"")) -> 38 | B49: =B48+1 -> 7 | C49: =IF(ISNA(VLOOKUP($A49,DSLOP,DS_THI!C$4,0))=FALSE,VLOOKUP($A49,DSLOP,DS_THI!C$4,0),"") | D49: =IF(ISNA(VLOOKUP($A49,DSLOP,DS_THI!D$4,0))=FALSE,VLOOKUP($A49,DSLOP,DS_THI!D$4,0),"") | E49: =IF(ISNA(VLOOKUP($A49,DSLOP,DS_THI!E$4,0))=FALSE,VLOOKUP($A49,DSLOP,DS_THI!E$4,0),"") | F49: =IF(ISNA(VLOOKUP($A49,DSLOP,DS_THI!F$4,0))=FALSE,VLOOKUP($A49,DSLOP,DS_THI!F$4,0),"") | G49: =IF(ISNA(VLOOKUP($A49,DSLOP,DS_THI!G$4,0))=FALSE,VLOOKUP($A49,DSLOP,DS_THI!G$4,0),"") | H49: =IF(ISNA(VLOOKUP($A49,DSLOP,DS_THI!H$4,0))=FALSE,VLOOKUP($A49,DSLOP,DS_THI!H$4,0),"") | M49: =IF($C49<>0,IF(ISNA(VLOOKUP($A49,DSLOP,DS_THI!M$4,0))=FALSE,VLOOKUP($A49,DSLOP,DS_THI!M$4,0),""),"")
A50: =IF(ISNUMBER(N50),N50+1,IF(B50<=$O$3,A49+1,"")) -> 39 | B50: =B49+1 -> 8 | C50: =IF(ISNA(VLOOKUP($A50,DSLOP,DS_THI!C$4,0))=FALSE,VLOOKUP($A50,DSLOP,DS_THI!C$4,0),"") | D50: =IF(ISNA(VLOOKUP($A50,DSLOP,DS_THI!D$4,0))=FALSE,VLOOKUP($A50,DSLOP,DS_THI!D$4,0),"") | E50: =IF(ISNA(VLOOKUP($A50,DSLOP,DS_THI!E$4,0))=FALSE,VLOOKUP($A50,DSLOP,DS_THI!E$4,0),"") | F50: =IF(ISNA(VLOOKUP($A50,DSLOP,DS_THI!F$4,0))=FALSE,VLOOKUP($A50,DSLOP,DS_THI!F$4,0),"") | G50: =IF(ISNA(VLOOKUP($A50,DSLOP,DS_THI!G$4,0))=FALSE,VLOOKUP($A50,DSLOP,DS_THI!G$4,0),"") | H50: =IF(ISNA(VLOOKUP($A50,DSLOP,DS_THI!H$4,0))=FALSE,VLOOKUP($A50,DSLOP,DS_THI!H$4,0),"") | M50: =IF($C50<>0,IF(ISNA(VLOOKUP($A50,DSLOP,DS_THI!M$4,0))=FALSE,VLOOKUP($A50,DSLOP,DS_THI!M$4,0),""),"")
A51: =IF(ISNUMBER(N51),N51+1,IF(B51<=$O$3,A50+1,"")) -> 40 | B51: =B50+1 -> 9 | C51: =IF(ISNA(VLOOKUP($A51,DSLOP,DS_THI!C$4,0))=FALSE,VLOOKUP($A51,DSLOP,DS_THI!C$4,0),"") | D51: =IF(ISNA(VLOOKUP($A51,DSLOP,DS_THI!D$4,0))=FALSE,VLOOKUP($A51,DSLOP,DS_THI!D$4,0),"") | E51: =IF(ISNA(VLOOKUP($A51,DSLOP,DS_THI!E$4,0))=FALSE,VLOOKUP($A51,DSLOP,DS_THI!E$4,0),"") | F51: =IF(ISNA(VLOOKUP($A51,DSLOP,DS_THI!F$4,0))=FALSE,VLOOKUP($A51,DSLOP,DS_THI!F$4,0),"") | G51: =IF(ISNA(VLOOKUP($A51,DSLOP,DS_THI!G$4,0))=FALSE,VLOOKUP($A51,DSLOP,DS_THI!G$4,0),"") | H51: =IF(ISNA(VLOOKUP($A51,DSLOP,DS_THI!H$4,0))=FALSE,VLOOKUP($A51,DSLOP,DS_THI!H$4,0),"") | M51: =IF($C51<>0,IF(ISNA(VLOOKUP($A51,DSLOP,DS_THI!M$4,0))=FALSE,VLOOKUP($A51,DSLOP,DS_THI!M$4,0),""),"")
A52: =IF(ISNUMBER(N52),N52+1,IF(B52<=$O$3,A51+1,"")) -> 41 | B52: =B51+1 -> 10 | C52: =IF(ISNA(VLOOKUP($A52,DSLOP,DS_THI!C$4,0))=FALSE,VLOOKUP($A52,DSLOP,DS_THI!C$4,0),"") | D52: =IF(ISNA(VLOOKUP($A52,DSLOP,DS_THI!D$4,0))=FALSE,VLOOKUP($A52,DSLOP,DS_THI!D$4,0),"") | E52: =IF(ISNA(VLOOKUP($A52,DSLOP,DS_THI!E$4,0))=FALSE,VLOOKUP($A52,DSLOP,DS_THI!E$4,0),"") | F52: =IF(ISNA(VLOOKUP($A52,DSLOP,DS_THI!F$4,0))=FALSE,VLOOKUP($A52,DSLOP,DS_THI!F$4,0),"") | G52: =IF(ISNA(VLOOKUP($A52,DSLOP,DS_THI!G$4,0))=FALSE,VLOOKUP($A52,DSLOP,DS_THI!G$4,0),"") | H52: =IF(ISNA(VLOOKUP($A52,DSLOP,DS_THI!H$4,0))=FALSE,VLOOKUP($A52,DSLOP,DS_THI!H$4,0),"") | M52: =IF($C52<>0,IF(ISNA(VLOOKUP($A52,DSLOP,DS_THI!M$4,0))=FALSE,VLOOKUP($A52,DSLOP,DS_THI!M$4,0),""),"")
A53: =IF(ISNUMBER(N53),N53+1,IF(B53<=$O$3,A52+1,"")) -> 42 | B53: =B52+1 -> 11 | C53: =IF(ISNA(VLOOKUP($A53,DSLOP,DS_THI!C$4,0))=FALSE,VLOOKUP($A53,DSLOP,DS_THI!C$4,0),"") | D53: =IF(ISNA(VLOOKUP($A53,DSLOP,DS_THI!D$4,0))=FALSE,VLOOKUP($A53,DSLOP,DS_THI!D$4,0),"") | E53: =IF(ISNA(VLOOKUP($A53,DSLOP,DS_THI!E$4,0))=FALSE,VLOOKUP($A53,DSLOP,DS_THI!E$4,0),"") | F53: =IF(ISNA(VLOOKUP($A53,DSLOP,DS_THI!F$4,0))=FALSE,VLOOKUP($A53,DSLOP,DS_THI!F$4,0),"") | G53: =IF(ISNA(VLOOKUP($A53,DSLOP,DS_THI!G$4,0))=FALSE,VLOOKUP($A53,DSLOP,DS_THI!G$4,0),"") | H53: =IF(ISNA(VLOOKUP($A53,DSLOP,DS_THI!H$4,0))=FALSE,VLOOKUP($A53,DSLOP,DS_THI!H$4,0),"") | M53: =IF($C53<>0,IF(ISNA(VLOOKUP($A53,DSLOP,DS_THI!M$4,0))=FALSE,VLOOKUP($A53,DSLOP,DS_THI!M$4,0),""),"")
A54: =IF(ISNUMBER(N54),N54+1,IF(B54<=$O$3,A53+1,"")) -> 43 | B54: =B53+1 -> 12 | C54: =IF(ISNA(VLOOKUP($A54,DSLOP,DS_THI!C$4,0))=FALSE,VLOOKUP($A54,DSLOP,DS_THI!C$4,0),"") | D54: =IF(ISNA(VLOOKUP($A54,DSLOP,DS_THI!D$4,0))=FALSE,VLOOKUP($A54,DSLOP,DS_THI!D$4,0),"") | E54: =IF(ISNA(VLOOKUP($A54,DSLOP,DS_THI!E$4,0))=FALSE,VLOOKUP($A54,DSLOP,DS_THI!E$4,0),"") | F54: =IF(ISNA(VLOOKUP($A54,DSLOP,DS_THI!F$4,0))=FALSE,VLOOKUP($A54,DSLOP,DS_THI!F$4,0),"") | G54: =IF(ISNA(VLOOKUP($A54,DSLOP,DS_THI!G$4,0))=FALSE,VLOOKUP($A54,DSLOP,DS_THI!G$4,0),"") | H54: =IF(ISNA(VLOOKUP($A54,DSLOP,DS_THI!H$4,0))=FALSE,VLOOKUP($A54,DSLOP,DS_THI!H$4,0),"") | M54: =IF($C54<>0,IF(ISNA(VLOOKUP($A54,DSLOP,DS_THI!M$4,0))=FALSE,VLOOKUP($A54,DSLOP,DS_THI!M$4,0),""),"")
A55: =IF(ISNUMBER(N55),N55+1,IF(B55<=$O$3,A54+1,"")) -> 44 | B55: =B54+1 -> 13 | C55: =IF(ISNA(VLOOKUP($A55,DSLOP,DS_THI!C$4,0))=FALSE,VLOOKUP($A55,DSLOP,DS_THI!C$4,0),"") | D55: =IF(ISNA(VLOOKUP($A55,DSLOP,DS_THI!D$4,0))=FALSE,VLOOKUP($A55,DSLOP,DS_THI!D$4,0),"") | E55: =IF(ISNA(VLOOKUP($A55,DSLOP,DS_THI!E$4,0))=FALSE,VLOOKUP($A55,DSLOP,DS_THI!E$4,0),"") | F55: =IF(ISNA(VLOOKUP($A55,DSLOP,DS_THI!F$4,0))=FALSE,VLOOKUP($A55,DSLOP,DS_THI!F$4,0),"") | G55: =IF(ISNA(VLOOKUP($A55,DSLOP,DS_THI!G$4,0))=FALSE,VLOOKUP($A55,DSLOP,DS_THI!G$4,0),"") | H55: =IF(ISNA(VLOOKUP($A55,DSLOP,DS_THI!H$4,0))=FALSE,VLOOKUP($A55,DSLOP,DS_THI!H$4,0),"") | M55: =IF($C55<>0,IF(ISNA(VLOOKUP($A55,DSLOP,DS_THI!M$4,0))=FALSE,VLOOKUP($A55,DSLOP,DS_THI!M$4,0),""),"")
... A74: =IF(ISNUMBER(N74),N74+1,IF(B74<=$O$3,A73+1,"")) | B74: =B73+1 -> 32 | C74: =IF(ISNA(VLOOKUP($A74,DSLOP,DS_THI!C$4,0))=FALSE,VLOOKUP($A74,DSLOP,DS_THI!C$4,0),"") | D74: =IF(ISNA(VLOOKUP($A74,DSLOP,DS_THI!D$4,0))=FALSE,VLOOKUP($A74,DSLOP,DS_THI!D$4,0),"") | E74: =IF(ISNA(VLOOKUP($A74,DSLOP,DS_THI!E$4,0))=FALSE,VLOOKUP($A74,DSLOP,DS_THI!E$4,0),"") | F74: =IF(ISNA(VLOOKUP($A74,DSLOP,DS_THI!F$4,0))=FALSE,VLOOKUP($A74,DSLOP,DS_THI!F$4,0),"") | G74: =IF(ISNA(VLOOKUP($A74,DSLOP,DS_THI!G$4,0))=FALSE,VLOOKUP($A74,DSLOP,DS_THI!G$4,0),"") | H74: =IF(ISNA(VLOOKUP($A74,DSLOP,DS_THI!H$4,0))=FALSE,VLOOKUP($A74,DSLOP,DS_THI!H$4,0),"") | M74: =IF($C74<>0,IF(ISNA(VLOOKUP($A74,DSLOP,DS_THI!M$4,0))=FALSE,VLOOKUP($A74,DSLOP,DS_THI!M$4,0),""),"")
A75: =IF(ISNUMBER(N75),N75+1,IF(B75<=$O$3,A74+1,"")) | B75: =DSSV!$A$4 & " - Phòng : "&O75&" * "&DSSV!$E$3 -> Thời gian: 19h30 ngày 10/7/2026 - Phòng : 901B * 254 Nguyễn Văn Linh | M75: ="Lần thi : "&DSSV!$R$4 -> Lần thi : 1 | O75: =IF(ISERROR(FIND("-",SUBSTITUTE(Q75,O40&"-","",1))),Q75,LEFT(SUBSTITUTE(Q75,O40&"-","",1),FIND("-",SUBSTITUTE(Q75,O40&"-","",1))-1)) -> 901B | P75: <<---- | Q75: =SUBSTITUTE(Q40,O40&"-","",1) -> 901B
A76: =IF(ISNUMBER(N76),N76+1,IF(B76<=$O$3,A75+1,"")) | B76: STT | C76: MÃ HỌC VIÊN | D76: HỌ VÀ TÊN | F76: GIỚI | G76: NGÀY SINH | H76: LỚP | I76: SỐ TỜ | J76: KÝ TÊN | K76: ĐIỂM THI | M76: GHI CHÚ
A77: =IF(ISNUMBER(N77),N77+1,IF(B77<=$O$3,A76+1,"")) -> #VALUE! | K77: SỐ | L77: CHỮ
A78: =IF(ISNUMBER(N78),N78+1,IF(B78<=$O$3,A77+1,"")) -> 63 | B78: 1 | C78: =IF(ISNA(VLOOKUP($A78,DSLOP,DS_THI!C$4,0))=FALSE,VLOOKUP($A78,DSLOP,DS_THI!C$4,0),"") | D78: =IF(ISNA(VLOOKUP($A78,DSLOP,DS_THI!D$4,0))=FALSE,VLOOKUP($A78,DSLOP,DS_THI!D$4,0),"") | E78: =IF(ISNA(VLOOKUP($A78,DSLOP,DS_THI!E$4,0))=FALSE,VLOOKUP($A78,DSLOP,DS_THI!E$4,0),"") | F78: =IF(ISNA(VLOOKUP($A78,DSLOP,DS_THI!F$4,0))=FALSE,VLOOKUP($A78,DSLOP,DS_THI!F$4,0),"") | G78: =IF(ISNA(VLOOKUP($A78,DSLOP,DS_THI!G$4,0))=FALSE,VLOOKUP($A78,DSLOP,DS_THI!G$4,0),"") | H78: =IF(ISNA(VLOOKUP($A78,DSLOP,DS_THI!H$4,0))=FALSE,VLOOKUP($A78,DSLOP,DS_THI!H$4,0),"") | M78: =IF($C78<>0,IF(ISNA(VLOOKUP($A78,DSLOP,DS_THI!M$4,0))=FALSE,VLOOKUP($A78,DSLOP,DS_THI!M$4,0),""),"") | N78: =MAX(A43:A74) -> 62
A79: =IF(ISNUMBER(N79),N79+1,IF(B79<=$O$3,A78+1,"")) -> 64 | B79: =B78+1 -> 2 | C79: =IF(ISNA(VLOOKUP($A79,DSLOP,DS_THI!C$4,0))=FALSE,VLOOKUP($A79,DSLOP,DS_THI!C$4,0),"") | D79: =IF(ISNA(VLOOKUP($A79,DSLOP,DS_THI!D$4,0))=FALSE,VLOOKUP($A79,DSLOP,DS_THI!D$4,0),"") | E79: =IF(ISNA(VLOOKUP($A79,DSLOP,DS_THI!E$4,0))=FALSE,VLOOKUP($A79,DSLOP,DS_THI!E$4,0),"") | F79: =IF(ISNA(VLOOKUP($A79,DSLOP,DS_THI!F$4,0))=FALSE,VLOOKUP($A79,DSLOP,DS_THI!F$4,0),"") | G79: =IF(ISNA(VLOOKUP($A79,DSLOP,DS_THI!G$4,0))=FALSE,VLOOKUP($A79,DSLOP,DS_THI!G$4,0),"") | H79: =IF(ISNA(VLOOKUP($A79,DSLOP,DS_THI!H$4,0))=FALSE,VLOOKUP($A79,DSLOP,DS_THI!H$4,0),"") | M79: =IF($C79<>0,IF(ISNA(VLOOKUP($A79,DSLOP,DS_THI!M$4,0))=FALSE,VLOOKUP($A79,DSLOP,DS_THI!M$4,0),""),"")
A80: =IF(ISNUMBER(N80),N80+1,IF(B80<=$O$3,A79+1,"")) -> 65 | B80: =B79+1 -> 3 | C80: =IF(ISNA(VLOOKUP($A80,DSLOP,DS_THI!C$4,0))=FALSE,VLOOKUP($A80,DSLOP,DS_THI!C$4,0),"") | D80: =IF(ISNA(VLOOKUP($A80,DSLOP,DS_THI!D$4,0))=FALSE,VLOOKUP($A80,DSLOP,DS_THI!D$4,0),"") | E80: =IF(ISNA(VLOOKUP($A80,DSLOP,DS_THI!E$4,0))=FALSE,VLOOKUP($A80,DSLOP,DS_THI!E$4,0),"") | F80: =IF(ISNA(VLOOKUP($A80,DSLOP,DS_THI!F$4,0))=FALSE,VLOOKUP($A80,DSLOP,DS_THI!F$4,0),"") | G80: =IF(ISNA(VLOOKUP($A80,DSLOP,DS_THI!G$4,0))=FALSE,VLOOKUP($A80,DSLOP,DS_THI!G$4,0),"") | H80: =IF(ISNA(VLOOKUP($A80,DSLOP,DS_THI!H$4,0))=FALSE,VLOOKUP($A80,DSLOP,DS_THI!H$4,0),"") | M80: =IF($C80<>0,IF(ISNA(VLOOKUP($A80,DSLOP,DS_THI!M$4,0))=FALSE,VLOOKUP($A80,DSLOP,DS_THI!M$4,0),""),"")
A81: =IF(ISNUMBER(N81),N81+1,IF(B81<=$O$3,A80+1,"")) -> 66 | B81: =B80+1 -> 4 | C81: =IF(ISNA(VLOOKUP($A81,DSLOP,DS_THI!C$4,0))=FALSE,VLOOKUP($A81,DSLOP,DS_THI!C$4,0),"") | D81: =IF(ISNA(VLOOKUP($A81,DSLOP,DS_THI!D$4,0))=FALSE,VLOOKUP($A81,DSLOP,DS_THI!D$4,0),"") | E81: =IF(ISNA(VLOOKUP($A81,DSLOP,DS_THI!E$4,0))=FALSE,VLOOKUP($A81,DSLOP,DS_THI!E$4,0),"") | F81: =IF(ISNA(VLOOKUP($A81,DSLOP,DS_THI!F$4,0))=FALSE,VLOOKUP($A81,DSLOP,DS_THI!F$4,0),"") | G81: =IF(ISNA(VLOOKUP($A81,DSLOP,DS_THI!G$4,0))=FALSE,VLOOKUP($A81,DSLOP,DS_THI!G$4,0),"") | H81: =IF(ISNA(VLOOKUP($A81,DSLOP,DS_THI!H$4,0))=FALSE,VLOOKUP($A81,DSLOP,DS_THI!H$4,0),"") | M81: =IF($C81<>0,IF(ISNA(VLOOKUP($A81,DSLOP,DS_THI!M$4,0))=FALSE,VLOOKUP($A81,DSLOP,DS_THI!M$4,0),""),"")
A82: =IF(ISNUMBER(N82),N82+1,IF(B82<=$O$3,A81+1,"")) -> 67 | B82: =B81+1 -> 5 | C82: =IF(ISNA(VLOOKUP($A82,DSLOP,DS_THI!C$4,0))=FALSE,VLOOKUP($A82,DSLOP,DS_THI!C$4,0),"") | D82: =IF(ISNA(VLOOKUP($A82,DSLOP,DS_THI!D$4,0))=FALSE,VLOOKUP($A82,DSLOP,DS_THI!D$4,0),"") | E82: =IF(ISNA(VLOOKUP($A82,DSLOP,DS_THI!E$4,0))=FALSE,VLOOKUP($A82,DSLOP,DS_THI!E$4,0),"") | F82: =IF(ISNA(VLOOKUP($A82,DSLOP,DS_THI!F$4,0))=FALSE,VLOOKUP($A82,DSLOP,DS_THI!F$4,0),"") | G82: =IF(ISNA(VLOOKUP($A82,DSLOP,DS_THI!G$4,0))=FALSE,VLOOKUP($A82,DSLOP,DS_THI!G$4,0),"") | H82: =IF(ISNA(VLOOKUP($A82,DSLOP,DS_THI!H$4,0))=FALSE,VLOOKUP($A82,DSLOP,DS_THI!H$4,0),"") | M82: =IF($C82<>0,IF(ISNA(VLOOKUP($A82,DSLOP,DS_THI!M$4,0))=FALSE,VLOOKUP($A82,DSLOP,DS_THI!M$4,0),""),"")
A83: =IF(ISNUMBER(N83),N83+1,IF(B83<=$O$3,A82+1,"")) -> 68 | B83: =B82+1 -> 6 | C83: =IF(ISNA(VLOOKUP($A83,DSLOP,DS_THI!C$4,0))=FALSE,VLOOKUP($A83,DSLOP,DS_THI!C$4,0),"") | D83: =IF(ISNA(VLOOKUP($A83,DSLOP,DS_THI!D$4,0))=FALSE,VLOOKUP($A83,DSLOP,DS_THI!D$4,0),"") | E83: =IF(ISNA(VLOOKUP($A83,DSLOP,DS_THI!E$4,0))=FALSE,VLOOKUP($A83,DSLOP,DS_THI!E$4,0),"") | F83: =IF(ISNA(VLOOKUP($A83,DSLOP,DS_THI!F$4,0))=FALSE,VLOOKUP($A83,DSLOP,DS_THI!F$4,0),"") | G83: =IF(ISNA(VLOOKUP($A83,DSLOP,DS_THI!G$4,0))=FALSE,VLOOKUP($A83,DSLOP,DS_THI!G$4,0),"") | H83: =IF(ISNA(VLOOKUP($A83,DSLOP,DS_THI!H$4,0))=FALSE,VLOOKUP($A83,DSLOP,DS_THI!H$4,0),"") | M83: =IF($C83<>0,IF(ISNA(VLOOKUP($A83,DSLOP,DS_THI!M$4,0))=FALSE,VLOOKUP($A83,DSLOP,DS_THI!M$4,0),""),"")
A84: =IF(ISNUMBER(N84),N84+1,IF(B84<=$O$3,A83+1,"")) -> 69 | B84: =B83+1 -> 7 | C84: =IF(ISNA(VLOOKUP($A84,DSLOP,DS_THI!C$4,0))=FALSE,VLOOKUP($A84,DSLOP,DS_THI!C$4,0),"") | D84: =IF(ISNA(VLOOKUP($A84,DSLOP,DS_THI!D$4,0))=FALSE,VLOOKUP($A84,DSLOP,DS_THI!D$4,0),"") | E84: =IF(ISNA(VLOOKUP($A84,DSLOP,DS_THI!E$4,0))=FALSE,VLOOKUP($A84,DSLOP,DS_THI!E$4,0),"") | F84: =IF(ISNA(VLOOKUP($A84,DSLOP,DS_THI!F$4,0))=FALSE,VLOOKUP($A84,DSLOP,DS_THI!F$4,0),"") | G84: =IF(ISNA(VLOOKUP($A84,DSLOP,DS_THI!G$4,0))=FALSE,VLOOKUP($A84,DSLOP,DS_THI!G$4,0),"") | H84: =IF(ISNA(VLOOKUP($A84,DSLOP,DS_THI!H$4,0))=FALSE,VLOOKUP($A84,DSLOP,DS_THI!H$4,0),"") | M84: =IF($C84<>0,IF(ISNA(VLOOKUP($A84,DSLOP,DS_THI!M$4,0))=FALSE,VLOOKUP($A84,DSLOP,DS_THI!M$4,0),""),"")
A85: =IF(ISNUMBER(N85),N85+1,IF(B85<=$O$3,A84+1,"")) -> 70 | B85: =B84+1 -> 8 | C85: =IF(ISNA(VLOOKUP($A85,DSLOP,DS_THI!C$4,0))=FALSE,VLOOKUP($A85,DSLOP,DS_THI!C$4,0),"") | D85: =IF(ISNA(VLOOKUP($A85,DSLOP,DS_THI!D$4,0))=FALSE,VLOOKUP($A85,DSLOP,DS_THI!D$4,0),"") | E85: =IF(ISNA(VLOOKUP($A85,DSLOP,DS_THI!E$4,0))=FALSE,VLOOKUP($A85,DSLOP,DS_THI!E$4,0),"") | F85: =IF(ISNA(VLOOKUP($A85,DSLOP,DS_THI!F$4,0))=FALSE,VLOOKUP($A85,DSLOP,DS_THI!F$4,0),"") | G85: =IF(ISNA(VLOOKUP($A85,DSLOP,DS_THI!G$4,0))=FALSE,VLOOKUP($A85,DSLOP,DS_THI!G$4,0),"") | H85: =IF(ISNA(VLOOKUP($A85,DSLOP,DS_THI!H$4,0))=FALSE,VLOOKUP($A85,DSLOP,DS_THI!H$4,0),"") | M85: =IF($C85<>0,IF(ISNA(VLOOKUP($A85,DSLOP,DS_THI!M$4,0))=FALSE,VLOOKUP($A85,DSLOP,DS_THI!M$4,0),""),"")
A86: =IF(ISNUMBER(N86),N86+1,IF(B86<=$O$3,A85+1,"")) -> 71 | B86: =B85+1 -> 9 | C86: =IF(ISNA(VLOOKUP($A86,DSLOP,DS_THI!C$4,0))=FALSE,VLOOKUP($A86,DSLOP,DS_THI!C$4,0),"") | D86: =IF(ISNA(VLOOKUP($A86,DSLOP,DS_THI!D$4,0))=FALSE,VLOOKUP($A86,DSLOP,DS_THI!D$4,0),"") | E86: =IF(ISNA(VLOOKUP($A86,DSLOP,DS_THI!E$4,0))=FALSE,VLOOKUP($A86,DSLOP,DS_THI!E$4,0),"") | F86: =IF(ISNA(VLOOKUP($A86,DSLOP,DS_THI!F$4,0))=FALSE,VLOOKUP($A86,DSLOP,DS_THI!F$4,0),"") | G86: =IF(ISNA(VLOOKUP($A86,DSLOP,DS_THI!G$4,0))=FALSE,VLOOKUP($A86,DSLOP,DS_THI!G$4,0),"") | H86: =IF(ISNA(VLOOKUP($A86,DSLOP,DS_THI!H$4,0))=FALSE,VLOOKUP($A86,DSLOP,DS_THI!H$4,0),"") | M86: =IF($C86<>0,IF(ISNA(VLOOKUP($A86,DSLOP,DS_THI!M$4,0))=FALSE,VLOOKUP($A86,DSLOP,DS_THI!M$4,0),""),"")
A87: =IF(ISNUMBER(N87),N87+1,IF(B87<=$O$3,A86+1,"")) -> 72 | B87: =B86+1 -> 10 | C87: =IF(ISNA(VLOOKUP($A87,DSLOP,DS_THI!C$4,0))=FALSE,VLOOKUP($A87,DSLOP,DS_THI!C$4,0),"") | D87: =IF(ISNA(VLOOKUP($A87,DSLOP,DS_THI!D$4,0))=FALSE,VLOOKUP($A87,DSLOP,DS_THI!D$4,0),"") | E87: =IF(ISNA(VLOOKUP($A87,DSLOP,DS_THI!E$4,0))=FALSE,VLOOKUP($A87,DSLOP,DS_THI!E$4,0),"") | F87: =IF(ISNA(VLOOKUP($A87,DSLOP,DS_THI!F$4,0))=FALSE,VLOOKUP($A87,DSLOP,DS_THI!F$4,0),"") | G87: =IF(ISNA(VLOOKUP($A87,DSLOP,DS_THI!G$4,0))=FALSE,VLOOKUP($A87,DSLOP,DS_THI!G$4,0),"") | H87: =IF(ISNA(VLOOKUP($A87,DSLOP,DS_THI!H$4,0))=FALSE,VLOOKUP($A87,DSLOP,DS_THI!H$4,0),"") | M87: =IF($C87<>0,IF(ISNA(VLOOKUP($A87,DSLOP,DS_THI!M$4,0))=FALSE,VLOOKUP($A87,DSLOP,DS_THI!M$4,0),""),"")
A88: =IF(ISNUMBER(N88),N88+1,IF(B88<=$O$3,A87+1,"")) -> 73 | B88: =B87+1 -> 11 | C88: =IF(ISNA(VLOOKUP($A88,DSLOP,DS_THI!C$4,0))=FALSE,VLOOKUP($A88,DSLOP,DS_THI!C$4,0),"") | D88: =IF(ISNA(VLOOKUP($A88,DSLOP,DS_THI!D$4,0))=FALSE,VLOOKUP($A88,DSLOP,DS_THI!D$4,0),"") | E88: =IF(ISNA(VLOOKUP($A88,DSLOP,DS_THI!E$4,0))=FALSE,VLOOKUP($A88,DSLOP,DS_THI!E$4,0),"") | F88: =IF(ISNA(VLOOKUP($A88,DSLOP,DS_THI!F$4,0))=FALSE,VLOOKUP($A88,DSLOP,DS_THI!F$4,0),"") | G88: =IF(ISNA(VLOOKUP($A88,DSLOP,DS_THI!G$4,0))=FALSE,VLOOKUP($A88,DSLOP,DS_THI!G$4,0),"") | H88: =IF(ISNA(VLOOKUP($A88,DSLOP,DS_THI!H$4,0))=FALSE,VLOOKUP($A88,DSLOP,DS_THI!H$4,0),"") | M88: =IF($C88<>0,IF(ISNA(VLOOKUP($A88,DSLOP,DS_THI!M$4,0))=FALSE,VLOOKUP($A88,DSLOP,DS_THI!M$4,0),""),"")
A89: =IF(ISNUMBER(N89),N89+1,IF(B89<=$O$3,A88+1,"")) -> 74 | B89: =B88+1 -> 12 | C89: =IF(ISNA(VLOOKUP($A89,DSLOP,DS_THI!C$4,0))=FALSE,VLOOKUP($A89,DSLOP,DS_THI!C$4,0),"") | D89: =IF(ISNA(VLOOKUP($A89,DSLOP,DS_THI!D$4,0))=FALSE,VLOOKUP($A89,DSLOP,DS_THI!D$4,0),"") | E89: =IF(ISNA(VLOOKUP($A89,DSLOP,DS_THI!E$4,0))=FALSE,VLOOKUP($A89,DSLOP,DS_THI!E$4,0),"") | F89: =IF(ISNA(VLOOKUP($A89,DSLOP,DS_THI!F$4,0))=FALSE,VLOOKUP($A89,DSLOP,DS_THI!F$4,0),"") | G89: =IF(ISNA(VLOOKUP($A89,DSLOP,DS_THI!G$4,0))=FALSE,VLOOKUP($A89,DSLOP,DS_THI!G$4,0),"") | H89: =IF(ISNA(VLOOKUP($A89,DSLOP,DS_THI!H$4,0))=FALSE,VLOOKUP($A89,DSLOP,DS_THI!H$4,0),"") | M89: =IF($C89<>0,IF(ISNA(VLOOKUP($A89,DSLOP,DS_THI!M$4,0))=FALSE,VLOOKUP($A89,DSLOP,DS_THI!M$4,0),""),"")
A90: =IF(ISNUMBER(N90),N90+1,IF(B90<=$O$3,A89+1,"")) -> 75 | B90: =B89+1 -> 13 | C90: =IF(ISNA(VLOOKUP($A90,DSLOP,DS_THI!C$4,0))=FALSE,VLOOKUP($A90,DSLOP,DS_THI!C$4,0),"") | D90: =IF(ISNA(VLOOKUP($A90,DSLOP,DS_THI!D$4,0))=FALSE,VLOOKUP($A90,DSLOP,DS_THI!D$4,0),"") | E90: =IF(ISNA(VLOOKUP($A90,DSLOP,DS_THI!E$4,0))=FALSE,VLOOKUP($A90,DSLOP,DS_THI!E$4,0),"") | F90: =IF(ISNA(VLOOKUP($A90,DSLOP,DS_THI!F$4,0))=FALSE,VLOOKUP($A90,DSLOP,DS_THI!F$4,0),"") | G90: =IF(ISNA(VLOOKUP($A90,DSLOP,DS_THI!G$4,0))=FALSE,VLOOKUP($A90,DSLOP,DS_THI!G$4,0),"") | H90: =IF(ISNA(VLOOKUP($A90,DSLOP,DS_THI!H$4,0))=FALSE,VLOOKUP($A90,DSLOP,DS_THI!H$4,0),"") | M90: =IF($C90<>0,IF(ISNA(VLOOKUP($A90,DSLOP,DS_THI!M$4,0))=FALSE,VLOOKUP($A90,DSLOP,DS_THI!M$4,0),""),"")
... A109: =IF(ISNUMBER(N109),N109+1,IF(B109<=$O$3,A108+1,"")) | B109: =B108+1 -> 32 | C109: =IF(ISNA(VLOOKUP($A109,DSLOP,DS_THI!C$4,0))=FALSE,VLOOKUP($A109,DSLOP,DS_THI!C$4,0),"") | D109: =IF(ISNA(VLOOKUP($A109,DSLOP,DS_THI!D$4,0))=FALSE,VLOOKUP($A109,DSLOP,DS_THI!D$4,0),"") | E109: =IF(ISNA(VLOOKUP($A109,DSLOP,DS_THI!E$4,0))=FALSE,VLOOKUP($A109,DSLOP,DS_THI!E$4,0),"") | F109: =IF(ISNA(VLOOKUP($A109,DSLOP,DS_THI!F$4,0))=FALSE,VLOOKUP($A109,DSLOP,DS_THI!F$4,0),"") | G109: =IF(ISNA(VLOOKUP($A109,DSLOP,DS_THI!G$4,0))=FALSE,VLOOKUP($A109,DSLOP,DS_THI!G$4,0),"") | H109: =IF(ISNA(VLOOKUP($A109,DSLOP,DS_THI!H$4,0))=FALSE,VLOOKUP($A109,DSLOP,DS_THI!H$4,0),"") | M109: =IF($C109<>0,IF(ISNA(VLOOKUP($A109,DSLOP,DS_THI!M$4,0))=FALSE,VLOOKUP($A109,DSLOP,DS_THI!M$4,0),""),"")
A110: =IF(ISNUMBER(N110),N110+1,IF(B110<=$O$3,A109+1,"")) | B110: =DSSV!$A$4 & " - Phòng : "&O110&" * "&DSSV!$E$3 -> Thời gian: 19h30 ngày 10/7/2026 - Phòng : 901B * 254 Nguyễn Văn Linh | M110: ="Lần thi : "&DSSV!$R$4 -> Lần thi : 1 | O110: =IF(ISERROR(FIND("-",SUBSTITUTE(Q110,O75&"-","",1))),Q110,LEFT(SUBSTITUTE(Q110,O75&"-","",1),FIND("-",SUBSTITUTE(Q110,O75&"-","",1))-1)) -> 901B | P110: <<---- | Q110: =SUBSTITUTE(Q75,O75&"-","",1) -> 901B
A111: =IF(ISNUMBER(N111),N111+1,IF(B111<=$O$3,A110+1,"")) | B111: STT | C111: MÃ HỌC VIÊN | D111: HỌ VÀ TÊN | F111: GIỚI | G111: NGÀY SINH | H111: LỚP | I111: SỐ TỜ | J111: KÝ TÊN | K111: ĐIỂM THI | M111: GHI CHÚ
A112: =IF(ISNUMBER(N112),N112+1,IF(B112<=$O$3,A111+1,"")) -> #VALUE! | K112: SỐ | L112: CHỮ
A113: =IF(ISNUMBER(N113),N113+1,IF(B113<=$O$3,A112+1,"")) -> 94 | B113: 1 | C113: =IF(ISNA(VLOOKUP($A113,DSLOP,DS_THI!C$4,0))=FALSE,VLOOKUP($A113,DSLOP,DS_THI!C$4,0),"") | D113: =IF(ISNA(VLOOKUP($A113,DSLOP,DS_THI!D$4,0))=FALSE,VLOOKUP($A113,DSLOP,DS_THI!D$4,0),"") | E113: =IF(ISNA(VLOOKUP($A113,DSLOP,DS_THI!E$4,0))=FALSE,VLOOKUP($A113,DSLOP,DS_THI!E$4,0),"") | F113: =IF(ISNA(VLOOKUP($A113,DSLOP,DS_THI!F$4,0))=FALSE,VLOOKUP($A113,DSLOP,DS_THI!F$4,0),"") | G113: =IF(ISNA(VLOOKUP($A113,DSLOP,DS_THI!G$4,0))=FALSE,VLOOKUP($A113,DSLOP,DS_THI!G$4,0),"") | H113: =IF(ISNA(VLOOKUP($A113,DSLOP,DS_THI!H$4,0))=FALSE,VLOOKUP($A113,DSLOP,DS_THI!H$4,0),"") | M113: =IF($C113<>0,IF(ISNA(VLOOKUP($A113,DSLOP,DS_THI!M$4,0))=FALSE,VLOOKUP($A113,DSLOP,DS_THI!M$4,0),""),"") | N113: =MAX(A78:A109) -> 93
A114: =IF(ISNUMBER(N114),N114+1,IF(B114<=$O$3,A113+1,"")) -> 95 | B114: =B113+1 -> 2 | C114: =IF(ISNA(VLOOKUP($A114,DSLOP,DS_THI!C$4,0))=FALSE,VLOOKUP($A114,DSLOP,DS_THI!C$4,0),"") | D114: =IF(ISNA(VLOOKUP($A114,DSLOP,DS_THI!D$4,0))=FALSE,VLOOKUP($A114,DSLOP,DS_THI!D$4,0),"") | E114: =IF(ISNA(VLOOKUP($A114,DSLOP,DS_THI!E$4,0))=FALSE,VLOOKUP($A114,DSLOP,DS_THI!E$4,0),"") | F114: =IF(ISNA(VLOOKUP($A114,DSLOP,DS_THI!F$4,0))=FALSE,VLOOKUP($A114,DSLOP,DS_THI!F$4,0),"") | G114: =IF(ISNA(VLOOKUP($A114,DSLOP,DS_THI!G$4,0))=FALSE,VLOOKUP($A114,DSLOP,DS_THI!G$4,0),"") | H114: =IF(ISNA(VLOOKUP($A114,DSLOP,DS_THI!H$4,0))=FALSE,VLOOKUP($A114,DSLOP,DS_THI!H$4,0),"") | M114: =IF($C114<>0,IF(ISNA(VLOOKUP($A114,DSLOP,DS_THI!M$4,0))=FALSE,VLOOKUP($A114,DSLOP,DS_THI!M$4,0),""),"")
A115: =IF(ISNUMBER(N115),N115+1,IF(B115<=$O$3,A114+1,"")) -> 96 | B115: =B114+1 -> 3 | C115: =IF(ISNA(VLOOKUP($A115,DSLOP,DS_THI!C$4,0))=FALSE,VLOOKUP($A115,DSLOP,DS_THI!C$4,0),"") | D115: =IF(ISNA(VLOOKUP($A115,DSLOP,DS_THI!D$4,0))=FALSE,VLOOKUP($A115,DSLOP,DS_THI!D$4,0),"") | E115: =IF(ISNA(VLOOKUP($A115,DSLOP,DS_THI!E$4,0))=FALSE,VLOOKUP($A115,DSLOP,DS_THI!E$4,0),"") | F115: =IF(ISNA(VLOOKUP($A115,DSLOP,DS_THI!F$4,0))=FALSE,VLOOKUP($A115,DSLOP,DS_THI!F$4,0),"") | G115: =IF(ISNA(VLOOKUP($A115,DSLOP,DS_THI!G$4,0))=FALSE,VLOOKUP($A115,DSLOP,DS_THI!G$4,0),"") | H115: =IF(ISNA(VLOOKUP($A115,DSLOP,DS_THI!H$4,0))=FALSE,VLOOKUP($A115,DSLOP,DS_THI!H$4,0),"") | M115: =IF($C115<>0,IF(ISNA(VLOOKUP($A115,DSLOP,DS_THI!M$4,0))=FALSE,VLOOKUP($A115,DSLOP,DS_THI!M$4,0),""),"")
A116: =IF(ISNUMBER(N116),N116+1,IF(B116<=$O$3,A115+1,"")) -> 97 | B116: =B115+1 -> 4 | C116: =IF(ISNA(VLOOKUP($A116,DSLOP,DS_THI!C$4,0))=FALSE,VLOOKUP($A116,DSLOP,DS_THI!C$4,0),"") | D116: =IF(ISNA(VLOOKUP($A116,DSLOP,DS_THI!D$4,0))=FALSE,VLOOKUP($A116,DSLOP,DS_THI!D$4,0),"") | E116: =IF(ISNA(VLOOKUP($A116,DSLOP,DS_THI!E$4,0))=FALSE,VLOOKUP($A116,DSLOP,DS_THI!E$4,0),"") | F116: =IF(ISNA(VLOOKUP($A116,DSLOP,DS_THI!F$4,0))=FALSE,VLOOKUP($A116,DSLOP,DS_THI!F$4,0),"") | G116: =IF(ISNA(VLOOKUP($A116,DSLOP,DS_THI!G$4,0))=FALSE,VLOOKUP($A116,DSLOP,DS_THI!G$4,0),"") | H116: =IF(ISNA(VLOOKUP($A116,DSLOP,DS_THI!H$4,0))=FALSE,VLOOKUP($A116,DSLOP,DS_THI!H$4,0),"") | M116: =IF($C116<>0,IF(ISNA(VLOOKUP($A116,DSLOP,DS_THI!M$4,0))=FALSE,VLOOKUP($A116,DSLOP,DS_THI!M$4,0),""),"")
A117: =IF(ISNUMBER(N117),N117+1,IF(B117<=$O$3,A116+1,"")) -> 98 | B117: =B116+1 -> 5 | C117: =IF(ISNA(VLOOKUP($A117,DSLOP,DS_THI!C$4,0))=FALSE,VLOOKUP($A117,DSLOP,DS_THI!C$4,0),"") | D117: =IF(ISNA(VLOOKUP($A117,DSLOP,DS_THI!D$4,0))=FALSE,VLOOKUP($A117,DSLOP,DS_THI!D$4,0),"") | E117: =IF(ISNA(VLOOKUP($A117,DSLOP,DS_THI!E$4,0))=FALSE,VLOOKUP($A117,DSLOP,DS_THI!E$4,0),"") | F117: =IF(ISNA(VLOOKUP($A117,DSLOP,DS_THI!F$4,0))=FALSE,VLOOKUP($A117,DSLOP,DS_THI!F$4,0),"") | G117: =IF(ISNA(VLOOKUP($A117,DSLOP,DS_THI!G$4,0))=FALSE,VLOOKUP($A117,DSLOP,DS_THI!G$4,0),"") | H117: =IF(ISNA(VLOOKUP($A117,DSLOP,DS_THI!H$4,0))=FALSE,VLOOKUP($A117,DSLOP,DS_THI!H$4,0),"") | M117: =IF($C117<>0,IF(ISNA(VLOOKUP($A117,DSLOP,DS_THI!M$4,0))=FALSE,VLOOKUP($A117,DSLOP,DS_THI!M$4,0),""),"")
A118: =IF(ISNUMBER(N118),N118+1,IF(B118<=$O$3,A117+1,"")) -> 99 | B118: =B117+1 -> 6 | C118: =IF(ISNA(VLOOKUP($A118,DSLOP,DS_THI!C$4,0))=FALSE,VLOOKUP($A118,DSLOP,DS_THI!C$4,0),"") | D118: =IF(ISNA(VLOOKUP($A118,DSLOP,DS_THI!D$4,0))=FALSE,VLOOKUP($A118,DSLOP,DS_THI!D$4,0),"") | E118: =IF(ISNA(VLOOKUP($A118,DSLOP,DS_THI!E$4,0))=FALSE,VLOOKUP($A118,DSLOP,DS_THI!E$4,0),"") | F118: =IF(ISNA(VLOOKUP($A118,DSLOP,DS_THI!F$4,0))=FALSE,VLOOKUP($A118,DSLOP,DS_THI!F$4,0),"") | G118: =IF(ISNA(VLOOKUP($A118,DSLOP,DS_THI!G$4,0))=FALSE,VLOOKUP($A118,DSLOP,DS_THI!G$4,0),"") | H118: =IF(ISNA(VLOOKUP($A118,DSLOP,DS_THI!H$4,0))=FALSE,VLOOKUP($A118,DSLOP,DS_THI!H$4,0),"") | M118: =IF($C118<>0,IF(ISNA(VLOOKUP($A118,DSLOP,DS_THI!M$4,0))=FALSE,VLOOKUP($A118,DSLOP,DS_THI!M$4,0),""),"")
A119: =IF(ISNUMBER(N119),N119+1,IF(B119<=$O$3,A118+1,"")) -> 100 | B119: =B118+1 -> 7 | C119: =IF(ISNA(VLOOKUP($A119,DSLOP,DS_THI!C$4,0))=FALSE,VLOOKUP($A119,DSLOP,DS_THI!C$4,0),"") | D119: =IF(ISNA(VLOOKUP($A119,DSLOP,DS_THI!D$4,0))=FALSE,VLOOKUP($A119,DSLOP,DS_THI!D$4,0),"") | E119: =IF(ISNA(VLOOKUP($A119,DSLOP,DS_THI!E$4,0))=FALSE,VLOOKUP($A119,DSLOP,DS_THI!E$4,0),"") | F119: =IF(ISNA(VLOOKUP($A119,DSLOP,DS_THI!F$4,0))=FALSE,VLOOKUP($A119,DSLOP,DS_THI!F$4,0),"") | G119: =IF(ISNA(VLOOKUP($A119,DSLOP,DS_THI!G$4,0))=FALSE,VLOOKUP($A119,DSLOP,DS_THI!G$4,0),"") | H119: =IF(ISNA(VLOOKUP($A119,DSLOP,DS_THI!H$4,0))=FALSE,VLOOKUP($A119,DSLOP,DS_THI!H$4,0),"") | M119: =IF($C119<>0,IF(ISNA(VLOOKUP($A119,DSLOP,DS_THI!M$4,0))=FALSE,VLOOKUP($A119,DSLOP,DS_THI!M$4,0),""),"")
A120: =IF(ISNUMBER(N120),N120+1,IF(B120<=$O$3,A119+1,"")) -> 101 | B120: =B119+1 -> 8 | C120: =IF(ISNA(VLOOKUP($A120,DSLOP,DS_THI!C$4,0))=FALSE,VLOOKUP($A120,DSLOP,DS_THI!C$4,0),"") | D120: =IF(ISNA(VLOOKUP($A120,DSLOP,DS_THI!D$4,0))=FALSE,VLOOKUP($A120,DSLOP,DS_THI!D$4,0),"") | E120: =IF(ISNA(VLOOKUP($A120,DSLOP,DS_THI!E$4,0))=FALSE,VLOOKUP($A120,DSLOP,DS_THI!E$4,0),"") | F120: =IF(ISNA(VLOOKUP($A120,DSLOP,DS_THI!F$4,0))=FALSE,VLOOKUP($A120,DSLOP,DS_THI!F$4,0),"") | G120: =IF(ISNA(VLOOKUP($A120,DSLOP,DS_THI!G$4,0))=FALSE,VLOOKUP($A120,DSLOP,DS_THI!G$4,0),"") | H120: =IF(ISNA(VLOOKUP($A120,DSLOP,DS_THI!H$4,0))=FALSE,VLOOKUP($A120,DSLOP,DS_THI!H$4,0),"") | M120: =IF($C120<>0,IF(ISNA(VLOOKUP($A120,DSLOP,DS_THI!M$4,0))=FALSE,VLOOKUP($A120,DSLOP,DS_THI!M$4,0),""),"")
A121: =IF(ISNUMBER(N121),N121+1,IF(B121<=$O$3,A120+1,"")) -> 102 | B121: =B120+1 -> 9 | C121: =IF(ISNA(VLOOKUP($A121,DSLOP,DS_THI!C$4,0))=FALSE,VLOOKUP($A121,DSLOP,DS_THI!C$4,0),"") | D121: =IF(ISNA(VLOOKUP($A121,DSLOP,DS_THI!D$4,0))=FALSE,VLOOKUP($A121,DSLOP,DS_THI!D$4,0),"") | E121: =IF(ISNA(VLOOKUP($A121,DSLOP,DS_THI!E$4,0))=FALSE,VLOOKUP($A121,DSLOP,DS_THI!E$4,0),"") | F121: =IF(ISNA(VLOOKUP($A121,DSLOP,DS_THI!F$4,0))=FALSE,VLOOKUP($A121,DSLOP,DS_THI!F$4,0),"") | G121: =IF(ISNA(VLOOKUP($A121,DSLOP,DS_THI!G$4,0))=FALSE,VLOOKUP($A121,DSLOP,DS_THI!G$4,0),"") | H121: =IF(ISNA(VLOOKUP($A121,DSLOP,DS_THI!H$4,0))=FALSE,VLOOKUP($A121,DSLOP,DS_THI!H$4,0),"") | M121: =IF($C121<>0,IF(ISNA(VLOOKUP($A121,DSLOP,DS_THI!M$4,0))=FALSE,VLOOKUP($A121,DSLOP,DS_THI!M$4,0),""),"")
A122: =IF(ISNUMBER(N122),N122+1,IF(B122<=$O$3,A121+1,"")) -> 103 | B122: =B121+1 -> 10 | C122: =IF(ISNA(VLOOKUP($A122,DSLOP,DS_THI!C$4,0))=FALSE,VLOOKUP($A122,DSLOP,DS_THI!C$4,0),"") | D122: =IF(ISNA(VLOOKUP($A122,DSLOP,DS_THI!D$4,0))=FALSE,VLOOKUP($A122,DSLOP,DS_THI!D$4,0),"") | E122: =IF(ISNA(VLOOKUP($A122,DSLOP,DS_THI!E$4,0))=FALSE,VLOOKUP($A122,DSLOP,DS_THI!E$4,0),"") | F122: =IF(ISNA(VLOOKUP($A122,DSLOP,DS_THI!F$4,0))=FALSE,VLOOKUP($A122,DSLOP,DS_THI!F$4,0),"") | G122: =IF(ISNA(VLOOKUP($A122,DSLOP,DS_THI!G$4,0))=FALSE,VLOOKUP($A122,DSLOP,DS_THI!G$4,0),"") | H122: =IF(ISNA(VLOOKUP($A122,DSLOP,DS_THI!H$4,0))=FALSE,VLOOKUP($A122,DSLOP,DS_THI!H$4,0),"") | M122: =IF($C122<>0,IF(ISNA(VLOOKUP($A122,DSLOP,DS_THI!M$4,0))=FALSE,VLOOKUP($A122,DSLOP,DS_THI!M$4,0),""),"")
A123: =IF(ISNUMBER(N123),N123+1,IF(B123<=$O$3,A122+1,"")) -> 104 | B123: =B122+1 -> 11 | C123: =IF(ISNA(VLOOKUP($A123,DSLOP,DS_THI!C$4,0))=FALSE,VLOOKUP($A123,DSLOP,DS_THI!C$4,0),"") | D123: =IF(ISNA(VLOOKUP($A123,DSLOP,DS_THI!D$4,0))=FALSE,VLOOKUP($A123,DSLOP,DS_THI!D$4,0),"") | E123: =IF(ISNA(VLOOKUP($A123,DSLOP,DS_THI!E$4,0))=FALSE,VLOOKUP($A123,DSLOP,DS_THI!E$4,0),"") | F123: =IF(ISNA(VLOOKUP($A123,DSLOP,DS_THI!F$4,0))=FALSE,VLOOKUP($A123,DSLOP,DS_THI!F$4,0),"") | G123: =IF(ISNA(VLOOKUP($A123,DSLOP,DS_THI!G$4,0))=FALSE,VLOOKUP($A123,DSLOP,DS_THI!G$4,0),"") | H123: =IF(ISNA(VLOOKUP($A123,DSLOP,DS_THI!H$4,0))=FALSE,VLOOKUP($A123,DSLOP,DS_THI!H$4,0),"") | M123: =IF($C123<>0,IF(ISNA(VLOOKUP($A123,DSLOP,DS_THI!M$4,0))=FALSE,VLOOKUP($A123,DSLOP,DS_THI!M$4,0),""),"")
A124: =IF(ISNUMBER(N124),N124+1,IF(B124<=$O$3,A123+1,"")) -> 105 | B124: =B123+1 -> 12 | C124: =IF(ISNA(VLOOKUP($A124,DSLOP,DS_THI!C$4,0))=FALSE,VLOOKUP($A124,DSLOP,DS_THI!C$4,0),"") | D124: =IF(ISNA(VLOOKUP($A124,DSLOP,DS_THI!D$4,0))=FALSE,VLOOKUP($A124,DSLOP,DS_THI!D$4,0),"") | E124: =IF(ISNA(VLOOKUP($A124,DSLOP,DS_THI!E$4,0))=FALSE,VLOOKUP($A124,DSLOP,DS_THI!E$4,0),"") | F124: =IF(ISNA(VLOOKUP($A124,DSLOP,DS_THI!F$4,0))=FALSE,VLOOKUP($A124,DSLOP,DS_THI!F$4,0),"") | G124: =IF(ISNA(VLOOKUP($A124,DSLOP,DS_THI!G$4,0))=FALSE,VLOOKUP($A124,DSLOP,DS_THI!G$4,0),"") | H124: =IF(ISNA(VLOOKUP($A124,DSLOP,DS_THI!H$4,0))=FALSE,VLOOKUP($A124,DSLOP,DS_THI!H$4,0),"") | M124: =IF($C124<>0,IF(ISNA(VLOOKUP($A124,DSLOP,DS_THI!M$4,0))=FALSE,VLOOKUP($A124,DSLOP,DS_THI!M$4,0),""),"")
A125: =IF(ISNUMBER(N125),N125+1,IF(B125<=$O$3,A124+1,"")) -> 106 | B125: =B124+1 -> 13 | C125: =IF(ISNA(VLOOKUP($A125,DSLOP,DS_THI!C$4,0))=FALSE,VLOOKUP($A125,DSLOP,DS_THI!C$4,0),"") | D125: =IF(ISNA(VLOOKUP($A125,DSLOP,DS_THI!D$4,0))=FALSE,VLOOKUP($A125,DSLOP,DS_THI!D$4,0),"") | E125: =IF(ISNA(VLOOKUP($A125,DSLOP,DS_THI!E$4,0))=FALSE,VLOOKUP($A125,DSLOP,DS_THI!E$4,0),"") | F125: =IF(ISNA(VLOOKUP($A125,DSLOP,DS_THI!F$4,0))=FALSE,VLOOKUP($A125,DSLOP,DS_THI!F$4,0),"") | G125: =IF(ISNA(VLOOKUP($A125,DSLOP,DS_THI!G$4,0))=FALSE,VLOOKUP($A125,DSLOP,DS_THI!G$4,0),"") | H125: =IF(ISNA(VLOOKUP($A125,DSLOP,DS_THI!H$4,0))=FALSE,VLOOKUP($A125,DSLOP,DS_THI!H$4,0),"") | M125: =IF($C125<>0,IF(ISNA(VLOOKUP($A125,DSLOP,DS_THI!M$4,0))=FALSE,VLOOKUP($A125,DSLOP,DS_THI!M$4,0),""),"")
... A144: =IF(ISNUMBER(N144),N144+1,IF(B144<=$O$3,A143+1,"")) | B144: =B143+1 -> 32 | C144: =IF(ISNA(VLOOKUP($A144,DSLOP,DS_THI!C$4,0))=FALSE,VLOOKUP($A144,DSLOP,DS_THI!C$4,0),"") | D144: =IF(ISNA(VLOOKUP($A144,DSLOP,DS_THI!D$4,0))=FALSE,VLOOKUP($A144,DSLOP,DS_THI!D$4,0),"") | E144: =IF(ISNA(VLOOKUP($A144,DSLOP,DS_THI!E$4,0))=FALSE,VLOOKUP($A144,DSLOP,DS_THI!E$4,0),"") | F144: =IF(ISNA(VLOOKUP($A144,DSLOP,DS_THI!F$4,0))=FALSE,VLOOKUP($A144,DSLOP,DS_THI!F$4,0),"") | G144: =IF(ISNA(VLOOKUP($A144,DSLOP,DS_THI!G$4,0))=FALSE,VLOOKUP($A144,DSLOP,DS_THI!G$4,0),"") | H144: =IF(ISNA(VLOOKUP($A144,DSLOP,DS_THI!H$4,0))=FALSE,VLOOKUP($A144,DSLOP,DS_THI!H$4,0),"") | M144: =IF($C144<>0,IF(ISNA(VLOOKUP($A144,DSLOP,DS_THI!M$4,0))=FALSE,VLOOKUP($A144,DSLOP,DS_THI!M$4,0),""),"")
A145: =IF(ISNUMBER(N145),N145+1,IF(B145<=$O$3,A144+1,"")) | B145: =DSSV!$A$4 & " - Phòng : "&O145&" * "&DSSV!$E$3 -> Thời gian: 19h30 ngày 10/7/2026 - Phòng : 901B * 254 Nguyễn Văn Linh | M145: ="Lần thi : "&DSSV!$R$4 -> Lần thi : 1 | O145: =IF(ISERROR(FIND("-",SUBSTITUTE(Q145,O110&"-","",1))),Q145,LEFT(SUBSTITUTE(Q145,O110&"-","",1),FIND("-",SUBSTITUTE(Q145,O110&"-","",1))-1)) -> 901B | P145: <<---- | Q145: =SUBSTITUTE(Q110,O110&"-","",1) -> 901B
A146: =IF(ISNUMBER(N146),N146+1,IF(B146<=$O$3,A145+1,"")) | B146: STT | C146: MÃ HỌC VIÊN | D146: HỌ VÀ TÊN | F146: GIỚI | G146: NGÀY SINH | H146: LỚP | I146: SỐ TỜ | J146: KÝ TÊN | K146: ĐIỂM THI | M146: GHI CHÚ
A147: =IF(ISNUMBER(N147),N147+1,IF(B147<=$O$3+5,A146+1,"")) -> #VALUE! | K147: SỐ | L147: CHỮ
A148: =IF(ISNUMBER(N148),N148+1,IF(B148<=$O$3+5,A147+1,"")) -> 125 | B148: 1 | C148: =IF(ISNA(VLOOKUP($A148,DSLOP,DS_THI!C$4,0))=FALSE,VLOOKUP($A148,DSLOP,DS_THI!C$4,0),"") | D148: =IF(ISNA(VLOOKUP($A148,DSLOP,DS_THI!D$4,0))=FALSE,VLOOKUP($A148,DSLOP,DS_THI!D$4,0),"") | E148: =IF(ISNA(VLOOKUP($A148,DSLOP,DS_THI!E$4,0))=FALSE,VLOOKUP($A148,DSLOP,DS_THI!E$4,0),"") | F148: =IF(ISNA(VLOOKUP($A148,DSLOP,DS_THI!F$4,0))=FALSE,VLOOKUP($A148,DSLOP,DS_THI!F$4,0),"") | G148: =IF(ISNA(VLOOKUP($A148,DSLOP,DS_THI!G$4,0))=FALSE,VLOOKUP($A148,DSLOP,DS_THI!G$4,0),"") | H148: =IF(ISNA(VLOOKUP($A148,DSLOP,DS_THI!H$4,0))=FALSE,VLOOKUP($A148,DSLOP,DS_THI!H$4,0),"") | M148: =IF($C148<>0,IF(ISNA(VLOOKUP($A148,DSLOP,DS_THI!M$4,0))=FALSE,VLOOKUP($A148,DSLOP,DS_THI!M$4,0),""),"") | N148: =MAX(A113:A144) -> 124
A149: =IF(ISNUMBER(N149),N149+1,IF(B149<=$O$3+5,A148+1,"")) -> 126 | B149: =B148+1 -> 2 | C149: =IF(ISNA(VLOOKUP($A149,DSLOP,DS_THI!C$4,0))=FALSE,VLOOKUP($A149,DSLOP,DS_THI!C$4,0),"") | D149: =IF(ISNA(VLOOKUP($A149,DSLOP,DS_THI!D$4,0))=FALSE,VLOOKUP($A149,DSLOP,DS_THI!D$4,0),"") | E149: =IF(ISNA(VLOOKUP($A149,DSLOP,DS_THI!E$4,0))=FALSE,VLOOKUP($A149,DSLOP,DS_THI!E$4,0),"") | F149: =IF(ISNA(VLOOKUP($A149,DSLOP,DS_THI!F$4,0))=FALSE,VLOOKUP($A149,DSLOP,DS_THI!F$4,0),"") | G149: =IF(ISNA(VLOOKUP($A149,DSLOP,DS_THI!G$4,0))=FALSE,VLOOKUP($A149,DSLOP,DS_THI!G$4,0),"") | H149: =IF(ISNA(VLOOKUP($A149,DSLOP,DS_THI!H$4,0))=FALSE,VLOOKUP($A149,DSLOP,DS_THI!H$4,0),"") | M149: =IF($C149<>0,IF(ISNA(VLOOKUP($A149,DSLOP,DS_THI!M$4,0))=FALSE,VLOOKUP($A149,DSLOP,DS_THI!M$4,0),""),"")
A150: =IF(ISNUMBER(N150),N150+1,IF(B150<=$O$3+5,A149+1,"")) -> 127 | B150: =B149+1 -> 3 | C150: =IF(ISNA(VLOOKUP($A150,DSLOP,DS_THI!C$4,0))=FALSE,VLOOKUP($A150,DSLOP,DS_THI!C$4,0),"") | D150: =IF(ISNA(VLOOKUP($A150,DSLOP,DS_THI!D$4,0))=FALSE,VLOOKUP($A150,DSLOP,DS_THI!D$4,0),"") | E150: =IF(ISNA(VLOOKUP($A150,DSLOP,DS_THI!E$4,0))=FALSE,VLOOKUP($A150,DSLOP,DS_THI!E$4,0),"") | F150: =IF(ISNA(VLOOKUP($A150,DSLOP,DS_THI!F$4,0))=FALSE,VLOOKUP($A150,DSLOP,DS_THI!F$4,0),"") | G150: =IF(ISNA(VLOOKUP($A150,DSLOP,DS_THI!G$4,0))=FALSE,VLOOKUP($A150,DSLOP,DS_THI!G$4,0),"") | H150: =IF(ISNA(VLOOKUP($A150,DSLOP,DS_THI!H$4,0))=FALSE,VLOOKUP($A150,DSLOP,DS_THI!H$4,0),"") | M150: =IF($C150<>0,IF(ISNA(VLOOKUP($A150,DSLOP,DS_THI!M$4,0))=FALSE,VLOOKUP($A150,DSLOP,DS_THI!M$4,0),""),"")
A151: =IF(ISNUMBER(N151),N151+1,IF(B151<=$O$3+5,A150+1,"")) -> 128 | B151: =B150+1 -> 4 | C151: =IF(ISNA(VLOOKUP($A151,DSLOP,DS_THI!C$4,0))=FALSE,VLOOKUP($A151,DSLOP,DS_THI!C$4,0),"") | D151: =IF(ISNA(VLOOKUP($A151,DSLOP,DS_THI!D$4,0))=FALSE,VLOOKUP($A151,DSLOP,DS_THI!D$4,0),"") | E151: =IF(ISNA(VLOOKUP($A151,DSLOP,DS_THI!E$4,0))=FALSE,VLOOKUP($A151,DSLOP,DS_THI!E$4,0),"") | F151: =IF(ISNA(VLOOKUP($A151,DSLOP,DS_THI!F$4,0))=FALSE,VLOOKUP($A151,DSLOP,DS_THI!F$4,0),"") | G151: =IF(ISNA(VLOOKUP($A151,DSLOP,DS_THI!G$4,0))=FALSE,VLOOKUP($A151,DSLOP,DS_THI!G$4,0),"") | H151: =IF(ISNA(VLOOKUP($A151,DSLOP,DS_THI!H$4,0))=FALSE,VLOOKUP($A151,DSLOP,DS_THI!H$4,0),"") | M151: =IF($C151<>0,IF(ISNA(VLOOKUP($A151,DSLOP,DS_THI!M$4,0))=FALSE,VLOOKUP($A151,DSLOP,DS_THI!M$4,0),""),"")
A152: =IF(ISNUMBER(N152),N152+1,IF(B152<=$O$3+5,A151+1,"")) -> 129 | B152: =B151+1 -> 5 | C152: =IF(ISNA(VLOOKUP($A152,DSLOP,DS_THI!C$4,0))=FALSE,VLOOKUP($A152,DSLOP,DS_THI!C$4,0),"") | D152: =IF(ISNA(VLOOKUP($A152,DSLOP,DS_THI!D$4,0))=FALSE,VLOOKUP($A152,DSLOP,DS_THI!D$4,0),"") | E152: =IF(ISNA(VLOOKUP($A152,DSLOP,DS_THI!E$4,0))=FALSE,VLOOKUP($A152,DSLOP,DS_THI!E$4,0),"") | F152: =IF(ISNA(VLOOKUP($A152,DSLOP,DS_THI!F$4,0))=FALSE,VLOOKUP($A152,DSLOP,DS_THI!F$4,0),"") | G152: =IF(ISNA(VLOOKUP($A152,DSLOP,DS_THI!G$4,0))=FALSE,VLOOKUP($A152,DSLOP,DS_THI!G$4,0),"") | H152: =IF(ISNA(VLOOKUP($A152,DSLOP,DS_THI!H$4,0))=FALSE,VLOOKUP($A152,DSLOP,DS_THI!H$4,0),"") | M152: =IF($C152<>0,IF(ISNA(VLOOKUP($A152,DSLOP,DS_THI!M$4,0))=FALSE,VLOOKUP($A152,DSLOP,DS_THI!M$4,0),""),"")
A153: =IF(ISNUMBER(N153),N153+1,IF(B153<=$O$3+5,A152+1,"")) -> 130 | B153: =B152+1 -> 6 | C153: =IF(ISNA(VLOOKUP($A153,DSLOP,DS_THI!C$4,0))=FALSE,VLOOKUP($A153,DSLOP,DS_THI!C$4,0),"") | D153: =IF(ISNA(VLOOKUP($A153,DSLOP,DS_THI!D$4,0))=FALSE,VLOOKUP($A153,DSLOP,DS_THI!D$4,0),"") | E153: =IF(ISNA(VLOOKUP($A153,DSLOP,DS_THI!E$4,0))=FALSE,VLOOKUP($A153,DSLOP,DS_THI!E$4,0),"") | F153: =IF(ISNA(VLOOKUP($A153,DSLOP,DS_THI!F$4,0))=FALSE,VLOOKUP($A153,DSLOP,DS_THI!F$4,0),"") | G153: =IF(ISNA(VLOOKUP($A153,DSLOP,DS_THI!G$4,0))=FALSE,VLOOKUP($A153,DSLOP,DS_THI!G$4,0),"") | H153: =IF(ISNA(VLOOKUP($A153,DSLOP,DS_THI!H$4,0))=FALSE,VLOOKUP($A153,DSLOP,DS_THI!H$4,0),"") | M153: =IF($C153<>0,IF(ISNA(VLOOKUP($A153,DSLOP,DS_THI!M$4,0))=FALSE,VLOOKUP($A153,DSLOP,DS_THI!M$4,0),""),"")
A154: =IF(ISNUMBER(N154),N154+1,IF(B154<=$O$3+5,A153+1,"")) -> 131 | B154: =B153+1 -> 7 | C154: =IF(ISNA(VLOOKUP($A154,DSLOP,DS_THI!C$4,0))=FALSE,VLOOKUP($A154,DSLOP,DS_THI!C$4,0),"") | D154: =IF(ISNA(VLOOKUP($A154,DSLOP,DS_THI!D$4,0))=FALSE,VLOOKUP($A154,DSLOP,DS_THI!D$4,0),"") | E154: =IF(ISNA(VLOOKUP($A154,DSLOP,DS_THI!E$4,0))=FALSE,VLOOKUP($A154,DSLOP,DS_THI!E$4,0),"") | F154: =IF(ISNA(VLOOKUP($A154,DSLOP,DS_THI!F$4,0))=FALSE,VLOOKUP($A154,DSLOP,DS_THI!F$4,0),"") | G154: =IF(ISNA(VLOOKUP($A154,DSLOP,DS_THI!G$4,0))=FALSE,VLOOKUP($A154,DSLOP,DS_THI!G$4,0),"") | H154: =IF(ISNA(VLOOKUP($A154,DSLOP,DS_THI!H$4,0))=FALSE,VLOOKUP($A154,DSLOP,DS_THI!H$4,0),"") | M154: =IF($C154<>0,IF(ISNA(VLOOKUP($A154,DSLOP,DS_THI!M$4,0))=FALSE,VLOOKUP($A154,DSLOP,DS_THI!M$4,0),""),"")
A155: =IF(ISNUMBER(N155),N155+1,IF(B155<=$O$3+5,A154+1,"")) -> 132 | B155: =B154+1 -> 8 | C155: =IF(ISNA(VLOOKUP($A155,DSLOP,DS_THI!C$4,0))=FALSE,VLOOKUP($A155,DSLOP,DS_THI!C$4,0),"") | D155: =IF(ISNA(VLOOKUP($A155,DSLOP,DS_THI!D$4,0))=FALSE,VLOOKUP($A155,DSLOP,DS_THI!D$4,0),"") | E155: =IF(ISNA(VLOOKUP($A155,DSLOP,DS_THI!E$4,0))=FALSE,VLOOKUP($A155,DSLOP,DS_THI!E$4,0),"") | F155: =IF(ISNA(VLOOKUP($A155,DSLOP,DS_THI!F$4,0))=FALSE,VLOOKUP($A155,DSLOP,DS_THI!F$4,0),"") | G155: =IF(ISNA(VLOOKUP($A155,DSLOP,DS_THI!G$4,0))=FALSE,VLOOKUP($A155,DSLOP,DS_THI!G$4,0),"") | H155: =IF(ISNA(VLOOKUP($A155,DSLOP,DS_THI!H$4,0))=FALSE,VLOOKUP($A155,DSLOP,DS_THI!H$4,0),"") | M155: =IF($C155<>0,IF(ISNA(VLOOKUP($A155,DSLOP,DS_THI!M$4,0))=FALSE,VLOOKUP($A155,DSLOP,DS_THI!M$4,0),""),"")
A156: =IF(ISNUMBER(N156),N156+1,IF(B156<=$O$3+5,A155+1,"")) -> 133 | B156: =B155+1 -> 9 | C156: =IF(ISNA(VLOOKUP($A156,DSLOP,DS_THI!C$4,0))=FALSE,VLOOKUP($A156,DSLOP,DS_THI!C$4,0),"") | D156: =IF(ISNA(VLOOKUP($A156,DSLOP,DS_THI!D$4,0))=FALSE,VLOOKUP($A156,DSLOP,DS_THI!D$4,0),"") | E156: =IF(ISNA(VLOOKUP($A156,DSLOP,DS_THI!E$4,0))=FALSE,VLOOKUP($A156,DSLOP,DS_THI!E$4,0),"") | F156: =IF(ISNA(VLOOKUP($A156,DSLOP,DS_THI!F$4,0))=FALSE,VLOOKUP($A156,DSLOP,DS_THI!F$4,0),"") | G156: =IF(ISNA(VLOOKUP($A156,DSLOP,DS_THI!G$4,0))=FALSE,VLOOKUP($A156,DSLOP,DS_THI!G$4,0),"") | H156: =IF(ISNA(VLOOKUP($A156,DSLOP,DS_THI!H$4,0))=FALSE,VLOOKUP($A156,DSLOP,DS_THI!H$4,0),"") | M156: =IF($C156<>0,IF(ISNA(VLOOKUP($A156,DSLOP,DS_THI!M$4,0))=FALSE,VLOOKUP($A156,DSLOP,DS_THI!M$4,0),""),"")
A157: =IF(ISNUMBER(N157),N157+1,IF(B157<=$O$3+5,A156+1,"")) -> 134 | B157: =B156+1 -> 10 | C157: =IF(ISNA(VLOOKUP($A157,DSLOP,DS_THI!C$4,0))=FALSE,VLOOKUP($A157,DSLOP,DS_THI!C$4,0),"") | D157: =IF(ISNA(VLOOKUP($A157,DSLOP,DS_THI!D$4,0))=FALSE,VLOOKUP($A157,DSLOP,DS_THI!D$4,0),"") | E157: =IF(ISNA(VLOOKUP($A157,DSLOP,DS_THI!E$4,0))=FALSE,VLOOKUP($A157,DSLOP,DS_THI!E$4,0),"") | F157: =IF(ISNA(VLOOKUP($A157,DSLOP,DS_THI!F$4,0))=FALSE,VLOOKUP($A157,DSLOP,DS_THI!F$4,0),"") | G157: =IF(ISNA(VLOOKUP($A157,DSLOP,DS_THI!G$4,0))=FALSE,VLOOKUP($A157,DSLOP,DS_THI!G$4,0),"") | H157: =IF(ISNA(VLOOKUP($A157,DSLOP,DS_THI!H$4,0))=FALSE,VLOOKUP($A157,DSLOP,DS_THI!H$4,0),"") | M157: =IF($C157<>0,IF(ISNA(VLOOKUP($A157,DSLOP,DS_THI!M$4,0))=FALSE,VLOOKUP($A157,DSLOP,DS_THI!M$4,0),""),"")
A158: =IF(ISNUMBER(N158),N158+1,IF(B158<=$O$3+5,A157+1,"")) -> 135 | B158: =B157+1 -> 11 | C158: =IF(ISNA(VLOOKUP($A158,DSLOP,DS_THI!C$4,0))=FALSE,VLOOKUP($A158,DSLOP,DS_THI!C$4,0),"") | D158: =IF(ISNA(VLOOKUP($A158,DSLOP,DS_THI!D$4,0))=FALSE,VLOOKUP($A158,DSLOP,DS_THI!D$4,0),"") | E158: =IF(ISNA(VLOOKUP($A158,DSLOP,DS_THI!E$4,0))=FALSE,VLOOKUP($A158,DSLOP,DS_THI!E$4,0),"") | F158: =IF(ISNA(VLOOKUP($A158,DSLOP,DS_THI!F$4,0))=FALSE,VLOOKUP($A158,DSLOP,DS_THI!F$4,0),"") | G158: =IF(ISNA(VLOOKUP($A158,DSLOP,DS_THI!G$4,0))=FALSE,VLOOKUP($A158,DSLOP,DS_THI!G$4,0),"") | H158: =IF(ISNA(VLOOKUP($A158,DSLOP,DS_THI!H$4,0))=FALSE,VLOOKUP($A158,DSLOP,DS_THI!H$4,0),"") | M158: =IF($C158<>0,IF(ISNA(VLOOKUP($A158,DSLOP,DS_THI!M$4,0))=FALSE,VLOOKUP($A158,DSLOP,DS_THI!M$4,0),""),"")
A159: =IF(ISNUMBER(N159),N159+1,IF(B159<=$O$3+5,A158+1,"")) -> 136 | B159: =B158+1 -> 12 | C159: =IF(ISNA(VLOOKUP($A159,DSLOP,DS_THI!C$4,0))=FALSE,VLOOKUP($A159,DSLOP,DS_THI!C$4,0),"") | D159: =IF(ISNA(VLOOKUP($A159,DSLOP,DS_THI!D$4,0))=FALSE,VLOOKUP($A159,DSLOP,DS_THI!D$4,0),"") | E159: =IF(ISNA(VLOOKUP($A159,DSLOP,DS_THI!E$4,0))=FALSE,VLOOKUP($A159,DSLOP,DS_THI!E$4,0),"") | F159: =IF(ISNA(VLOOKUP($A159,DSLOP,DS_THI!F$4,0))=FALSE,VLOOKUP($A159,DSLOP,DS_THI!F$4,0),"") | G159: =IF(ISNA(VLOOKUP($A159,DSLOP,DS_THI!G$4,0))=FALSE,VLOOKUP($A159,DSLOP,DS_THI!G$4,0),"") | H159: =IF(ISNA(VLOOKUP($A159,DSLOP,DS_THI!H$4,0))=FALSE,VLOOKUP($A159,DSLOP,DS_THI!H$4,0),"") | M159: =IF($C159<>0,IF(ISNA(VLOOKUP($A159,DSLOP,DS_THI!M$4,0))=FALSE,VLOOKUP($A159,DSLOP,DS_THI!M$4,0),""),"")
A160: =IF(ISNUMBER(N160),N160+1,IF(B160<=$O$3+5,A159+1,"")) -> 137 | B160: =B159+1 -> 13 | C160: =IF(ISNA(VLOOKUP($A160,DSLOP,DS_THI!C$4,0))=FALSE,VLOOKUP($A160,DSLOP,DS_THI!C$4,0),"") | D160: =IF(ISNA(VLOOKUP($A160,DSLOP,DS_THI!D$4,0))=FALSE,VLOOKUP($A160,DSLOP,DS_THI!D$4,0),"") | E160: =IF(ISNA(VLOOKUP($A160,DSLOP,DS_THI!E$4,0))=FALSE,VLOOKUP($A160,DSLOP,DS_THI!E$4,0),"") | F160: =IF(ISNA(VLOOKUP($A160,DSLOP,DS_THI!F$4,0))=FALSE,VLOOKUP($A160,DSLOP,DS_THI!F$4,0),"") | G160: =IF(ISNA(VLOOKUP($A160,DSLOP,DS_THI!G$4,0))=FALSE,VLOOKUP($A160,DSLOP,DS_THI!G$4,0),"") | H160: =IF(ISNA(VLOOKUP($A160,DSLOP,DS_THI!H$4,0))=FALSE,VLOOKUP($A160,DSLOP,DS_THI!H$4,0),"") | M160: =IF($C160<>0,IF(ISNA(VLOOKUP($A160,DSLOP,DS_THI!M$4,0))=FALSE,VLOOKUP($A160,DSLOP,DS_THI!M$4,0),""),"")
... A179: =IF(ISNUMBER(N179),N179+1,IF(B179<=$O$3+5,A178+1,"")) -> 156 | B179: =B178+1 -> 32 | C179: =IF(ISNA(VLOOKUP($A179,DSLOP,DS_THI!C$4,0))=FALSE,VLOOKUP($A179,DSLOP,DS_THI!C$4,0),"") | D179: =IF(ISNA(VLOOKUP($A179,DSLOP,DS_THI!D$4,0))=FALSE,VLOOKUP($A179,DSLOP,DS_THI!D$4,0),"") | E179: =IF(ISNA(VLOOKUP($A179,DSLOP,DS_THI!E$4,0))=FALSE,VLOOKUP($A179,DSLOP,DS_THI!E$4,0),"") | F179: =IF(ISNA(VLOOKUP($A179,DSLOP,DS_THI!F$4,0))=FALSE,VLOOKUP($A179,DSLOP,DS_THI!F$4,0),"") | G179: =IF(ISNA(VLOOKUP($A179,DSLOP,DS_THI!G$4,0))=FALSE,VLOOKUP($A179,DSLOP,DS_THI!G$4,0),"") | H179: =IF(ISNA(VLOOKUP($A179,DSLOP,DS_THI!H$4,0))=FALSE,VLOOKUP($A179,DSLOP,DS_THI!H$4,0),"") | M179: =IF($C179<>0,IF(ISNA(VLOOKUP($A179,DSLOP,DS_THI!M$4,0))=FALSE,VLOOKUP($A179,DSLOP,DS_THI!M$4,0),""),"")

Sheet DS_NLP
B1: BỘ GIÁO DỤC & ĐÀO TẠO | E1: DANH SÁCH THEO DÕI SINH VIÊN ĐÓNG LỆ PHÍ
B2: TRƯỜNG ĐHDL DUY TÂN | E2: =DSSV!G2& " - " & DSSV!$T$3 -> Gen Dược Học - K31MPM1
H3: ="Học kỳ : " & DSSV!R3 -> Học kỳ : 1
B4: =DSSV!A4 -> Thời gian: 19h30 ngày 10/7/2026 | H4: ="Lần thi : "& DSSV!R4 -> Lần thi : 1
B5: 1 | C5: 2 | D5: 3 | E5: 4 | F5: 7 | G5: 8 | H5: 19
A6: STT | B6: STT | C6: MÃ HỌC VIÊN | D6: HỌ VÀ TÊN | F6: LỚP | G6: SỐ CHỨNG TỪ | H6: GHI CHÚ
A8: 1 | B8: 1 | C8: =IF(ISNA(VLOOKUP($A8,DSLOP,DS_THI!C$4,0))=FALSE,VLOOKUP($A8,DSLOP,DS_THI!C$4,0),"") -> 31315270077 | D8: =IF(ISNA(VLOOKUP($A8,DSLOP,DS_THI!D$4,0))=FALSE,VLOOKUP($A8,DSLOP,DS_THI!D$4,0),"") -> Đặng Công | E8: =IF(ISNA(VLOOKUP($A8,DSLOP,DS_THI!E$4,0))=FALSE,VLOOKUP($A8,DSLOP,DS_THI!E$4,0),"") -> Luận | F8: =IF(ISNA(VLOOKUP($A8,DSLOP,IN_DTK!G$5,0))=FALSE,VLOOKUP($A8,DSLOP,IN_DTK!G$5,0),"") -> K31MPM1 | H8: =IF($C8<>0,IF(ISNA(VLOOKUP($A8,DSLOP,DS_NLP!H$5,0))=FALSE,VLOOKUP($A8,DSLOP,DS_NLP!H$5,0),""),"") -> 0
A9: 2 | B9: 2 | C9: =IF(ISNA(VLOOKUP($A9,DSLOP,DS_THI!C$4,0))=FALSE,VLOOKUP($A9,DSLOP,DS_THI!C$4,0),"") -> 31305270078 | D9: =IF(ISNA(VLOOKUP($A9,DSLOP,DS_THI!D$4,0))=FALSE,VLOOKUP($A9,DSLOP,DS_THI!D$4,0),"") -> Trần Vương Diễm | E9: =IF(ISNA(VLOOKUP($A9,DSLOP,DS_THI!E$4,0))=FALSE,VLOOKUP($A9,DSLOP,DS_THI!E$4,0),"") -> My | F9: =IF(ISNA(VLOOKUP($A9,DSLOP,IN_DTK!G$5,0))=FALSE,VLOOKUP($A9,DSLOP,IN_DTK!G$5,0),"") -> K31MPM1 | H9: =IF($C9<>0,IF(ISNA(VLOOKUP($A9,DSLOP,DS_NLP!H$5,0))=FALSE,VLOOKUP($A9,DSLOP,DS_NLP!H$5,0),""),"") -> Hoãn thi
A10: 3 | B10: 3 | C10: =IF(ISNA(VLOOKUP($A10,DSLOP,DS_THI!C$4,0))=FALSE,VLOOKUP($A10,DSLOP,DS_THI!C$4,0),"") -> 31305270079 | D10: =IF(ISNA(VLOOKUP($A10,DSLOP,DS_THI!D$4,0))=FALSE,VLOOKUP($A10,DSLOP,DS_THI!D$4,0),"") -> Nguyễn Yến | E10: =IF(ISNA(VLOOKUP($A10,DSLOP,DS_THI!E$4,0))=FALSE,VLOOKUP($A10,DSLOP,DS_THI!E$4,0),"") -> Nhi | F10: =IF(ISNA(VLOOKUP($A10,DSLOP,IN_DTK!G$5,0))=FALSE,VLOOKUP($A10,DSLOP,IN_DTK!G$5,0),"") -> K31MPM1 | H10: =IF($C10<>0,IF(ISNA(VLOOKUP($A10,DSLOP,DS_NLP!H$5,0))=FALSE,VLOOKUP($A10,DSLOP,DS_NLP!H$5,0),""),"") -> 0
A11: 4 | B11: 4 | C11: =IF(ISNA(VLOOKUP($A11,DSLOP,DS_THI!C$4,0))=FALSE,VLOOKUP($A11,DSLOP,DS_THI!C$4,0),"") -> 31305270080 | D11: =IF(ISNA(VLOOKUP($A11,DSLOP,DS_THI!D$4,0))=FALSE,VLOOKUP($A11,DSLOP,DS_THI!D$4,0),"") -> Bùi Thị Phương | E11: =IF(ISNA(VLOOKUP($A11,DSLOP,DS_THI!E$4,0))=FALSE,VLOOKUP($A11,DSLOP,DS_THI!E$4,0),"") -> Uyên | F11: =IF(ISNA(VLOOKUP($A11,DSLOP,IN_DTK!G$5,0))=FALSE,VLOOKUP($A11,DSLOP,IN_DTK!G$5,0),"") -> K31MPM1 | H11: =IF($C11<>0,IF(ISNA(VLOOKUP($A11,DSLOP,DS_NLP!H$5,0))=FALSE,VLOOKUP($A11,DSLOP,DS_NLP!H$5,0),""),"") -> 0
A12: 5 | B12: 5 | C12: =IF(ISNA(VLOOKUP($A12,DSLOP,DS_THI!C$4,0))=FALSE,VLOOKUP($A12,DSLOP,DS_THI!C$4,0),"") -> 31315270081 | D12: =IF(ISNA(VLOOKUP($A12,DSLOP,DS_THI!D$4,0))=FALSE,VLOOKUP($A12,DSLOP,DS_THI!D$4,0),"") -> Nguyễn Văn | E12: =IF(ISNA(VLOOKUP($A12,DSLOP,DS_THI!E$4,0))=FALSE,VLOOKUP($A12,DSLOP,DS_THI!E$4,0),"") -> Quý | F12: =IF(ISNA(VLOOKUP($A12,DSLOP,IN_DTK!G$5,0))=FALSE,VLOOKUP($A12,DSLOP,IN_DTK!G$5,0),"") -> K31MPM1 | H12: =IF($C12<>0,IF(ISNA(VLOOKUP($A12,DSLOP,DS_NLP!H$5,0))=FALSE,VLOOKUP($A12,DSLOP,DS_NLP!H$5,0),""),"") -> 0
A13: 6 | B13: 6 | C13: =IF(ISNA(VLOOKUP($A13,DSLOP,DS_THI!C$4,0))=FALSE,VLOOKUP($A13,DSLOP,DS_THI!C$4,0),"") -> 31305270082 | D13: =IF(ISNA(VLOOKUP($A13,DSLOP,DS_THI!D$4,0))=FALSE,VLOOKUP($A13,DSLOP,DS_THI!D$4,0),"") -> Nguyễn Huỳnh Ái | E13: =IF(ISNA(VLOOKUP($A13,DSLOP,DS_THI!E$4,0))=FALSE,VLOOKUP($A13,DSLOP,DS_THI!E$4,0),"") -> Thi | F13: =IF(ISNA(VLOOKUP($A13,DSLOP,IN_DTK!G$5,0))=FALSE,VLOOKUP($A13,DSLOP,IN_DTK!G$5,0),"") -> K31MPM1 | H13: =IF($C13<>0,IF(ISNA(VLOOKUP($A13,DSLOP,DS_NLP!H$5,0))=FALSE,VLOOKUP($A13,DSLOP,DS_NLP!H$5,0),""),"") -> 0
A14: 7 | B14: 7 | C14: =IF(ISNA(VLOOKUP($A14,DSLOP,DS_THI!C$4,0))=FALSE,VLOOKUP($A14,DSLOP,DS_THI!C$4,0),"") -> 0 | D14: =IF(ISNA(VLOOKUP($A14,DSLOP,DS_THI!D$4,0))=FALSE,VLOOKUP($A14,DSLOP,DS_THI!D$4,0),"") -> 0 | E14: =IF(ISNA(VLOOKUP($A14,DSLOP,DS_THI!E$4,0))=FALSE,VLOOKUP($A14,DSLOP,DS_THI!E$4,0),"") -> 0 | F14: =IF(ISNA(VLOOKUP($A14,DSLOP,IN_DTK!G$5,0))=FALSE,VLOOKUP($A14,DSLOP,IN_DTK!G$5,0),"") -> 0 | H14: =IF($C14<>0,IF(ISNA(VLOOKUP($A14,DSLOP,DS_NLP!H$5,0))=FALSE,VLOOKUP($A14,DSLOP,DS_NLP!H$5,0),""),"")
A15: 8 | B15: 8 | C15: =IF(ISNA(VLOOKUP($A15,DSLOP,DS_THI!C$4,0))=FALSE,VLOOKUP($A15,DSLOP,DS_THI!C$4,0),"") -> 0 | D15: =IF(ISNA(VLOOKUP($A15,DSLOP,DS_THI!D$4,0))=FALSE,VLOOKUP($A15,DSLOP,DS_THI!D$4,0),"") -> 0 | E15: =IF(ISNA(VLOOKUP($A15,DSLOP,DS_THI!E$4,0))=FALSE,VLOOKUP($A15,DSLOP,DS_THI!E$4,0),"") -> 0 | F15: =IF(ISNA(VLOOKUP($A15,DSLOP,IN_DTK!G$5,0))=FALSE,VLOOKUP($A15,DSLOP,IN_DTK!G$5,0),"") -> 0 | H15: =IF($C15<>0,IF(ISNA(VLOOKUP($A15,DSLOP,DS_NLP!H$5,0))=FALSE,VLOOKUP($A15,DSLOP,DS_NLP!H$5,0),""),"")
A16: 9 | B16: 9 | C16: =IF(ISNA(VLOOKUP($A16,DSLOP,DS_THI!C$4,0))=FALSE,VLOOKUP($A16,DSLOP,DS_THI!C$4,0),"") -> 0 | D16: =IF(ISNA(VLOOKUP($A16,DSLOP,DS_THI!D$4,0))=FALSE,VLOOKUP($A16,DSLOP,DS_THI!D$4,0),"") -> 0 | E16: =IF(ISNA(VLOOKUP($A16,DSLOP,DS_THI!E$4,0))=FALSE,VLOOKUP($A16,DSLOP,DS_THI!E$4,0),"") -> 0 | F16: =IF(ISNA(VLOOKUP($A16,DSLOP,IN_DTK!G$5,0))=FALSE,VLOOKUP($A16,DSLOP,IN_DTK!G$5,0),"") -> 0 | H16: =IF($C16<>0,IF(ISNA(VLOOKUP($A16,DSLOP,DS_NLP!H$5,0))=FALSE,VLOOKUP($A16,DSLOP,DS_NLP!H$5,0),""),"")
A17: 10 | B17: 10 | C17: =IF(ISNA(VLOOKUP($A17,DSLOP,DS_THI!C$4,0))=FALSE,VLOOKUP($A17,DSLOP,DS_THI!C$4,0),"") -> 0 | D17: =IF(ISNA(VLOOKUP($A17,DSLOP,DS_THI!D$4,0))=FALSE,VLOOKUP($A17,DSLOP,DS_THI!D$4,0),"") -> 0 | E17: =IF(ISNA(VLOOKUP($A17,DSLOP,DS_THI!E$4,0))=FALSE,VLOOKUP($A17,DSLOP,DS_THI!E$4,0),"") -> 0 | F17: =IF(ISNA(VLOOKUP($A17,DSLOP,IN_DTK!G$5,0))=FALSE,VLOOKUP($A17,DSLOP,IN_DTK!G$5,0),"") -> 0 | H17: =IF($C17<>0,IF(ISNA(VLOOKUP($A17,DSLOP,DS_NLP!H$5,0))=FALSE,VLOOKUP($A17,DSLOP,DS_NLP!H$5,0),""),"")
A18: 11 | B18: 11 | C18: =IF(ISNA(VLOOKUP($A18,DSLOP,DS_THI!C$4,0))=FALSE,VLOOKUP($A18,DSLOP,DS_THI!C$4,0),"") -> 0 | D18: =IF(ISNA(VLOOKUP($A18,DSLOP,DS_THI!D$4,0))=FALSE,VLOOKUP($A18,DSLOP,DS_THI!D$4,0),"") -> 0 | E18: =IF(ISNA(VLOOKUP($A18,DSLOP,DS_THI!E$4,0))=FALSE,VLOOKUP($A18,DSLOP,DS_THI!E$4,0),"") -> 0 | F18: =IF(ISNA(VLOOKUP($A18,DSLOP,IN_DTK!G$5,0))=FALSE,VLOOKUP($A18,DSLOP,IN_DTK!G$5,0),"") -> 0 | H18: =IF($C18<>0,IF(ISNA(VLOOKUP($A18,DSLOP,DS_NLP!H$5,0))=FALSE,VLOOKUP($A18,DSLOP,DS_NLP!H$5,0),""),"")
A19: 12 | B19: 12 | C19: =IF(ISNA(VLOOKUP($A19,DSLOP,DS_THI!C$4,0))=FALSE,VLOOKUP($A19,DSLOP,DS_THI!C$4,0),"") -> 0 | D19: =IF(ISNA(VLOOKUP($A19,DSLOP,DS_THI!D$4,0))=FALSE,VLOOKUP($A19,DSLOP,DS_THI!D$4,0),"") -> 0 | E19: =IF(ISNA(VLOOKUP($A19,DSLOP,DS_THI!E$4,0))=FALSE,VLOOKUP($A19,DSLOP,DS_THI!E$4,0),"") -> 0 | F19: =IF(ISNA(VLOOKUP($A19,DSLOP,IN_DTK!G$5,0))=FALSE,VLOOKUP($A19,DSLOP,IN_DTK!G$5,0),"") -> 0 | H19: =IF($C19<>0,IF(ISNA(VLOOKUP($A19,DSLOP,DS_NLP!H$5,0))=FALSE,VLOOKUP($A19,DSLOP,DS_NLP!H$5,0),""),"")
... A161: 154 | B161: 154 | C161: =IF(ISNA(VLOOKUP($A161,DSLOP,DS_THI!C$4,0))=FALSE,VLOOKUP($A161,DSLOP,DS_THI!C$4,0),"") | D161: =IF(ISNA(VLOOKUP($A161,DSLOP,DS_THI!D$4,0))=FALSE,VLOOKUP($A161,DSLOP,DS_THI!D$4,0),"") | E161: =IF(ISNA(VLOOKUP($A161,DSLOP,DS_THI!E$4,0))=FALSE,VLOOKUP($A161,DSLOP,DS_THI!E$4,0),"") | F161: =IF(ISNA(VLOOKUP($A161,DSLOP,IN_DTK!G$5,0))=FALSE,VLOOKUP($A161,DSLOP,IN_DTK!G$5,0),"") | H161: =IF($C161<>0,IF(ISNA(VLOOKUP($A161,DSLOP,DS_NLP!H$5,0))=FALSE,VLOOKUP($A161,DSLOP,DS_NLP!H$5,0),""),"")

Sheet CODEMON
A1: MÃ MÔN HỌC | D1: TÊN MÔN HỌC | E1: Số Tín Chỉ | F1: LT | G1: TH
A2: Mã (chuyên) Ngành | B2: Số Hiệu Môn | K2: MÃ CHUYÊN NGÀNH | L2: TÊN CHUYÊN NGÀNH
A3: ACC | B3: 601 | C3: =A3&B3 -> ACC601 | D3: KẾ TOÁN QUẢN TRỊ | E3: 3 | F3: 2 | G3: 1 | K3: MCS | L3: KHOA HỌC MÁY TÍNH
A4: ACC | B4: 603 | C4: =A4&B4 -> ACC603 | D4: KẾ TOÁN TÀI CHÍNH | E4: 3 | F4: 2 | G4: 1 | K4: MBA | L4: QUẢN TRỊ KINH DOANH
A5: ACC | B5: 604 | C5: =A5&B5 -> ACC604 | D5: PHÂN TÍCH TÀI CHÍNH | E5: 2 | F5: 2 | K5: MAC | L5: KẾ TOÁN
A6: ACC | B6: 605 | C6: =A6&B6 -> ACC605 | D6: KẾ TOÁN QUỐC TẾ | E6: 2 | F6: 2 | K6: MCE | L6: KỸ THUẬT XÂY DỰNG
A7: ACC | B7: 606 | C7: =A7&B7 -> ACC606 | D7: KẾ TOÁN TẬP ĐOÀN | E7: 3 | F7: 2 | G7: 1 | K7: MBA.KG | L7: QUẢN TRỊ KINH DOANH
A8: AE | B8: 702 | C8: =A8&B8 -> AE702 | D8: ĐỊNH GIÁ TÀI SẢN | E8: 2 | K8: MAC.KG | L8: KẾ TOÁN
A9: AUD | B9: 607 | C9: =A9&B9 -> AUD607 | D9: HỆ THỐNG KIỂM SOÁT NỘI BỘ | E9: 2 | F9: 2 | K9: MBA2 | L9: QUẢN TRỊ KINH DOANH
A10: AUD | B10: 608 | C10: =A10&B10 -> AUD608 | D10: KIỂM TOÁN HOẠT ĐỘNG | E10: 2 | F10: 2 | K10: MFB1 | L10: TÀI CHÍNH- NGÂN HÀNG
A11: AUD | B11: 609 | C11: =A11&B11 -> AUD609 | D11: KIỂM TOÁN NỘI BỘ | E11: 2 | F11: 2 | K11: MFB2 | L11: TÀI CHÍNH- NGÂN HÀNG
A12: AUD | B12: 624 | C12: =A12&B12 -> AUD624 | D12: KIỂM TOÁN TÀI CHÍNH | E12: 3 | F12: 2 | G12: 1 | K12: MPM | L12: TỔ CHỨC QUẢN LÝ DƯỢC
A13: COM | B13: 684 | C13: =A13&B13 -> COM684 | D13: THƯƠNG LƯỢNG, ĐÀM PHÁN | E13: 2 | F13: 2 | K13: MIR | L13: QUAN HỆ QUỐC TẾ
A14: CS | B14: 512 | C14: =A14&B14 -> CS512 | D14: LẬP TRÌNH HƯỚNG ĐỐI TƯỢNG NC | E14: 3 | F14: 2 | G14: 1 | K14: MBA1 | L14: QUẢN TRỊ KINH DOANH
A15: CS | B15: 609 | C15: =A15&B15 -> CS609 | D15: XỬ LÝ ẢNH | E15: 2 | K15: MPM1 | L15: TỔ CHỨC QUẢN LÝ DƯỢC
A16: CS | B16: 607 | C16: =A16&B16 -> CS607 | D16: CÁC KỸ THUẬT TỐI ƯU | E16: 2
A17: CS | B17: 608 | C17: =A17&B17 -> CS608 | D17: LÝ THUYẾT NHẬN DẠNG | E17: 2
A18: CS | B18: 616 | C18: =A18&B18 -> CS616 | D18: GIẢI THUẬT NÂNG CAO | E18: 2
A19: CS | B19: 662 | C19: =A19&B19 -> CS662 | D19: KIỂM THỬ PHẦN MỀM | E19: 2
A20: CS | B20: 676 | C20: =A20&B20 -> CS676 | D20: AN TOÀN VÀ BẢO MẬT THÔNG TIN | E20: 3 | F20: 2 | G20: 1
A21: CS | B21: 702 | C21: =A21&B21 -> CS702 | D21: MẠNG VÀ TRUYỀN DỮ LIỆU NÂNG CAO | E21: 3 | F21: 2 | G21: 1
A22: CS | B22: 703 | C22: =A22&B22 -> CS703 | D22: XỬ LÝ NGÔN NGỮ TỰ NHIÊN | E22: 2
A23: CS | B23: 705 | C23: =A23&B23 -> CS705 | D23: AN NINH INTERNET | E23: 2
A24: CS | B24: 709 | C24: =A24&B24 -> CS709 | D24: ĐIỆN TOÁN ĐÁM MÂY | E24: 2
A25: CS | B25: 720 | C25: =A25&B25 -> CS720 | D25: HỆ PHÂN TÁN | E25: 3 | F25: 2 | G25: 1
A26: CS | B26: 753 | C26: =A26&B26 -> CS753 | D26: PHÂN TÍCH THIẾT KẾ HƯỚNG ĐỐI TƯỢNG | E26: 2
A27: ECO | B27: 602 | C27: =A27&B27 -> ECO602 | D27: KINH TẾ VI MÔ | E27: 3 | F27: 2 | G27: 1
A28: ECO | B28: 614 | C28: =A28&B28 -> ECO614 | D28: KINH TẾ VĨ MÔ | E28: 3 | F28: 2 | G28: 1
A29: ECO | B29: 651 | C29: =A29&B29 -> ECO651 | D29: KINH TẾ LƯỢNG | E29: 2
A30: ENG | B30: 601 | C30: =A30&B30 -> ENG601 | D30: TIẾNG ANH 1 | E30: 3 | F30: 3
A31: ENG | B31: 602 | C31: =A31&B31 -> ENG602 | D31: TIẾNG ANH 2 | E31: 3 | F31: 3
A32: ENG | B32: 701 | C32: =A32&B32 -> ENG701 | D32: TIẾNG ANH 3 | E32: 3 | F32: 3
A33: ERP | B33: 701 | C33: =A33&B33 -> ERP701 | D33: HỆ THỒNG ERP | E33: 2
A34: FIN | B34: 601 | C34: =A34&B34 -> FIN601 | D34: QUẢN TRỊ TÀI CHÍNH | E34: 3 | F34: 2
A35: FIN | B35: 615 | C35: =A35&B35 -> FIN615 | D35: TÀI CHÍNH QUỐC TẾ | E35: 2 | F35: 2
A36: FIN | B36: 701 | C36: =A36&B36 -> FIN701 | D36: THANH TOÁN QUỐC TẾ | E36: 2
A37: FIN | B37: 702 | C37: =A37&B37 -> FIN702 | D37: QUẢN TRỊ DỰ ÁN ĐẦU TƯ | E37: 2 | F37: 2
A38: FIN | B38: 702 | C38: =A38&B38 -> FIN702 | D38: QUẢN TRỊ CHẤT LƯỢNG | E38: 2
A39: FIN | B39: 731 | C39: =A39&B39 -> FIN731 | D39: LẬP VÀ PHÂN TÍCH DỰ ÁN | E39: 2 | F39: 2
A40: FS | B40: 702 | C40: =A40&B40 -> FS702 | D40: THỊ TRƯỜNG CHỨNG KHOÁN | E40: 2
A41: HRM | B41: 601 | C41: =A41&B41 -> HRM601 | D41: QUẢN TRỊ NHÂN SỰ | E41: 2
A42: INA | B42: 701 | C42: =A42&B42 -> INA701 | D42: KẾ TOÁN QUỐC TẾ | E42: 3 | F42: 2 | G42: 1
A43: IS | B43: 609 | C43: =A43&B43 -> IS609 | D43: CÔNG NGHỆ TRI THỨC ( HỆ CHUYÊN GIA ) | E43: 2
A44: IS | B44: 632 | C44: =A44&B44 -> IS632 | D44: QUẢN LÝ DỰ ÁN CNTT | E44: 2
A45: IS | B45: 651 | C45: =A45&B45 -> IS651 | D45: HỆ THỐNG THÔNG TIN KẾ TOÁN | E45: 2
A46: IS | B46: 651 | C46: =A46&B46 -> IS651 | D46: HỆ THỐNG THÔNG TIN QUẢN LÝ | E46: 2
A47: IS | B47: 681 | C47: =A47&B47 -> IS681 | D47: WEB NGỮ NGHĨA VÀ ỨNG DỤNG | E47: 2
A48: IS | B48: 701 | C48: =A48&B48 -> IS701 | D48: CƠ SỞ DỮ LIỆU NÂNG CAO | E48: 3 | F48: 2 | G48: 1
A49: IS | B49: 702 | C49: =A49&B49 -> IS702 | D49: HỆ HỖ TRỢ RA QUYẾT ĐỊNH | E49: 2
A50: IS | B50: 722 | C50: =A50&B50 -> IS722 | D50: KHAI PHÁ DỮ LIỆU | E50: 3 | F50: 2 | G50: 1
A51: LAW | B51: 612 | C51: =A51&B51 -> LAW612 | D51: LUẬT KINH TẾ | E51: 2 | F51: 2
A52: MGO | B52: 601 | C52: =A52&B52 -> MGO601 | D52: QUẢN TRỊ HOẠT ĐỘNG & SẢN XUẤT | E52: 3 | F52: 2 | G52: 1
A53: MGT | B53: 601 | C53: =A53&B53 -> MGT601 | D53: QUẢN TRỊ HỌC | E53: 2 | F53: 2
A54: MGT | B54: 703 | C54: =A54&B54 -> MGT703 | D54: QUẢN TRỊ CHIẾN LƯỢC | E54: 3 | F54: 2 | G54: 1
A55: MKT | B55: 651 | C55: =A55&B55 -> MKT651 | D55: QUẢN TRỊ TIẾP THỊ | E55: 3 | F55: 2 | G55: 1
A56: MTH | B56: 554 | C56: =A56&B56 -> MTH554 | D56: TOÁN TRONG CNTT | E56: 2
A57: OB | B57: 703 | C57: =A57&B57 -> OB703 | D57: NGHỆ THUẬT LÃNH ĐẠO | E57: 2
A58: PHI | B58: 500 | C58: =A58&B58 -> PHI500 | D58: TRIẾT HỌC | E58: 4 | F58: 2
A59: PHI | B59: 600 | C59: =A59&B59 -> PHI600 | D59: PHƯƠNG PHÁP LUẬN NCKH | E59: 2 | F59: 2
A60: RIM | B60: 701 | C60: =A60&B60 -> RIM701 | D60: QUẢN TRỊ RỦI RO | E60: 2
A61: SE | B61: 701 | C61: =A61&B61 -> SE701 | D61: CÔNG NGHỆ VÀ LẬP TRÌNH INTERNET | E61: 2
A62: SE | B62: 703 | C62: =A62&B62 -> SE703 | D62: KIẾN TRÚC PHẦN MỀM | E62: 2
A63: SM | B63: 702 | C63: =A63&B63 -> SM702 | D63: TÀI CHÍNH CHỨNG KHOÁN | E63: 2 | F63: 2
A64: STA | B64: 571 | C64: =A64&B64 -> STA571 | D64: XÁC SUẤT VÀ THỐNG KÊ NC | E64: 2 | F64: 2
A65: STA | B65: 606 | C65: =A65&B65 -> STA606 | D65: THỐNG KÊ TRONG KINH DOANH | E65: 2 | F65: 2
A66: ECO | B66: 607 | C66: =A66&B66 -> ECO607 | D66: KINH TẾ VĨ MÔ | E66: 3 | F66: 2 | G66: 1
A67: FIN | B67: 703 | C67: =A67&B67 -> FIN703 | D67: THỊ TRƯỜNG CHỨNG KHOÁN | E67: 3 | F67: 2 | G67: 1
A68: IS | B68: 652 | C68: =A68&B68 -> IS652 | D68: HỆ THỐNG THÔNG TIN KẾ TOÁN | E68: 3 | F68: 2 | G68: 1
A69: FIN | B69: 702 | C69: =A69&B69 -> FIN702 | D69: QUẢN TRỊ DỰ ÁN ĐẦU TƯ | E69: 3 | F69: 2 | G69: 1
A70: ACC | B70: 605 | C70: =A70&B70 -> ACC605 | D70: KẾ TOÁN QUỐC TẾ | E70: 2 | F70: 2
A71: PHI | B71: 500 | C71: =A71&"-A"&B71 -> PHI-A500 | D71: TRIẾT HỌC | E71: 4
A72: ENG | B72: 601 | C72: =A72&"-A"&B72 -> ENG-A601 | D72: TIẾNG ANH 1 | E72: 3
A73: ENG | B73: 602 | C73: =A73&"-A"&B73 -> ENG-A602 | D73: TIẾNG ANH 2 | E73: 3
A74: PHI | B74: 600 | C74: =A74&"-A"&B74 -> PHI-A600 | D74: PHƯƠNG PHÁP LUẬN NCKH | E74: 2
A75: ECO | B75: 602 | C75: =A75&"-A"&B75 -> ECO-A602 | D75: KINH TẾ VI MÔ | E75: 3
A76: ECO | B76: 651 | C76: =A76&"-A"&B76 -> ECO-A651 | D76: KINH TẾ LƯỢNG | E76: 3
A77: MGT | B77: 601 | C77: =A77&"-A"&B77 -> MGT-A601 | D77: QUẢN TRỊ HỌC | E77: 3
A78: ACC | B78: 606 | C78: =A78&"-A"&B78 -> ACC-A606 | D78: KẾ TOÁN TẬP ĐOÀN | E78: 3
A79: ACC | B79: 603 | C79: =A79&"-A"&B79 -> ACC-A603 | D79: KẾ TOÁN TÀI CHÍNH | E79: 3
A80: ACC | B80: 601 | C80: =A80&"-A"&B80 -> ACC-A601 | D80: KẾ TOÁN QUẢN TRỊ | E80: 3
A81: AUD | B81: 624 | C81: =A81&"-A"&B81 -> AUD-A624 | D81: KIỂM TOÁN TÀI CHÍNH | E81: 3
A82: ACC | B82: 604 | C82: =A82&"-A"&B82 -> ACC-A604 | D82: PHÂN TÍCH TÀI CHÍNH | E82: 3
... A106: ECO | B106: 602 | C106: =A106&"-A"&B106 -> ECO-A602 | D106: KINH TẾ VI MÔ | E106: 3
A107: FIN | B107: 600 | C107: =A107&B107 -> FIN600 | D107: TÀI CHÍNH QUỐC TẾ | E107: 3
A108: ECO | B108: 607 | C108: =A108&B108 -> ECO607 | D108: KINH TẾ VĨ MÔ | E108: 3
A109: CIE | B109: 615 | C109: =A109&B109 -> CIE615 | D109: LÝ THUYẾT ĐỘ TIN CẬY VÀ ỨNG DỤNG TRONG THIẾT KẾ | E109: 2
A110: CIE | B110: 633 | C110: =A110&B110 -> CIE633 | D110: THÍ NGHIỆM & KIỂM ĐỊNH CÔNG TRÌNH | E110: 3
A111: OB | B111: 651 | C111: =A111&B111 -> OB651 | D111: HÀNH VI TỔ CHỨC | E111: 3
A112: LAW | B112: 603 | C112: =A112&B112 -> LAW603 | D112: LUẬT KINH TẾ | E112: 3
A113: MEC | B113: 502 | C113: =A113&B113 -> MEC502 | D113: ĐỘNG LỰC HỌC KẾT CẤU | E113: 3
A114: MEC | B114: 501 | C114: =A114&B114 -> MEC501 | D114: MÔ HÌNH HÓA VÀ PHÂN TÍCH PHI KẾT CẤU | E114: 3
A115: ACC | B115: 631 | C115: =A115&B115 -> ACC631 | D115: KẾ TOÁN TÀI CHÍNH CÔNG | E115: 3
A116: CIE-A | B116: 671 | C116: =A116&B116 -> CIE-A671 | D116: VẬT LIỆU XÂY DỰNG NÂNG CAO | E116: 3
A117: ACC-A | B117: 605 | C117: =A117&B117 -> ACC-A605 | D117: KẾ TOÁN QUỐC TẾ | E117: 3
A118: MGO-A | B118: 601 | C118: =A118&B118 -> MGO-A601 | D118: QUẢN TRỊ HOẠT ĐỘNG & SẢN XUẤT | E118: 3
... A140: ACC-A | B140: 621 | C140: =A140&B140 -> ACC-A621 | D140: PHÂN TÍCH BÁO CÁO TÀI CHÍNH | E140: 3
A141: IS | B141: 651 | C141: =A141&"-A"&B141 -> IS-A651 | D141: HỆ THỐNG THÔNG TIN QUẢN LÝ | E141: 3
A142: CS | B142: 511 | C142: =A142&"-A"&B142 -> CS-A511 | D142: LẬP TRÌNH HƯỚNG ĐỐI TƯỢNG NÂNG CAO | E142: 3
A143: PHI | B143: 100 | C143: PHI 100 | D143: Phương Pháp Luận (gồm Nghiên Cứu Khoa Học) | E143: 2
A144: DTE | B144: 302 | C144: DTE 302 | D144: Kỹ Năng Xin Việc | E144: 2
...

Sheet XXXXXXXX
A2: **Our Values and Paths** | C2: **Set Our Values and Paths**
A3: KTM-22KTDN-L2.xls
A4: MAU DSTHI (03-03-2006).xls
A5: C:\Documents and Settings\mrkhanh\Application Data\Microsoft\Excel\XLSTART\Book1.
A6: 3
A9: **Add New Workbook, Infect It, Save It As Book1.**
C10: **Infect Workbook**
C22: **Auto and On Sheet Starts Here**
