Workbook
Name _DST1: #REF!
Name ADASD: #REF!
Name bb: '[1]Diem _98AV'!#REF!
Name bc: '[1]Diem _98AV'!#REF!
Name BD6HK58: '[2]97KT58'!$E$6:$DD$275
Name BD8HK: #REF!
Name bdiem: #REF!
Name CPT: #REF!
Name CSDL: [3]DSSV!$A$5:$L$504
Name DS96T: [4]DSSV!$A$6:$H$227
Name DSLOP: DSSV!$A$7:$T$996
Name du_dkien: #REF!
Name SRDFTSFSD: #REF!

Sheet DSSV
A1: BỘ GIÁO DỤC & ĐÀO TẠO | D1: BẢNG ĐIỂM TỔNG KẾT HỌC PHẦN | Q1: KHÓA: | R1: K31MPM1 | T1: =R1&" - HK" & R3 & " - "&G3& " - "&G2 -> K31MPM1 - HK1 - BIO 622 - Gen Dược Học
A2: TRƯỜNG ĐHDL DUY TÂN | F2: TÊN MÔN: | G2: =VLOOKUP($G$3,CODEMON!$C$3:$D$65536,2,0) -> Gen Dược Học | Q2: Số TC : | R2: =VLOOKUP($G$3,CODEMON!$C$3:$E$65536,3,0) -> 2
A3: 901B | E3: 254 Nguyễn Văn Linh | F3: MÃ MÔN: | G3: BIO 622 | Q3: HỌC KỲ: | R3: 1 | T3: K31MPM1
A4: Thời gian: 19h30 ngày 10/7/2026 | Q4: LẦN THI: | R4: 1
A5: STT | B5: MÃ SINH VIÊN | C5: HỌ VÀ | D5: TÊN | E5: GIỚI TÍNH | F5: NGÀY SINH | G5: LỚP | H5: A | I5: P | J5: Q | K5: H | L5: L | M5: M | N5: I | O5: G | P5: F | Q5: ĐIỂM T. KẾT | R5: ĐIỂM CHỮ | S5: GHI CHÚ | Z5: 209 PHAN THANH | AC5: 313-314-413-414-307-308-407
H6: 0.2 | I6: 0 | J6: 0.2 | K6: 0 | L6: 0 | M6: 0 | N6: 0 | O6: 0 | P6: 0.6 | Q6: =SUM(H6:P6) -> 1 | Z6: 301 | AA6: 2 | AB6: =IF(AA6=1,Z6,Z6&"/1-"&Z6&"/2") -> 301/1-301/2 | AC6: =IF(ISERROR(SEARCH(Z6,AC5)),AC5,SUBSTITUTE(AC5,Z6,AB6)) -> 313-314-413-414-307-308-407
A7: 1 | B7: 31315270077 | C7: Đặng Công | D7: Luận | E7: Nam | F7: 27/01/2001 | G7: K31MPM1 | H7: 8 | J7: 8 | P7: 9 | Q7: =IF(OR(ISNUMBER(P7)=FALSE,$Q$6<>100%,P7<1),0,ROUND(SUMPRODUCT($H$6:$P$6,H7:P7),1)) -> 8.6 | R7: =VLOOKUP(Q7,$U:$V,2,0) -> Tám Phẩy Sáu | U7: 1 | V7: Một | W7: =VLOOKUP(B7,[5]K23MPN!$B$5:$J$14,9,0) -> #N/A | Z7: 401 | AA7: 2 | AB7: =IF(AA7=1,Z7,Z7&"/1-"&Z7&"/2") -> 401/1-401/2 | AC7: =IF(ISERROR(SEARCH(Z7,AC6)),AC6,SUBSTITUTE(AC6,Z7,AB7)) -> 313-314-413-414-307-308-407
A8: 2 | B8: 31305270078 | C8: Trần Vương Diễm | D8: My | E8: Nữ | F8: 28/08/1986 | G8: K31MPM1 | H8: 7.5 | J8: 7.5 | P8: 0 | Q8: =IF(OR(ISNUMBER(P8)=FALSE,$Q$6<>100%,P8<1),0,ROUND(SUMPRODUCT($H$6:$P$6,H8:P8),1)) -> 0 | R8: =VLOOKUP(Q8,$U:$V,2,0) -> Không | S8: Hoãn thi | U8: 2 | V8: Hai | W8: =VLOOKUP(B8,[5]K23MPN!$B$5:$J$14,9,0) -> #N/A | Z8: 501 | AA8: 2 | AB8: =IF(AA8=1,Z8,Z8&"/1-"&Z8&"/2") -> 501/1-501/2 | AC8: =IF(ISERROR(SEARCH(Z8,AC7)),AC7,SUBSTITUTE(AC7,Z8,AB8)) -> 313-314-413-414-307-308-407
A9: 3 | B9: 31305270079 | C9: Nguyễn Yến | D9: Nhi | E9: Nữ | F9: 18/06/1997 | G9: K31MPM1 | H9: 7 | J9: 7.5 | P9: 8 | Q9: =IF(OR(ISNUMBER(P9)=FALSE,$Q$6<>100%,P9<1),0,ROUND(SUMPRODUCT($H$6:$P$6,H9:P9),1)) -> 7.7 | R9: =VLOOKUP(Q9,$U:$V,2,0) -> Bảy Phẩy Bảy | U9: 3 | V9: Ba | W9: =VLOOKUP(B9,[5]K23MPN!$B$5:$J$14,9,0) -> #N/A | Z9: 503 | AA9: 1 | AB9: =IF(AA9=1,Z9,Z9&"/1-"&Z9&"/2") -> 503 | AC9: =IF(ISERROR(SEARCH(Z9,AC8)),AC8,SUBSTITUTE(AC8,Z9,AB9)) -> 313-314-413-414-307-308-407
A10: 4 | B10: 31305270080 | C10: Bùi Thị Phương | D10: Uyên | E10: Nữ | F10: 22/09/1998 | G10: K31MPM1 | H10: 7 | J10: 7 | P10: 9.5 | Q10: =IF(OR(ISNUMBER(P10)=FALSE,$Q$6<>100%,P10<1),0,ROUND(SUMPRODUCT($H$6:$P$6,H10:P10),1)) -> 8.5 | R10: =VLOOKUP(Q10,$U:$V,2,0) -> Tám Phẩy Năm | U10: 4 | V10: Bốn | W10: =VLOOKUP(B10,[5]K23MPN!$B$5:$J$14,9,0) -> #N/A | Z10: 701B | AA10: 1 | AB10: =IF(AA10=1,Z10,Z10&"/1-"&Z10&"/2") -> 701B | AC10: =IF(ISERROR(SEARCH(Z10,AC9)),AC9,SUBSTITUTE(AC9,Z10,AB10)) -> 313-314-413-414-307-308-407
A11: 5 | B11: 31315270081 | C11: Nguyễn Văn | D11: Quý | E11: Nam | F11: 15/09/1981 | G11: K31MPM1 | H11: 7.5 | J11: 7 | P11: 7 | Q11: =IF(OR(ISNUMBER(P11)=FALSE,$Q$6<>100%,P11<1),0,ROUND(SUMPRODUCT($H$6:$P$6,H11:P11),1)) -> 7.1 | R11: =VLOOKUP(Q11,$U:$V,2,0) -> Bảy Phẩy Một | U11: 5 | V11: Năm | W11: =VLOOKUP(B11,[5]K23MPN!$B$5:$J$14,9,0) -> #N/A | Z11: 702 | AA11: 1 | AB11: =IF(AA11=1,Z11,Z11&"/1-"&Z11&"/2") -> 702 | AC11: =IF(ISERROR(SEARCH(Z11,AC10)),AC10,SUBSTITUTE(AC10,Z11,AB11)) -> 313-314-413-414-307-308-407
A12: 6 | B12: 31305270082 | C12: Nguyễn Huỳnh Ái | D12: Thi | E12: Nữ | F12: 28/06/2002 | G12: K31MPM1 | H12: 8.5 | J12: 8 | P12: 8.5 | Q12: =IF(OR(ISNUMBER(P12)=FALSE,$Q$6<>100%,P12<1),0,ROUND(SUMPRODUCT($H$6:$P$6,H12:P12),1)) -> 8.4 | R12: =VLOOKUP(Q12,$U:$V,2,0) -> Tám Phẩy Bốn | U12: DC | V12: Đình chỉ | W12: =VLOOKUP(B12,[5]K23MPN!$B$5:$J$14,9,0) -> #N/A | Z12: 801A | AA12: 1 | AB12: =IF(AA12=1,Z12,Z12&"/1-"&Z12&"/2") -> 801A | AC12: =IF(ISERROR(SEARCH(Z12,#REF!)),#REF!,SUBSTITUTE(#REF!,Z12,AB12)) -> #REF!
A13: 7 | Q13: 0 | R13: Không | U13: V | V13: Vắng | W13: =VLOOKUP(B13,[5]K23MPN!$B$5:$J$14,9,0) -> #N/A | Z13: 801B | AA13: 1 | AB13: =IF(AA13=1,Z13,Z13&"/1-"&Z13&"/2") -> 801B | AC13: =IF(ISERROR(SEARCH(Z13,AC12)),AC12,SUBSTITUTE(AC12,Z13,AB13)) -> #REF!
A14: 8 | Q14: =IF(OR(ISNUMBER(P14)=FALSE,$Q$6<>100%,P14<1),0,ROUND(SUMPRODUCT($H$6:$P$6,H14:P14),1)) -> 0 | R14: =VLOOKUP(Q14,$U:$V,2,0) -> Không | U14: 0 | V14: Không | W14: =VLOOKUP(B14,[5]K23MPN!$B$5:$J$14,9,0) -> #N/A | Z14: 802 | AA14: 1 | AB14: =IF(AA14=1,Z14,Z14&"/1-"&Z14&"/2") -> 802 | AC14: =IF(ISERROR(SEARCH(Z14,AC13)),AC13,SUBSTITUTE(AC13,Z14,AB14)) -> #REF!
A15: 9 | Q15: =IF(OR(ISNUMBER(P15)=FALSE,$Q$6<>100%,P15<1),0,ROUND(SUMPRODUCT($H$6:$P$6,H15:P15),1)) -> 0 | R15: =VLOOKUP(Q15,$U:$V,2,0) -> Không | U15: L | V15: Nợ LP | W15: =VLOOKUP(B15,[5]K23MPN!$B$5:$J$14,9,0) -> #N/A | Z15: 803 | AA15: 1 | AB15: =IF(AA15=1,Z15,Z15&"/1-"&Z15&"/2") -> 803 | AC15: =IF(ISERROR(SEARCH(Z15,AC14)),AC14,SUBSTITUTE(AC14,Z15,AB15)) -> #REF!
A16: 10 | Q16: =IF(OR(ISNUMBER(P16)=FALSE,$Q$6<>100%,P16<1),0,ROUND(SUMPRODUCT($H$6:$P$6,H16:P16),1)) -> 0 | R16: =VLOOKUP(Q16,$U:$V,2,0) -> Không | U16: 8 | V16: Tám | W16: =VLOOKUP(B16,[5]K23MPN!$B$5:$J$14,9,0) -> #N/A | Z16: 901A | AA16: 1 | AB16: =IF(AA16=1,Z16,Z16&"/1-"&Z16&"/2") -> 901A | AC16: =IF(ISERROR(SEARCH(Z16,AC15)),AC15,SUBSTITUTE(AC15,Z16,AB16)) -> #REF!
A17: 11 | Q17: =IF(OR(ISNUMBER(P17)=FALSE,$Q$6<>100%,P17<1),0,ROUND(SUMPRODUCT($H$6:$P$6,H17:P17),1)) -> 0 | R17: =VLOOKUP(Q17,$U:$V,2,0) -> Không | U17: 6 | V17: Sáu | W17: =VLOOKUP(B17,[5]K23MPN!$B$5:$J$14,9,0) -> #N/A | Z17: 901B | AA17: 1 | AB17: =IF(AA17=1,Z17,Z17&"/1-"&Z17&"/2") -> 901B | AC17: =IF(ISERROR(SEARCH(Z17,AC16)),AC16,SUBSTITUTE(AC16,Z17,AB17)) -> #REF!
A18: 12 | Q18: =IF(OR(ISNUMBER(P18)=FALSE,$Q$6<>100%,P18<1),0,ROUND(SUMPRODUCT($H$6:$P$6,H18:P18),1)) -> 0 | R18: =VLOOKUP(Q18,$U:$V,2,0) -> Không | U18: 9 | V18: Chín | W18: =VLOOKUP(B18,[5]K23MPN!$B$5:$J$14,9,0) -> #N/A | Z18: 902 | AA18: 1 | AB18: =IF(AA18=1,Z18,Z18&"/1-"&Z18&"/2") -> 902 | AC18: =IF(ISERROR(SEARCH(Z18,AC17)),AC17,SUBSTITUTE(AC17,Z18,AB18)) -> #REF!
A19: 13 | Q19: =IF(OR(ISNUMBER(P19)=FALSE,$Q$6<>100%,P19<1),0,ROUND(SUMPRODUCT($H$6:$P$6,H19:P19),1)) -> 0 | R19: =VLOOKUP(Q19,$U:$V,2,0) -> Không | U19: P | V19: Nợ HP | W19: =VLOOKUP(B19,[5]K22MPM!$A$5:$H$14,8,0) -> #N/A | Z19: 903 | AA19: 1 | AB19: =IF(AA19=1,Z19,Z19&"/1-"&Z19&"/2") -> 903 | AC19: =IF(ISERROR(SEARCH(Z19,AC18)),AC18,SUBSTITUTE(AC18,Z19,AB19)) -> #REF!
A20: 14 | Q20: =IF(OR(ISNUMBER(P20)=FALSE,$Q$6<>100%,P20<1),0,ROUND(SUMPRODUCT($H$6:$P$6,H20:P20),1)) -> 0 | R20: =VLOOKUP(Q20,$U:$V,2,0) -> Không | U20: 1.1 | V20: Một Phẩy Một | W20: =VLOOKUP(B20,[5]K22MPM!$A$5:$H$14,8,0) -> #N/A | Z20: 1002 | AA20: 1 | AB20: =IF(AA20=1,Z20,Z20&"/1-"&Z20&"/2") -> 1002 | AC20: =IF(ISERROR(SEARCH(Z20,AC19)),AC19,SUBSTITUTE(AC19,Z20,AB20)) -> #REF!
A21: 15 | Q21: =IF(OR(ISNUMBER(P21)=FALSE,$Q$6<>100%,P21<1),0,ROUND(SUMPRODUCT($H$6:$P$6,H21:P21),1)) -> 0 | R21: =VLOOKUP(Q21,$U:$V,2,0) -> Không | U21: 1.2 | V21: Một Phẩy Hai | W21: =VLOOKUP(B21,[5]K22MPM!$A$5:$H$14,8,0) -> #N/A | Z21: 1003 | AA21: 1 | AB21: =IF(AA21=1,Z21,Z21&"/1-"&Z21&"/2") -> 1003 | AC21: =IF(ISERROR(SEARCH(Z21,AC20)),AC20,SUBSTITUTE(AC20,Z21,AB21)) -> #REF!
A22: 16 | Q22: =IF(OR(ISNUMBER(P22)=FALSE,$Q$6<>100%,P22<1),0,ROUND(SUMPRODUCT($H$6:$P$6,H22:P22),1)) -> 0 | R22: =VLOOKUP(Q22,$U:$V,2,0) -> Không | U22: 1.3 | V22: Một Phẩy Ba | W22: =VLOOKUP(B22,[5]K22MPM!$A$5:$H$14,8,0) -> #N/A | Z22: 1101 | AA22: 2 | AB22: =IF(AA22=1,Z22,Z22&"/1-"&Z22&"/2") -> 1101/1-1101/2 | AC22: =IF(ISERROR(SEARCH(Z22,AC21)),AC21,SUBSTITUTE(AC21,Z22,AB22)) -> #REF!
A23: 17 | Q23: =IF(OR(ISNUMBER(P23)=FALSE,$Q$6<>100%,P23<1),0,ROUND(SUMPRODUCT($H$6:$P$6,H23:P23),1)) -> 0 | R23: =VLOOKUP(Q23,$U:$V,2,0) -> Không | U23: 1.5 | V23: Một Phẩy Năm | W23: =VLOOKUP(B23,[5]K22MPM!$A$5:$H$14,8,0) -> #N/A | Z23: 1201 | AA23: 2 | AB23: =IF(AA23=1,Z23,Z23&"/1-"&Z23&"/2") -> 1201/1-1201/2 | AC23: =IF(ISERROR(SEARCH(Z23,#REF!)),#REF!,SUBSTITUTE(#REF!,Z23,AB23)) -> #REF!
A24: 18 | Q24: =IF(OR(ISNUMBER(P24)=FALSE,$Q$6<>100%,P24<1),0,ROUND(SUMPRODUCT($H$6:$P$6,H24:P24),1)) -> 0 | R24: =VLOOKUP(Q24,$U:$V,2,0) -> Không | U24: 1.6 | V24: Một Phẩy Sáu | W24: =VLOOKUP(B24,[5]K22MPM!$A$5:$H$14,8,0) -> #N/A | Z24: 207 | AA24: 1 | AB24: =IF(AA24=1,Z24,Z24&"/1-"&Z24&"/2") -> 207 | AC24: =IF(ISERROR(SEARCH(Z24,AC23)),AC23,SUBSTITUTE(AC23,Z24,AB24)) -> #REF!
A25: 19 | Q25: =IF(OR(ISNUMBER(P25)=FALSE,$Q$6<>100%,P25<1),0,ROUND(SUMPRODUCT($H$6:$P$6,H25:P25),1)) -> 0 | R25: =VLOOKUP(Q25,$U:$V,2,0) -> Không | U25: 1.7 | V25: Một Phẩy Bảy | W25: =VLOOKUP(B25,[5]K22MPM!$A$5:$H$14,8,0) -> #N/A | Z25: 208 | AA25: 4 | AB25: =IF(AA25=1,Z25,Z25&"/1-"&Z25&"/2") -> 208/1-208/2 | AC25: =IF(ISERROR(SEARCH(Z25,AC24)),AC24,SUBSTITUTE(AC24,Z25,AB25)) -> #REF!
A26: 20 | Q26: =IF(OR(ISNUMBER(P26)=FALSE,$Q$6<>100%,P26<1),0,ROUND(SUMPRODUCT($H$6:$P$6,H26:P26),1)) -> 0 | R26: =VLOOKUP(Q26,$U:$V,2,0) -> Không | U26: 1.9 | V26: Một Phẩy Chín | W26: =VLOOKUP(B26,[5]K22MPM!$A$5:$H$14,8,0) -> #N/A | Z26: 214 | AA26: 2 | AB26: =IF(AA26=1,Z26,Z26&"/1-"&Z26&"/2") -> 214/1-214/2 | AC26: =IF(ISERROR(SEARCH(Z26,#REF!)),#REF!,SUBSTITUTE(#REF!,Z26,AB26)) -> #REF!
A27: 21 | Q27: =IF(OR(ISNUMBER(P27)=FALSE,$Q$6<>100%,P27<1),0,ROUND(SUMPRODUCT($H$6:$P$6,H27:P27),1)) -> 0 | R27: =VLOOKUP(Q27,$U:$V,2,0) -> Không | U27: 2.1 | V27: Hai Phẩy Một | Z27: 306 | AA27: 1 | AB27: =IF(AA27=1,Z27,Z27&"/1-"&Z27&"/2") -> 306 | AC27: =IF(ISERROR(SEARCH(Z27,AC26)),AC26,SUBSTITUTE(AC26,Z27,AB27)) -> #REF!
A28: 22 | Q28: =IF(OR(ISNUMBER(P28)=FALSE,$Q$6<>100%,P28<1),0,ROUND(SUMPRODUCT($H$6:$P$6,H28:P28),1)) -> 0 | R28: =VLOOKUP(Q28,$U:$V,2,0) -> Không | U28: 2.2 | V28: Hai Phẩy Hai | Z28: 307 | AA28: 2 | AB28: =IF(AA28=1,Z28,Z28&"/1-"&Z28&"/2") -> 307/1-307/2 | AC28: =IF(ISERROR(SEARCH(Z28,AC27)),AC27,SUBSTITUTE(AC27,Z28,AB28)) -> #REF!
A29: 23 | Q29: =IF(OR(ISNUMBER(P29)=FALSE,$Q$6<>100%,P29<1),0,ROUND(SUMPRODUCT($H$6:$P$6,H29:P29),1)) -> 0 | R29: =VLOOKUP(Q29,$U:$V,2,0) -> Không | U29: 2.3 | V29: Hai Phẩy Ba | Z29: 308 | AA29: 2 | AB29: =IF(AA29=1,Z29,Z29&"/1-"&Z29&"/2") -> 308/1-308/2 | AC29: =IF(ISERROR(SEARCH(Z29,AC28)),AC28,SUBSTITUTE(AC28,Z29,AB29)) -> #REF!
A30: 24 | Q30: =IF(OR(ISNUMBER(P30)=FALSE,$Q$6<>100%,P30<1),0,ROUND(SUMPRODUCT($H$6:$P$6,H30:P30),1)) -> 0 | R30: =VLOOKUP(Q30,$U:$V,2,0) -> Không | U30: 2.4 | V30: Hai Phẩy Bốn | Z30: 313 | AA30: 2 | AB30: =IF(AA30=1,Z30,Z30&"/1-"&Z30&"/2") -> 313/1-313/2 | AC30: =IF(ISERROR(SEARCH(Z30,AC29)),AC29,SUBSTITUTE(AC29,Z30,AB30)) -> #REF!
A31: 25 | Q31: =IF(OR(ISNUMBER(P31)=FALSE,$Q$6<>100%,P31<1),0,ROUND(SUMPRODUCT($H$6:$P$6,H31:P31),1)) -> 0 | R31: =VLOOKUP(Q31,$U:$V,2,0) -> Không | U31: 2.5 | V31: Hai Phẩy Năm | Z31: 314 | AA31: 2 | AB31: =IF(AA31=1,Z31,Z31&"/1-"&Z31&"/2") -> 314/1-314/2 | AC31: =IF(ISERROR(SEARCH(Z31,AC30)),AC30,SUBSTITUTE(AC30,Z31,AB31)) -> #REF!
A32: 26 | Q32: =IF(OR(ISNUMBER(P32)=FALSE,$Q$6<>100%,P32<1),0,ROUND(SUMPRODUCT($H$6:$P$6,H32:P32),1)) -> 0 | R32: =VLOOKUP(Q32,$U:$V,2,0) -> Không | U32: 2.6 | V32: Hai Phẩy Sáu | Z32: 406 | AA32: 1 | AB32: =IF(AA32=1,Z32,Z32&"/1-"&Z32&"/2") -> 406 | AC32: =IF(ISERROR(SEARCH(Z32,AC31)),AC31,SUBSTITUTE(AC31,Z32,AB32)) -> #REF!
A33: 27 | Q33: =IF(OR(ISNUMBER(P33)=FALSE,$Q$6<>100%,P33<1),0,ROUND(SUMPRODUCT($H$6:$P$6,H33:P33),1)) -> 0 | R33: =VLOOKUP(Q33,$U:$V,2,0) -> Không | U33: 2.7 | V33: Hai Phẩy Bảy | Z33: 407 | AA33: 2 | AB33: =IF(AA33=1,Z33,Z33&"/1-"&Z33&"/2") -> 407/1-407/2 | AC33: =IF(ISERROR(SEARCH(Z33,AC32)),AC32,SUBSTITUTE(AC32,Z33,AB33)) -> #REF!
A34: 28 | Q34: =IF(OR(ISNUMBER(P34)=FALSE,$Q$6<>100%,P34<1),0,ROUND(SUMPRODUCT($H$6:$P$6,H34:P34),1)) -> 0 | R34: =VLOOKUP(Q34,$U:$V,2,0) -> Không | U34: 2.8 | V34: Hai Phẩy Tám | Z34: 408 | AA34: 2 | AB34: =IF(AA34=1,Z34,Z34&"/1-"&Z34&"/2") -> 408/1-408/2 | AC34: =IF(ISERROR(SEARCH(Z34,AC33)),AC33,SUBSTITUTE(AC33,Z34,AB34)) -> #REF!
A35: 29 | Q35: =IF(OR(ISNUMBER(P35)=FALSE,$Q$6<>100%,P35<1),0,ROUND(SUMPRODUCT($H$6:$P$6,H35:P35),1)) -> 0 | R35: =VLOOKUP(Q35,$U:$V,2,0) -> Không | U35: 2.9 | V35: Hai Phẩy Chín | Z35: 413 | AA35: 2 | AB35: =IF(AA35=1,Z35,Z35&"/1-"&Z35&"/2") -> 413/1-413/2 | AC35: =IF(ISERROR(SEARCH(Z35,AC34)),AC34,SUBSTITUTE(AC34,Z35,AB35)) -> #REF!
A36: 30 | Q36: =IF(OR(ISNUMBER(P36)=FALSE,$Q$6<>100%,P36<1),0,ROUND(SUMPRODUCT($H$6:$P$6,H36:P36),1)) -> 0 | R36: =VLOOKUP(Q36,$U:$V,2,0) -> Không | U36: 3.1 | V36: Ba Phẩy Một | Z36: 414 | AA36: 2 | AB36: =IF(AA36=1,Z36,Z36&"/1-"&Z36&"/2") -> 414/1-414/2 | AC36: =IF(ISERROR(SEARCH(Z36,AC35)),AC35,SUBSTITUTE(AC35,Z36,AB36)) -> #REF!
A37: 31 | Q37: =IF(OR(ISNUMBER(P37)=FALSE,$Q$6<>100%,P37<1),0,ROUND(SUMPRODUCT($H$6:$P$6,H37:P37),1)) -> 0 | R37: =VLOOKUP(Q37,$U:$V,2,0) -> Không | U37: 3.2 | V37: Ba Phẩy Hai | Z37: 506 | AA37: 1 | AB37: =IF(AA37=1,Z37,Z37&"/1-"&Z37&"/2") -> 506 | AC37: =IF(ISERROR(SEARCH(Z37,AC36)),AC36,SUBSTITUTE(AC36,Z37,AB37)) -> #REF!
A38: 32 | Q38: =IF(OR(ISNUMBER(P38)=FALSE,$Q$6<>100%,P38<1),0,ROUND(SUMPRODUCT($H$6:$P$6,H38:P38),1)) -> 0 | R38: =VLOOKUP(Q38,$U:$V,2,0) -> Không | S38: 1 | U38: 3.3 | V38: Ba Phẩy Ba | Z38: 507 | AA38: 2 | AB38: =IF(AA38=1,Z38,Z38&"/1-"&Z38&"/2") -> 507/1-507/2 | AC38: =IF(ISERROR(SEARCH(Z38,AC37)),AC37,SUBSTITUTE(AC37,Z38,AB38)) -> #REF!
A39: 33 | Q39: =IF(OR(ISNUMBER(P39)=FALSE,$Q$6<>100%,P39<1),0,ROUND(SUMPRODUCT($H$6:$P$6,H39:P39),1)) -> 0 | R39: =VLOOKUP(Q39,$U:$V,2,0) -> Không | S39: 2 | U39: 3.4 | V39: Ba Phẩy Bốn | Z39: 508 | AA39: 2 | AB39: =IF(AA39=1,Z39,Z39&"/1-"&Z39&"/2") -> 508/1-508/2 | AC39: =IF(ISERROR(SEARCH(Z39,AC38)),AC38,SUBSTITUTE(AC38,Z39,AB39)) -> #REF!
U40: 3.5 | V40: Ba Phẩy Năm | Z40: 513 | AA40: 2 | AB40: =IF(AA40=1,Z40,Z40&"/1-"&Z40&"/2") -> 513/1-513/2 | AC40: =IF(ISERROR(SEARCH(Z40,AC39)),AC39,SUBSTITUTE(AC39,Z40,AB40)) -> #REF!
...

Sheet IN_DTK
B1: BỘ GIÁO DỤC & ĐÀO TẠO | F1: =DSSV!D1&" * LỚP: "&UPPER(DSSV!$T$3) -> BẢNG ĐIỂM TỔNG KẾT HỌC PHẦN * LỚP: K31MPM1
B2: ĐẠI HỌC DUY TÂN | F2: ="CHUYÊN NGÀNH: "&VLOOKUP(RIGHT(DSSV!R1,4),CODEMON!$K$3:$L$27,2,0) -> CHUYÊN NGÀNH: TỔ CHỨC QUẢN LÝ DƯỢC | S2: ="Số TC : "&DSSV!R2 -> Số TC : 2
B3: ="HỌC PHẦN: "&UPPER(DSSV!G2)&" * " & "MÃ HP: "&DSSV!G3 -> HỌC PHẦN: GEN DƯỢC HỌC * MÃ HP: BIO 622 | S3: ="Học kỳ : " & DSSV!R3 -> Học kỳ : 1
B4: =DSSV!A4 -> Thời gian: 19h30 ngày 10/7/2026 | S4: ="Lần thi : "&DSSV!R4 -> Lần thi : 1
B5: 1 | C5: 2 | D5: 3 | E5: 4 | F5: 6 | G5: 7 | H5: 8 | I5: 9 | J5: 10 | K5: 11 | L5: 12 | M5: 13 | N5: 14 | O5: 15 | P5: 16 | Q5: 17 | R5: 18 | S5: 19
B6: STT | C6: MÃ HỌC VIÊN | D6: HỌ VÀ TÊN | F6: NGÀY SINH | G6: LỚP | H6: ĐIỂM QTHT & KTHP | Q6: ĐIỂM T. KẾT | S6: GHI CHÚ
A7: STT | H7: A | I7: P | J7: Q | K7: H | L7: L | M7: M | N7: I | O7: G | P7: F
H8: =DSSV!H6 -> 0.2 | I8: =DSSV!I6 -> 0 | J8: =DSSV!J6 -> 0.2 | K8: =DSSV!K6 -> 0 | L8: =DSSV!L6 -> 0 | M8: =DSSV!M6 -> 0 | N8: =DSSV!N6 -> 0 | O8: =DSSV!O6 -> 0 | P8: =DSSV!P6 -> 0.6 | Q8: SỐ | R8: CHỮ
A9: 1 | B9: 1 | C9: =IF(ISNA(VLOOKUP($A9,DSLOP,IN_DTK!C$5,0))=FALSE,VLOOKUP($A9,DSLOP,IN_DTK!C$5,0),"") -> 31315270077 | D9: =IF(ISNA(VLOOKUP($A9,DSLOP,IN_DTK!D$5,0))=FALSE,VLOOKUP($A9,DSLOP,IN_DTK!D$5,0),"") -> Đặng Công | E9: =IF(ISNA(VLOOKUP($A9,DSLOP,IN_DTK!E$5,0))=FALSE,VLOOKUP($A9,DSLOP,IN_DTK!E$5,0),"") -> Luận | F9: =IF(ISNA(VLOOKUP($A9,DSLOP,IN_DTK!F$5,0))=FALSE,VLOOKUP($A9,DSLOP,IN_DTK!F$5,0),"") -> 27/01/2001 | G9: =IF(ISNA(VLOOKUP($A9,DSLOP,IN_DTK!G$5,0))=FALSE,VLOOKUP($A9,DSLOP,IN_DTK!G$5,0),"") -> K31MPM1 | H9: =IF(ISNA(VLOOKUP($A9,DSLOP,IN_DTK!H$5,0))=FALSE,IF(H$8<>0,VLOOKUP($A9,DSLOP,IN_DTK!H$5,0),""),"") -> 8 | I9: =IF(ISNA(VLOOKUP($A9,DSLOP,IN_DTK!I$5,0))=FALSE,IF(I$8<>0,VLOOKUP($A9,DSLOP,IN_DTK!I$5,0),""),"") | J9: =IF(ISNA(VLOOKUP($A9,DSLOP,IN_DTK!J$5,0))=FALSE,IF(J$8<>0,VLOOKUP($A9,DSLOP,IN_DTK!J$5,0),""),"") -> 8 | K9: =IF(ISNA(VLOOKUP($A9,DSLOP,IN_DTK!K$5,0))=FALSE,IF(K$8<>0,VLOOKUP($A9,DSLOP,IN_DTK!K$5,0),""),"") | L9: =IF(ISNA(VLOOKUP($A9,DSLOP,IN_DTK!L$5,0))=FALSE,IF(L$8<>0,VLOOKUP($A9,DSLOP,IN_DTK!L$5,0),""),"") | M9: =IF(ISNA(VLOOKUP($A9,DSLOP,IN_DTK!M$5,0))=FALSE,IF(M$8<>0,VLOOKUP($A9,DSLOP,IN_DTK!M$5,0),""),"") | N9: =IF(ISNA(VLOOKUP($A9,DSLOP,IN_DTK!N$5,0))=FALSE,IF(N$8<>0,VLOOKUP($A9,DSLOP,IN_DTK!N$5,0),""),"") | O9: =IF(ISNA(VLOOKUP($A9,DSLOP,IN_DTK!O$5,0))=FALSE,IF(O$8<>0,VLOOKUP($A9,DSLOP,IN_DTK!O$5,0),""),"") | ... R9: =IF(ISNA(VLOOKUP($A9,DSLOP,IN_DTK!R$5,0))=FALSE,IF(R$8<>0,VLOOKUP($A9,DSLOP,IN_DTK!R$5,0),""),"") -> Tám Phẩy Sáu | S9: =IF(ISNA(VLOOKUP($A9,DSLOP,IN_DTK!S$5,0))=FALSE,IF(A$9<>0,VLOOKUP($A9,DSLOP,IN_DTK!S$5,0),""),"") -> 0 | T9: TS. Nguyễn Thành Trung
A10: 2 | B10: 2 | C10: =IF(ISNA(VLOOKUP($A10,DSLOP,IN_DTK!C$5,0))=FALSE,VLOOKUP($A10,DSLOP,IN_DTK!C$5,0),"") -> 31305270078 | D10: =IF(ISNA(VLOOKUP($A10,DSLOP,IN_DTK!D$5,0))=FALSE,VLOOKUP($A10,DSLOP,IN_DTK!D$5,0),"") -> Trần Vương Diễm | E10: =IF(ISNA(VLOOKUP($A10,DSLOP,IN_DTK!E$5,0))=FALSE,VLOOKUP($A10,DSLOP,IN_DTK!E$5,0),"") -> My | F10: =IF(ISNA(VLOOKUP($A10,DSLOP,IN_DTK!F$5,0))=FALSE,VLOOKUP($A10,DSLOP,IN_DTK!F$5,0),"") -> 28/08/1986 | G10: =IF(ISNA(VLOOKUP($A10,DSLOP,IN_DTK!G$5,0))=FALSE,VLOOKUP($A10,DSLOP,IN_DTK!G$5,0),"") -> K31MPM1 | H10: =IF(ISNA(VLOOKUP($A10,DSLOP,IN_DTK!H$5,0))=FALSE,IF(H$8<>0,VLOOKUP($A10,DSLOP,IN_DTK!H$5,0),""),"") -> 7.5 | I10: =IF(ISNA(VLOOKUP($A10,DSLOP,IN_DTK!I$5,0))=FALSE,IF(I$8<>0,VLOOKUP($A10,DSLOP,IN_DTK!I$5,0),""),"") | J10: =IF(ISNA(VLOOKUP($A10,DSLOP,IN_DTK!J$5,0))=FALSE,IF(J$8<>0,VLOOKUP($A10,DSLOP,IN_DTK!J$5,0),""),"") -> 7.5 | K10: =IF(ISNA(VLOOKUP($A10,DSLOP,IN_DTK!K$5,0))=FALSE,IF(K$8<>0,VLOOKUP($A10,DSLOP,IN_DTK!K$5,0),""),"") | L10: =IF(ISNA(VLOOKUP($A10,DSLOP,IN_DTK!L$5,0))=FALSE,IF(L$8<>0,VLOOKUP($A10,DSLOP,IN_DTK!L$5,0),""),"") | M10: =IF(ISNA(VLOOKUP($A10,DSLOP,IN_DTK!M$5,0))=FALSE,IF(M$8<>0,VLOOKUP($A10,DSLOP,IN_DTK!M$5,0),""),"") | N10: =IF(ISNA(VLOOKUP($A10,DSLOP,IN_DTK!N$5,0))=FALSE,IF(N$8<>0,VLOOKUP($A10,DSLOP,IN_DTK!N$5,0),""),"") | O10: =IF(ISNA(VLOOKUP($A10,DSLOP,IN_DTK!O$5,0))=FALSE,IF(O$8<>0,VLOOKUP($A10,DSLOP,IN_DTK!O$5,0),""),"") | ... R10: =IF(ISNA(VLOOKUP($A10,DSLOP,IN_DTK!R$5,0))=FALSE,IF(R$8<>0,VLOOKUP($A10,DSLOP,IN_DTK!R$5,0),""),"") -> Không | S10: =IF(ISNA(VLOOKUP($A10,DSLOP,IN_DTK!S$5,0))=FALSE,IF(A$9<>0,VLOOKUP($A10,DSLOP,IN_DTK!S$5,0),""),"") -> Hoãn thi
A11: 3 | B11: 3 | C11: =IF(ISNA(VLOOKUP($A11,DSLOP,IN_DTK!C$5,0))=FALSE,VLOOKUP($A11,DSLOP,IN_DTK!C$5,0),"") -> 31305270079 | D11: =IF(ISNA(VLOOKUP($A11,DSLOP,IN_DTK!D$5,0))=FALSE,VLOOKUP($A11,DSLOP,IN_DTK!D$5,0),"") -> Nguyễn Yến | E11: =IF(ISNA(VLOOKUP($A11,DSLOP,IN_DTK!E$5,0))=FALSE,VLOOKUP($A11,DSLOP,IN_DTK!E$5,0),"") -> Nhi | F11: =IF(ISNA(VLOOKUP($A11,DSLOP,IN_DTK!F$5,0))=FALSE,VLOOKUP($A11,DSLOP,IN_DTK!F$5,0),"") -> 18/06/1997 | G11: =IF(ISNA(VLOOKUP($A11,DSLOP,IN_DTK!G$5,0))=FALSE,VLOOKUP($A11,DSLOP,IN_DTK!G$5,0),"") -> K31MPM1 | H11: =IF(ISNA(VLOOKUP($A11,DSLOP,IN_DTK!H$5,0))=FALSE,IF(H$8<>0,VLOOKUP($A11,DSLOP,IN_DTK!H$5,0),""),"") -> 7 | I11: =IF(ISNA(VLOOKUP($A11,DSLOP,IN_DTK!I$5,0))=FALSE,IF(I$8<>0,VLOOKUP($A11,DSLOP,IN_DTK!I$5,0),""),"") | J11: =IF(ISNA(VLOOKUP($A11,DSLOP,IN_DTK!J$5,0))=FALSE,IF(J$8<>0,VLOOKUP($A11,DSLOP,IN_DTK!J$5,0),""),"") -> 7.5 | K11: =IF(ISNA(VLOOKUP($A11,DSLOP,IN_DTK!K$5,0))=FALSE,IF(K$8<>0,VLOOKUP($A11,DSLOP,IN_DTK!K$5,0),""),"") | L11: =IF(ISNA(VLOOKUP($A11,DSLOP,IN_DTK!L$5,0))=FALSE,IF(L$8<>0,VLOOKUP($A11,DSLOP,IN_DTK!L$5,0),""),"") | M11: =IF(ISNA(VLOOKUP($A11,DSLOP,IN_DTK!M$5,0))=FALSE,IF(M$8<>0,VLOOKUP($A11,DSLOP,IN_DTK!M$5,0),""),"") | N11: =IF(ISNA(VLOOKUP($A11,DSLOP,IN_DTK!N$5,0))=FALSE,IF(N$8<>0,VLOOKUP($A11,DSLOP,IN_DTK!N$5,0),""),"") | O11: =IF(ISNA(VLOOKUP($A11,DSLOP,IN_DTK!O$5,0))=FALSE,IF(O$8<>0,VLOOKUP($A11,DSLOP,IN_DTK!O$5,0),""),"") | ... R11: =IF(ISNA(VLOOKUP($A11,DSLOP,IN_DTK!R$5,0))=FALSE,IF(R$8<>0,VLOOKUP($A11,DSLOP,IN_DTK!R$5,0),""),"") -> Bảy Phẩy Bảy | S11: =IF(ISNA(VLOOKUP($A11,DSLOP,IN_DTK!S$5,0))=FALSE,IF(A$9<>0,VLOOKUP($A11,DSLOP,IN_DTK!S$5,0),""),"") -> 0
A12: 4 | B12: 4 | C12: =IF(ISNA(VLOOKUP($A12,DSLOP,IN_DTK!C$5,0))=FALSE,VLOOKUP($A12,DSLOP,IN_DTK!C$5,0),"") -> 31305270080 | D12: =IF(ISNA(VLOOKUP($A12,DSLOP,IN_DTK!D$5,0))=FALSE,VLOOKUP($A12,DSLOP,IN_DTK!D$5,0),"") -> Bùi Thị Phương | E12: =IF(ISNA(VLOOKUP($A12,DSLOP,IN_DTK!E$5,0))=FALSE,VLOOKUP($A12,DSLOP,IN_DTK!E$5,0),"") -> Uyên | F12: =IF(ISNA(VLOOKUP($A12,DSLOP,IN_DTK!F$5,0))=FALSE,VLOOKUP($A12,DSLOP,IN_DTK!F$5,0),"") -> 22/09/1998 | G12: =IF(ISNA(VLOOKUP($A12,DSLOP,IN_DTK!G$5,0))=FALSE,VLOOKUP($A12,DSLOP,IN_DTK!G$5,0),"") -> K31MPM1 | H12: =IF(ISNA(VLOOKUP($A12,DSLOP,IN_DTK!H$5,0))=FALSE,IF(H$8<>0,VLOOKUP($A12,DSLOP,IN_DTK!H$5,0),""),"") -> 7 | I12: =IF(ISNA(VLOOKUP($A12,DSLOP,IN_DTK!I$5,0))=FALSE,IF(I$8<>0,VLOOKUP($A12,DSLOP,IN_DTK!I$5,0),""),"") | J12: =IF(ISNA(VLOOKUP($A12,DSLOP,IN_DTK!J$5,0))=FALSE,IF(J$8<>0,VLOOKUP($A12,DSLOP,IN_DTK!J$5,0),""),"") -> 7 | K12: =IF(ISNA(VLOOKUP($A12,DSLOP,IN_DTK!K$5,0))=FALSE,IF(K$8<>0,VLOOKUP($A12,DSLOP,IN_DTK!K$5,0),""),"") | L12: =IF(ISNA(VLOOKUP($A12,DSLOP,IN_DTK!L$5,0))=FALSE,IF(L$8<>0,VLOOKUP($A12,DSLOP,IN_DTK!L$5,0),""),"") | M12: =IF(ISNA(VLOOKUP($A12,DSLOP,IN_DTK!M$5,0))=FALSE,IF(M$8<>0,VLOOKUP($A12,DSLOP,IN_DTK!M$5,0),""),"") | N12: =IF(ISNA(VLOOKUP($A12,DSLOP,IN_DTK!N$5,0))=FALSE,IF(N$8<>0,VLOOKUP($A12,DSLOP,IN_DTK!N$5,0),""),"") | O12: =IF(ISNA(VLOOKUP($A12,DSLOP,IN_DTK!O$5,0))=FALSE,IF(O$8<>0,VLOOKUP($A12,DSLOP,IN_DTK!O$5,0),""),"") | ... R12: =IF(ISNA(VLOOKUP($A12,DSLOP,IN_DTK!R$5,0))=FALSE,IF(R$8<>0,VLOOKUP($A12,DSLOP,IN_DTK!R$5,0),""),"") -> Tám Phẩy Năm | S12: =IF(ISNA(VLOOKUP($A12,DSLOP,IN_DTK!S$5,0))=FALSE,IF(A$9<>0,VLOOKUP($A12,DSLOP,IN_DTK!S$5,0),""),"") -> 0
A13: 5 | B13: 5 | C13: =IF(ISNA(VLOOKUP($A13,DSLOP,IN_DTK!C$5,0))=FALSE,VLOOKUP($A13,DSLOP,IN_DTK!C$5,0),"") -> 31315270081 | D13: =IF(ISNA(VLOOKUP($A13,DSLOP,IN_DTK!D$5,0))=FALSE,VLOOKUP($A13,DSLOP,IN_DTK!D$5,0),"") -> Nguyễn Văn | E13: =IF(ISNA(VLOOKUP($A13,DSLOP,IN_DTK!E$5,0))=FALSE,VLOOKUP($A13,DSLOP,IN_DTK!E$5,0),"") -> Quý | F13: =IF(ISNA(VLOOKUP($A13,DSLOP,IN_DTK!F$5,0))=FALSE,VLOOKUP($A13,DSLOP,IN_DTK!F$5,0),"") -> 15/09/1981 | G13: =IF(ISNA(VLOOKUP($A13,DSLOP,IN_DTK!G$5,0))=FALSE,VLOOKUP($A13,DSLOP,IN_DTK!G$5,0),"") -> K31MPM1 | H13: =IF(ISNA(VLOOKUP($A13,DSLOP,IN_DTK!H$5,0))=FALSE,IF(H$8<>0,VLOOKUP($A13,DSLOP,IN_DTK!H$5,0),""),"") -> 7.5 | I13: =IF(ISNA(VLOOKUP($A13,DSLOP,IN_DTK!I$5,0))=FALSE,IF(I$8<>0,VLOOKUP($A13,DSLOP,IN_DTK!I$5,0),""),"") | J13: =IF(ISNA(VLOOKUP($A13,DSLOP,IN_DTK!J$5,0))=FALSE,IF(J$8<>0,VLOOKUP($A13,DSLOP,IN_DTK!J$5,0),""),"") -> 7 | K13: =IF(ISNA(VLOOKUP($A13,DSLOP,IN_DTK!K$5,0))=FALSE,IF(K$8<>0,VLOOKUP($A13,DSLOP,IN_DTK!K$5,0),""),"") | L13: =IF(ISNA(VLOOKUP($A13,DSLOP,IN_DTK!L$5,0))=FALSE,IF(L$8<>0,VLOOKUP($A13,DSLOP,IN_DTK!L$5,0),""),"") | M13: =IF(ISNA(VLOOKUP($A13,DSLOP,IN_DTK!M$5,0))=FALSE,IF(M$8<>0,VLOOKUP($A13,DSLOP,IN_DTK!M$5,0),""),"") | N13: =IF(ISNA(VLOOKUP($A13,DSLOP,IN_DTK!N$5,0))=FALSE,IF(N$8<>0,VLOOKUP($A13,DSLOP,IN_DTK!N$5,0),""),"") | O13: =IF(ISNA(VLOOKUP($A13,DSLOP,IN_DTK!O$5,0))=FALSE,IF(O$8<>0,VLOOKUP($A13,DSLOP,IN_DTK!O$5,0),""),"") | ... R13: =IF(ISNA(VLOOKUP($A13,DSLOP,IN_DTK!R$5,0))=FALSE,IF(R$8<>0,VLOOKUP($A13,DSLOP,IN_DTK!R$5,0),""),"") -> Bảy Phẩy Một | S13: =IF(ISNA(VLOOKUP($A13,DSLOP,IN_DTK!S$5,0))=FALSE,IF(A$9<>0,VLOOKUP($A13,DSLOP,IN_DTK!S$5,0),""),"") -> 0
A14: 6 | B14: 6 | C14: =IF(ISNA(VLOOKUP($A14,DSLOP,IN_DTK!C$5,0))=FALSE,VLOOKUP($A14,DSLOP,IN_DTK!C$5,0),"") -> 31305270082 | D14: =IF(ISNA(VLOOKUP($A14,DSLOP,IN_DTK!D$5,0))=FALSE,VLOOKUP($A14,DSLOP,IN_DTK!D$5,0),"") -> Nguyễn Huỳnh Ái | E14: =IF(ISNA(VLOOKUP($A14,DSLOP,IN_DTK!E$5,0))=FALSE,VLOOKUP($A14,DSLOP,IN_DTK!E$5,0),"") -> Thi | F14: =IF(ISNA(VLOOKUP($A14,DSLOP,IN_DTK!F$5,0))=FALSE,VLOOKUP($A14,DSLOP,IN_DTK!F$5,0),"") -> 28/06/2002 | G14: =IF(ISNA(VLOOKUP($A14,DSLOP,IN_DTK!G$5,0))=FALSE,VLOOKUP($A14,DSLOP,IN_DTK!G$5,0),"") -> K31MPM1 | H14: =IF(ISNA(VLOOKUP($A14,DSLOP,IN_DTK!H$5,0))=FALSE,IF(H$8<>0,VLOOKUP($A14,DSLOP,IN_DTK!H$5,0),""),"") -> 8.5 | I14: =IF(ISNA(VLOOKUP($A14,DSLOP,IN_DTK!I$5,0))=FALSE,IF(I$8<>0,VLOOKUP($A14,DSLOP,IN_DTK!I$5,0),""),"") | J14: =IF(ISNA(VLOOKUP($A14,DSLOP,IN_DTK!J$5,0))=FALSE,IF(J$8<>0,VLOOKUP($A14,DSLOP,IN_DTK!J$5,0),""),"") -> 8 | K14: =IF(ISNA(VLOOKUP($A14,DSLOP,IN_DTK!K$5,0))=FALSE,IF(K$8<>0,VLOOKUP($A14,DSLOP,IN_DTK!K$5,0),""),"") | L14: =IF(ISNA(VLOOKUP($A14,DSLOP,IN_DTK!L$5,0))=FALSE,IF(L$8<>0,VLOOKUP($A14,DSLOP,IN_DTK!L$5,0),""),"") | M14: =IF(ISNA(VLOOKUP($A14,DSLOP,IN_DTK!M$5,0))=FALSE,IF(M$8<>0,VLOOKUP($A14,DSLOP,IN_DTK!M$5,0),""),"") | N14: =IF(ISNA(VLOOKUP($A14,DSLOP,IN_DTK!N$5,0))=FALSE,IF(N$8<>0,VLOOKUP($A14,DSLOP,IN_DTK!N$5,0),""),"") | O14: =IF(ISNA(VLOOKUP($A14,DSLOP,IN_DTK!O$5,0))=FALSE,IF(O$8<>0,VLOOKUP($A14,DSLOP,IN_DTK!O$5,0),""),"") | ... R14: =IF(ISNA(VLOOKUP($A14,DSLOP,IN_DTK!R$5,0))=FALSE,IF(R$8<>0,VLOOKUP($A14,DSLOP,IN_DTK!R$5,0),""),"") -> Tám Phẩy Bốn | S14: =IF(ISNA(VLOOKUP($A14,DSLOP,IN_DTK!S$5,0))=FALSE,IF(A$9<>0,VLOOKUP($A14,DSLOP,IN_DTK!S$5,0),""),"") -> 0
A15: 7 | B15: 7 | C15: =IF(ISNA(VLOOKUP($A15,DSLOP,IN_DTK!C$5,0))=FALSE,VLOOKUP($A15,DSLOP,IN_DTK!C$5,0),"") -> 0 | D15: =IF(ISNA(VLOOKUP($A15,DSLOP,IN_DTK!D$5,0))=FALSE,VLOOKUP($A15,DSLOP,IN_DTK!D$5,0),"") -> 0 | E15: =IF(ISNA(VLOOKUP($A15,DSLOP,IN_DTK!E$5,0))=FALSE,VLOOKUP($A15,DSLOP,IN_DTK!E$5,0),"") -> 0 | F15: =IF(ISNA(VLOOKUP($A15,DSLOP,IN_DTK!F$5,0))=FALSE,VLOOKUP($A15,DSLOP,IN_DTK!F$5,0),"") -> 0 | G15: =IF(ISNA(VLOOKUP($A15,DSLOP,IN_DTK!G$5,0))=FALSE,VLOOKUP($A15,DSLOP,IN_DTK!G$5,0),"") -> 0 | H15: =IF(ISNA(VLOOKUP($A15,DSLOP,IN_DTK!H$5,0))=FALSE,IF(H$8<>0,VLOOKUP($A15,DSLOP,IN_DTK!H$5,0),""),"") -> 0 | I15: =IF(ISNA(VLOOKUP($A15,DSLOP,IN_DTK!I$5,0))=FALSE,IF(I$8<>0,VLOOKUP($A15,DSLOP,IN_DTK!I$5,0),""),"") | J15: =IF(ISNA(VLOOKUP($A15,DSLOP,IN_DTK!J$5,0))=FALSE,IF(J$8<>0,VLOOKUP($A15,DSLOP,IN_DTK!J$5,0),""),"") -> 0 | K15: =IF(ISNA(VLOOKUP($A15,DSLOP,IN_DTK!K$5,0))=FALSE,IF(K$8<>0,VLOOKUP($A15,DSLOP,IN_DTK!K$5,0),""),"") | L15: =IF(ISNA(VLOOKUP($A15,DSLOP,IN_DTK!L$5,0))=FALSE,IF(L$8<>0,VLOOKUP($A15,DSLOP,IN_DTK!L$5,0),""),"") | M15: =IF(ISNA(VLOOKUP($A15,DSLOP,IN_DTK!M$5,0))=FALSE,IF(M$8<>0,VLOOKUP($A15,DSLOP,IN_DTK!M$5,0),""),"") | N15: =IF(ISNA(VLOOKUP($A15,DSLOP,IN_DTK!N$5,0))=FALSE,IF(N$8<>0,VLOOKUP($A15,DSLOP,IN_DTK!N$5,0),""),"") | O15: =IF(ISNA(VLOOKUP($A15,DSLOP,IN_DTK!O$5,0))=FALSE,IF(O$8<>0,VLOOKUP($A15,DSLOP,IN_DTK!O$5,0),""),"") | ... R15: =IF(ISNA(VLOOKUP($A15,DSLOP,IN_DTK!R$5,0))=FALSE,IF(R$8<>0,VLOOKUP($A15,DSLOP,IN_DTK!R$5,0),""),"") -> Không | S15: =IF(ISNA(VLOOKUP($A15,DSLOP,IN_DTK!S$5,0))=FALSE,IF(A$9<>0,VLOOKUP($A15,DSLOP,IN_DTK!S$5,0),""),"") -> 0
A16: 8 | B16: 8 | C16: =IF(ISNA(VLOOKUP($A16,DSLOP,IN_DTK!C$5,0))=FALSE,VLOOKUP($A16,DSLOP,IN_DTK!C$5,0),"") -> 0 | D16: =IF(ISNA(VLOOKUP($A16,DSLOP,IN_DTK!D$5,0))=FALSE,VLOOKUP($A16,DSLOP,IN_DTK!D$5,0),"") -> 0 | E16: =IF(ISNA(VLOOKUP($A16,DSLOP,IN_DTK!E$5,0))=FALSE,VLOOKUP($A16,DSLOP,IN_DTK!E$5,0),"") -> 0 | F16: =IF(ISNA(VLOOKUP($A16,DSLOP,IN_DTK!F$5,0))=FALSE,VLOOKUP($A16,DSLOP,IN_DTK!F$5,0),"") -> 0 | G16: =IF(ISNA(VLOOKUP($A16,DSLOP,IN_DTK!G$5,0))=FALSE,VLOOKUP($A16,DSLOP,IN_DTK!G$5,0),"") -> 0 | H16: =IF(ISNA(VLOOKUP($A16,DSLOP,IN_DTK!H$5,0))=FALSE,IF(H$8<>0,VLOOKUP($A16,DSLOP,IN_DTK!H$5,0),""),"") -> 0 | I16: =IF(ISNA(VLOOKUP($A16,DSLOP,IN_DTK!I$5,0))=FALSE,IF(I$8<>0,VLOOKUP($A16,DSLOP,IN_DTK!I$5,0),""),"") | J16: =IF(ISNA(VLOOKUP($A16,DSLOP,IN_DTK!J$5,0))=FALSE,IF(J$8<>0,VLOOKUP($A16,DSLOP,IN_DTK!J$5,0),""),"") -> 0 | K16: =IF(ISNA(VLOOKUP($A16,DSLOP,IN_DTK!K$5,0))=FALSE,IF(K$8<>0,VLOOKUP($A16,DSLOP,IN_DTK!K$5,0),""),"") | L16: =IF(ISNA(VLOOKUP($A16,DSLOP,IN_DTK!L$5,0))=FALSE,IF(L$8<>0,VLOOKUP($A16,DSLOP,IN_DTK!L$5,0),""),"") | M16: =IF(ISNA(VLOOKUP($A16,DSLOP,IN_DTK!M$5,0))=FALSE,IF(M$8<>0,VLOOKUP($A16,DSLOP,IN_DTK!M$5,0),""),"") | N16: =IF(ISNA(VLOOKUP($A16,DSLOP,IN_DTK!N$5,0))=FALSE,IF(N$8<>0,VLOOKUP($A16,DSLOP,IN_DTK!N$5,0),""),"") | O16: =IF(ISNA(VLOOKUP($A16,DSLOP,IN_DTK!O$5,0))=FALSE,IF(O$8<>0,VLOOKUP($A16,DSLOP,IN_DTK!O$5,0),""),"") | ... R16: =IF(ISNA(VLOOKUP($A16,DSLOP,IN_DTK!R$5,0))=FALSE,IF(R$8<>0,VLOOKUP($A16,DSLOP,IN_DTK!R$5,0),""),"") -> Không | S16: =IF(ISNA(VLOOKUP($A16,DSLOP,IN_DTK!S$5,0))=FALSE,IF(A$9<>0,VLOOKUP($A16,DSLOP,IN_DTK!S$5,0),""),"") -> 0
A17: 9 | B17: 9 | C17: =IF(ISNA(VLOOKUP($A17,DSLOP,IN_DTK!C$5,0))=FALSE,VLOOKUP($A17,DSLOP,IN_DTK!C$5,0),"") -> 0 | D17: =IF(ISNA(VLOOKUP($A17,DSLOP,IN_DTK!D$5,0))=FALSE,VLOOKUP($A17,DSLOP,IN_DTK!D$5,0),"") -> 0 | E17: =IF(ISNA(VLOOKUP($A17,DSLOP,IN_DTK!E$5,0))=FALSE,VLOOKUP($A17,DSLOP,IN_DTK!E$5,0),"") -> 0 | F17: =IF(ISNA(VLOOKUP($A17,DSLOP,IN_DTK!F$5,0))=FALSE,VLOOKUP($A17,DSLOP,IN_DTK!F$5,0),"") -> 0 | G17: =IF(ISNA(VLOOKUP($A17,DSLOP,IN_DTK!G$5,0))=FALSE,VLOOKUP($A17,DSLOP,IN_DTK!G$5,0),"") -> 0 | H17: =IF(ISNA(VLOOKUP($A17,DSLOP,IN_DTK!H$5,0))=FALSE,IF(H$8<>0,VLOOKUP($A17,DSLOP,IN_DTK!H$5,0),""),"") -> 0 | I17: =IF(ISNA(VLOOKUP($A17,DSLOP,IN_DTK!I$5,0))=FALSE,IF(I$8<>0,VLOOKUP($A17,DSLOP,IN_DTK!I$5,0),""),"") | J17: =IF(ISNA(VLOOKUP($A17,DSLOP,IN_DTK!J$5,0))=FALSE,IF(J$8<>0,VLOOKUP($A17,DSLOP,IN_DTK!J$5,0),""),"") -> 0 | K17: =IF(ISNA(VLOOKUP($A17,DSLOP,IN_DTK!K$5,0))=FALSE,IF(K$8<>0,VLOOKUP($A17,DSLOP,IN_DTK!K$5,0),""),"") | L17: =IF(ISNA(VLOOKUP($A17,DSLOP,IN_DTK!L$5,0))=FALSE,IF(L$8<>0,VLOOKUP($A17,DSLOP,IN_DTK!L$5,0),""),"") | M17: =IF(ISNA(VLOOKUP($A17,DSLOP,IN_DTK!M$5,0))=FALSE,IF(M$8<>0,VLOOKUP($A17,DSLOP,IN_DTK!M$5,0),""),"") | N17: =IF(ISNA(VLOOKUP($A17,DSLOP,IN_DTK!N$5,0))=FALSE,IF(N$8<>0,VLOOKUP($A17,DSLOP,IN_DTK!N$5,0),""),"") | O17: =IF(ISNA(VLOOKUP($A17,DSLOP,IN_DTK!O$5,0))=FALSE,IF(O$8<>0,VLOOKUP($A17,DSLOP,IN_DTK!O$5,0),""),"") | ... R17: =IF(ISNA(VLOOKUP($A17,DSLOP,IN_DTK!R$5,0))=FALSE,IF(R$8<>0,VLOOKUP($A17,DSLOP,IN_DTK!R$5,0),""),"") -> Không | S17: =IF(ISNA(VLOOKUP($A17,DSLOP,IN_DTK!S$5,0))=FALSE,IF(A$9<>0,VLOOKUP($A17,DSLOP,IN_DTK!S$5,0),""),"") -> 0
A18: 10 | B18: 10 | C18: =IF(ISNA(VLOOKUP($A18,DSLOP,IN_DTK!C$5,0))=FALSE,VLOOKUP($A18,DSLOP,IN_DTK!C$5,0),"") -> 0 | D18: =IF(ISNA(VLOOKUP($A18,DSLOP,IN_DTK!D$5,0))=FALSE,VLOOKUP($A18,DSLOP,IN_DTK!D$5,0),"") -> 0 | E18: =IF(ISNA(VLOOKUP($A18,DSLOP,IN_DTK!E$5,0))=FALSE,VLOOKUP($A18,DSLOP,IN_DTK!E$5,0),"") -> 0 | F18: =IF(ISNA(VLOOKUP($A18,DSLOP,IN_DTK!F$5,0))=FALSE,VLOOKUP($A18,DSLOP,IN_DTK!F$5,0),"") -> 0 | G18: =IF(ISNA(VLOOKUP($A18,DSLOP,IN_DTK!G$5,0))=FALSE,VLOOKUP($A18,DSLOP,IN_DTK!G$5,0),"") -> 0 | H18: =IF(ISNA(VLOOKUP($A18,DSLOP,IN_DTK!H$5,0))=FALSE,IF(H$8<>0,VLOOKUP($A18,DSLOP,IN_DTK!H$5,0),""),"") -> 0 | I18: =IF(ISNA(VLOOKUP($A18,DSLOP,IN_DTK!I$5,0))=FALSE,IF(I$8<>0,VLOOKUP($A18,DSLOP,IN_DTK!I$5,0),""),"") | J18: =IF(ISNA(VLOOKUP($A18,DSLOP,IN_DTK!J$5,0))=FALSE,IF(J$8<>0,VLOOKUP($A18,DSLOP,IN_DTK!J$5,0),""),"") -> 0 | K18: =IF(ISNA(VLOOKUP($A18,DSLOP,IN_DTK!K$5,0))=FALSE,IF(K$8<>0,VLOOKUP($A18,DSLOP,IN_DTK!K$5,0),""),"") | L18: =IF(ISNA(VLOOKUP($A18,DSLOP,IN_DTK!L$5,0))=FALSE,IF(L$8<>0,VLOOKUP($A18,DSLOP,IN_DTK!L$5,0),""),"") | M18: =IF(ISNA(VLOOKUP($A18,DSLOP,IN_DTK!M$5,0))=FALSE,IF(M$8<>0,VLOOKUP($A18,DSLOP,IN_DTK!M$5,0),""),"") | N18: =IF(ISNA(VLOOKUP($A18,DSLOP,IN_DTK!N$5,0))=FALSE,IF(N$8<>0,VLOOKUP($A18,DSLOP,IN_DTK!N$5,0),""),"") | O18: =IF(ISNA(VLOOKUP($A18,DSLOP,IN_DTK!O$5,0))=FALSE,IF(O$8<>0,VLOOKUP($A18,DSLOP,IN_DTK!O$5,0),""),"") | ... R18: =IF(ISNA(VLOOKUP($A18,DSLOP,IN_DTK!R$5,0))=FALSE,IF(R$8<>0,VLOOKUP($A18,DSLOP,IN_DTK!R$5,0),""),"") -> Không
A19: 11 | B19: 11 | C19: =IF(ISNA(VLOOKUP($A19,DSLOP,IN_DTK!C$5,0))=FALSE,VLOOKUP($A19,DSLOP,IN_DTK!C$5,0),"") -> 0 | D19: =IF(ISNA(VLOOKUP($A19,DSLOP,IN_DTK!D$5,0))=FALSE,VLOOKUP($A19,DSLOP,IN_DTK!D$5,0),"") -> 0 | E19: =IF(ISNA(VLOOKUP($A19,DSLOP,IN_DTK!E$5,0))=FALSE,VLOOKUP($A19,DSLOP,IN_DTK!E$5,0),"") -> 0 | F19: =IF(ISNA(VLOOKUP($A19,DSLOP,IN_DTK!F$5,0))=FALSE,VLOOKUP($A19,DSLOP,IN_DTK!F$5,0),"") -> 0 | G19: =IF(ISNA(VLOOKUP($A19,DSLOP,IN_DTK!G$5,0))=FALSE,VLOOKUP($A19,DSLOP,IN_DTK!G$5,0),"") -> 0 | H19: =IF(ISNA(VLOOKUP($A19,DSLOP,IN_DTK!H$5,0))=FALSE,IF(H$8<>0,VLOOKUP($A19,DSLOP,IN_DTK!H$5,0),""),"") -> 0 | I19: =IF(ISNA(VLOOKUP($A19,DSLOP,IN_DTK!I$5,0))=FALSE,IF(I$8<>0,VLOOKUP($A19,DSLOP,IN_DTK!I$5,0),""),"") | J19: =IF(ISNA(VLOOKUP($A19,DSLOP,IN_DTK!J$5,0))=FALSE,IF(J$8<>0,VLOOKUP($A19,DSLOP,IN_DTK!J$5,0),""),"") -> 0 | K19: =IF(ISNA(VLOOKUP($A19,DSLOP,IN_DTK!K$5,0))=FALSE,IF(K$8<>0,VLOOKUP($A19,DSLOP,IN_DTK!K$5,0),""),"") | L19: =IF(ISNA(VLOOKUP($A19,DSLOP,IN_DTK!L$5,0))=FALSE,IF(L$8<>0,VLOOKUP($A19,DSLOP,IN_DTK!L$5,0),""),"") | M19: =IF(ISNA(VLOOKUP($A19,DSLOP,IN_DTK!M$5,0))=FALSE,IF(M$8<>0,VLOOKUP($A19,DSLOP,IN_DTK!M$5,0),""),"") | N19: =IF(ISNA(VLOOKUP($A19,DSLOP,IN_DTK!N$5,0))=FALSE,IF(N$8<>0,VLOOKUP($A19,DSLOP,IN_DTK!N$5,0),""),"") | O19: =IF(ISNA(VLOOKUP($A19,DSLOP,IN_DTK!O$5,0))=FALSE,IF(O$8<>0,VLOOKUP($A19,DSLOP,IN_DTK!O$5,0),""),"") | ... R19: =IF(ISNA(VLOOKUP($A19,DSLOP,IN_DTK!R$5,0))=FALSE,IF(R$8<>0,VLOOKUP($A19,DSLOP,IN_DTK!R$5,0),""),"") -> Không | S19: =IF(ISNA(VLOOKUP($A19,DSLOP,IN_DTK!S$5,0))=FALSE,IF(A$9<>0,VLOOKUP($A19,DSLOP,IN_DTK!S$5,0),""),"") -> 0
A20: 12 | B20: 12 | C20: =IF(ISNA(VLOOKUP($A20,DSLOP,IN_DTK!C$5,0))=FALSE,VLOOKUP($A20,DSLOP,IN_DTK!C$5,0),"") -> 0 | D20: =IF(ISNA(VLOOKUP($A20,DSLOP,IN_DTK!D$5,0))=FALSE,VLOOKUP($A20,DSLOP,IN_DTK!D$5,0),"") -> 0 | E20: =IF(ISNA(VLOOKUP($A20,DSLOP,IN_DTK!E$5,0))=FALSE,VLOOKUP($A20,DSLOP,IN_DTK!E$5,0),"") -> 0 | F20: =IF(ISNA(VLOOKUP($A20,DSLOP,IN_DTK!F$5,0))=FALSE,VLOOKUP($A20,DSLOP,IN_DTK!F$5,0),"") -> 0 | G20: =IF(ISNA(VLOOKUP($A20,DSLOP,IN_DTK!G$5,0))=FALSE,VLOOKUP($A20,DSLOP,IN_DTK!G$5,0),"") -> 0 | H20: =IF(ISNA(VLOOKUP($A20,DSLOP,IN_DTK!H$5,0))=FALSE,IF(H$8<>0,VLOOKUP($A20,DSLOP,IN_DTK!H$5,0),""),"") -> 0 | I20: =IF(ISNA(VLOOKUP($A20,DSLOP,IN_DTK!I$5,0))=FALSE,IF(I$8<>0,VLOOKUP($A20,DSLOP,IN_DTK!I$5,0),""),"") | J20: =IF(ISNA(VLOOKUP($A20,DSLOP,IN_DTK!J$5,0))=FALSE,IF(J$8<>0,VLOOKUP($A20,DSLOP,IN_DTK!J$5,0),""),"") -> 0 | K20: =IF(ISNA(VLOOKUP($A20,DSLOP,IN_DTK!K$5,0))=FALSE,IF(K$8<>0,VLOOKUP($A20,DSLOP,IN_DTK!K$5,0),""),"") | L20: =IF(ISNA(VLOOKUP($A20,DSLOP,IN_DTK!L$5,0))=FALSE,IF(L$8<>0,VLOOKUP($A20,DSLOP,IN_DTK!L$5,0),""),"") | M20: =IF(ISNA(VLOOKUP($A20,DSLOP,IN_DTK!M$5,0))=FALSE,IF(M$8<>0,VLOOKUP($A20,DSLOP,IN_DTK!M$5,0),""),"") | N20: =IF(ISNA(VLOOKUP($A20,DSLOP,IN_DTK!N$5,0))=FALSE,IF(N$8<>0,VLOOKUP($A20,DSLOP,IN_DTK!N$5,0),""),"") | O20: =IF(ISNA(VLOOKUP($A20,DSLOP,IN_DTK!O$5,0))=FALSE,IF(O$8<>0,VLOOKUP($A20,DSLOP,IN_DTK!O$5,0),""),"") | ... R20: =IF(ISNA(VLOOKUP($A20,DSLOP,IN_DTK!R$5,0))=FALSE,IF(R$8<>0,VLOOKUP($A20,DSLOP,IN_DTK!R$5,0),""),"") -> Không | S20: =IF(ISNA(VLOOKUP($A20,DSLOP,IN_DTK!S$5,0))=FALSE,IF(A$9<>0,VLOOKUP($A20,DSLOP,IN_DTK!S$5,0),""),"") -> 0
A21: 13 | B21: 13 | C21: =IF(ISNA(VLOOKUP($A21,DSLOP,IN_DTK!C$5,0))=FALSE,VLOOKUP($A21,DSLOP,IN_DTK!C$5,0),"") -> 0 | D21: =IF(ISNA(VLOOKUP($A21,DSLOP,IN_DTK!D$5,0))=FALSE,VLOOKUP($A21,DSLOP,IN_DTK!D$5,0),"") -> 0 | E21: =IF(ISNA(VLOOKUP($A21,DSLOP,IN_DTK!E$5,0))=FALSE,VLOOKUP($A21,DSLOP,IN_DTK!E$5,0),"") -> 0 | F21: =IF(ISNA(VLOOKUP($A21,DSLOP,IN_DTK!F$5,0))=FALSE,VLOOKUP($A21,DSLOP,IN_DTK!F$5,0),"") -> 0 | G21: =IF(ISNA(VLOOKUP($A21,DSLOP,IN_DTK!G$5,0))=FALSE,VLOOKUP($A21,DSLOP,IN_DTK!G$5,0),"") -> 0 | H21: =IF(ISNA(VLOOKUP($A21,DSLOP,IN_DTK!H$5,0))=FALSE,IF(H$8<>0,VLOOKUP($A21,DSLOP,IN_DTK!H$5,0),""),"") -> 0 | I21: =IF(ISNA(VLOOKUP($A21,DSLOP,IN_DTK!I$5,0))=FALSE,IF(I$8<>0,VLOOKUP($A21,DSLOP,IN_DTK!I$5,0),""),"") | J21: =IF(ISNA(VLOOKUP($A21,DSLOP,IN_DTK!J$5,0))=FALSE,IF(J$8<>0,VLOOKUP($A21,DSLOP,IN_DTK!J$5,0),""),"") -> 0 | K21: =IF(ISNA(VLOOKUP($A21,DSLOP,IN_DTK!K$5,0))=FALSE,IF(K$8<>0,VLOOKUP($A21,DSLOP,IN_DTK!K$5,0),""),"") | L21: =IF(ISNA(VLOOKUP($A21,DSLOP,IN_DTK!L$5,0))=FALSE,IF(L$8<>0,VLOOKUP($A21,DSLOP,IN_DTK!L$5,0),""),"") | M21: =IF(ISNA(VLOOKUP($A21,DSLOP,IN_DTK!M$5,0))=FALSE,IF(M$8<>0,VLOOKUP($A21,DSLOP,IN_DTK!M$5,0),""),"") | N21: =IF(ISNA(VLOOKUP($A21,DSLOP,IN_DTK!N$5,0))=FALSE,IF(N$8<>0,VLOOKUP($A21,DSLOP,IN_DTK!N$5,0),""),"") | O21: =IF(ISNA(VLOOKUP($A21,DSLOP,IN_DTK!O$5,0))=FALSE,IF(O$8<>0,VLOOKUP($A21,DSLOP,IN_DTK!O$5,0),""),"") | ... R21: =IF(ISNA(VLOOKUP($A21,DSLOP,IN_DTK!R$5,0))=FALSE,IF(R$8<>0,VLOOKUP($A21,DSLOP,IN_DTK!R$5,0),""),"") -> Không | S21: =IF(ISNA(VLOOKUP($A21,DSLOP,IN_DTK!S$5,0))=FALSE,IF(A$9<>0,VLOOKUP($A21,DSLOP,IN_DTK!S$5,0),""),"") -> 0
A22: 14 | B22: 14 | C22: =IF(ISNA(VLOOKUP($A22,DSLOP,IN_DTK!C$5,0))=FALSE,VLOOKUP($A22,DSLOP,IN_DTK!C$5,0),"") -> 0 | D22: =IF(ISNA(VLOOKUP($A22,DSLOP,IN_DTK!D$5,0))=FALSE,VLOOKUP($A22,DSLOP,IN_DTK!D$5,0),"") -> 0 | E22: =IF(ISNA(VLOOKUP($A22,DSLOP,IN_DTK!E$5,0))=FALSE,VLOOKUP($A22,DSLOP,IN_DTK!E$5,0),"") -> 0 | F22: =IF(ISNA(VLOOKUP($A22,DSLOP,IN_DTK!F$5,0))=FALSE,VLOOKUP($A22,DSLOP,IN_DTK!F$5,0),"") -> 0 | G22: =IF(ISNA(VLOOKUP($A22,DSLOP,IN_DTK!G$5,0))=FALSE,VLOOKUP($A22,DSLOP,IN_DTK!G$5,0),"") -> 0 | H22: =IF(ISNA(VLOOKUP($A22,DSLOP,IN_DTK!H$5,0))=FALSE,IF(H$8<>0,VLOOKUP($A22,DSLOP,IN_DTK!H$5,0),""),"") -> 0 | I22: =IF(ISNA(VLOOKUP($A22,DSLOP,IN_DTK!I$5,0))=FALSE,IF(I$8<>0,VLOOKUP($A22,DSLOP,IN_DTK!I$5,0),""),"") | J22: =IF(ISNA(VLOOKUP($A22,DSLOP,IN_DTK!J$5,0))=FALSE,IF(J$8<>0,VLOOKUP($A22,DSLOP,IN_DTK!J$5,0),""),"") -> 0 | K22: =IF(ISNA(VLOOKUP($A22,DSLOP,IN_DTK!K$5,0))=FALSE,IF(K$8<>0,VLOOKUP($A22,DSLOP,IN_DTK!K$5,0),""),"") | L22: =IF(ISNA(VLOOKUP($A22,DSLOP,IN_DTK!L$5,0))=FALSE,IF(L$8<>0,VLOOKUP($A22,DSLOP,IN_DTK!L$5,0),""),"") | M22: =IF(ISNA(VLOOKUP($A22,DSLOP,IN_DTK!M$5,0))=FALSE,IF(M$8<>0,VLOOKUP($A22,DSLOP,IN_DTK!M$5,0),""),"") | N22: =IF(ISNA(VLOOKUP($A22,DSLOP,IN_DTK!N$5,0))=FALSE,IF(N$8<>0,VLOOKUP($A22,DSLOP,IN_DTK!N$5,0),""),"") | O22: =IF(ISNA(VLOOKUP($A22,DSLOP,IN_DTK!O$5,0))=FALSE,IF(O$8<>0,VLOOKUP($A22,DSLOP,IN_DTK!O$5,0),""),"") | ... R22: =IF(ISNA(VLOOKUP($A22,DSLOP,IN_DTK!R$5,0))=FALSE,IF(R$8<>0,VLOOKUP($A22,DSLOP,IN_DTK!R$5,0),""),"") -> Không | S22: =IF(ISNA(VLOOKUP($A22,DSLOP,IN_DTK!S$5,0))=FALSE,IF(A$9<>0,VLOOKUP($A22,DSLOP,IN_DTK!S$5,0),""),"") -> 0
A23: 15 | B23: 15 | C23: =IF(ISNA(VLOOKUP($A23,DSLOP,IN_DTK!C$5,0))=FALSE,VLOOKUP($A23,DSLOP,IN_DTK!C$5,0),"") -> 0 | D23: =IF(ISNA(VLOOKUP($A23,DSLOP,IN_DTK!D$5,0))=FALSE,VLOOKUP($A23,DSLOP,IN_DTK!D$5,0),"") -> 0 | E23: =IF(ISNA(VLOOKUP($A23,DSLOP,IN_DTK!E$5,0))=FALSE,VLOOKUP($A23,DSLOP,IN_DTK!E$5,0),"") -> 0 | F23: =IF(ISNA(VLOOKUP($A23,DSLOP,IN_DTK!F$5,0))=FALSE,VLOOKUP($A23,DSLOP,IN_DTK!F$5,0),"") -> 0 | G23: =IF(ISNA(VLOOKUP($A23,DSLOP,IN_DTK!G$5,0))=FALSE,VLOOKUP($A23,DSLOP,IN_DTK!G$5,0),"") -> 0 | H23: =IF(ISNA(VLOOKUP($A23,DSLOP,IN_DTK!H$5,0))=FALSE,IF(H$8<>0,VLOOKUP($A23,DSLOP,IN_DTK!H$5,0),""),"") -> 0 | I23: =IF(ISNA(VLOOKUP($A23,DSLOP,IN_DTK!I$5,0))=FALSE,IF(I$8<>0,VLOOKUP($A23,DSLOP,IN_DTK!I$5,0),""),"") | J23: =IF(ISNA(VLOOKUP($A23,DSLOP,IN_DTK!J$5,0))=FALSE,IF(J$8<>0,VLOOKUP($A23,DSLOP,IN_DTK!J$5,0),""),"") -> 0 | K23: =IF(ISNA(VLOOKUP($A23,DSLOP,IN_DTK!K$5,0))=FALSE,IF(K$8<>0,VLOOKUP($A23,DSLOP,IN_DTK!K$5,0),""),"") | L23: =IF(ISNA(VLOOKUP($A23,DSLOP,IN_DTK!L$5,0))=FALSE,IF(L$8<>0,VLOOKUP($A23,DSLOP,IN_DTK!L$5,0),""),"") | M23: =IF(ISNA(VLOOKUP($A23,DSLOP,IN_DTK!M$5,0))=FALSE,IF(M$8<>0,VLOOKUP($A23,DSLOP,IN_DTK!M$5,0),""),"") | N23: =IF(ISNA(VLOOKUP($A23,DSLOP,IN_DTK!N$5,0))=FALSE,IF(N$8<>0,VLOOKUP($A23,DSLOP,IN_DTK!N$5,0),""),"") | O23: =IF(ISNA(VLOOKUP($A23,DSLOP,IN_DTK!O$5,0))=FALSE,IF(O$8<>0,VLOOKUP($A23,DSLOP,IN_DTK!O$5,0),""),"") | ... R23: =IF(ISNA(VLOOKUP($A23,DSLOP,IN_DTK!R$5,0))=FALSE,IF(R$8<>0,VLOOKUP($A23,DSLOP,IN_DTK!R$5,0),""),"") -> Không | S23: =IF(ISNA(VLOOKUP($A23,DSLOP,IN_DTK!S$5,0))=FALSE,IF(A$9<>0,VLOOKUP($A23,DSLOP,IN_DTK!S$5,0),""),"") -> 0
A24: 16 | B24: 16 | C24: =IF(ISNA(VLOOKUP($A24,DSLOP,IN_DTK!C$5,0))=FALSE,VLOOKUP($A24,DSLOP,IN_DTK!C$5,0),"") -> 0 | D24: =IF(ISNA(VLOOKUP($A24,DSLOP,IN_DTK!D$5,0))=FALSE,VLOOKUP($A24,DSLOP,IN_DTK!D$5,0),"") -> 0 | E24: =IF(ISNA(VLOOKUP($A24,DSLOP,IN_DTK!E$5,0))=FALSE,VLOOKUP($A24,DSLOP,IN_DTK!E$5,0),"") -> 0 | F24: =IF(ISNA(VLOOKUP($A24,DSLOP,IN_DTK!F$5,0))=FALSE,VLOOKUP($A24,DSLOP,IN_DTK!F$5,0),"") -> 0 | G24: =IF(ISNA(VLOOKUP($A24,DSLOP,IN_DTK!G$5,0))=FALSE,VLOOKUP($A24,DSLOP,IN_DTK!G$5,0),"") -> 0 | H24: =IF(ISNA(VLOOKUP($A24,DSLOP,IN_DTK!H$5,0))=FALSE,IF(H$8<>0,VLOOKUP($A24,DSLOP,IN_DTK!H$5,0),""),"") -> 0 | I24: =IF(ISNA(VLOOKUP($A24,DSLOP,IN_DTK!I$5,0))=FALSE,IF(I$8<>0,VLOOKUP($A24,DSLOP,IN_DTK!I$5,0),""),"") | J24: =IF(ISNA(VLOOKUP($A24,DSLOP,IN_DTK!J$5,0))=FALSE,IF(J$8<>0,VLOOKUP($A24,DSLOP,IN_DTK!J$5,0),""),"") -> 0 | K24: =IF(ISNA(VLOOKUP($A24,DSLOP,IN_DTK!K$5,0))=FALSE,IF(K$8<>0,VLOOKUP($A24,DSLOP,IN_DTK!K$5,0),""),"") | L24: =IF(ISNA(VLOOKUP($A24,DSLOP,IN_DTK!L$5,0))=FALSE,IF(L$8<>0,VLOOKUP($A24,DSLOP,IN_DTK!L$5,0),""),"") | M24: =IF(ISNA(VLOOKUP($A24,DSLOP,IN_DTK!M$5,0))=FALSE,IF(M$8<>0,VLOOKUP($A24,DSLOP,IN_DTK!M$5,0),""),"") | N24: =IF(ISNA(VLOOKUP($A24,DSLOP,IN_DTK!N$5,0))=FALSE,IF(N$8<>0,VLOOKUP($A24,DSLOP,IN_DTK!N$5,0),""),"") | O24: =IF(ISNA(VLOOKUP($A24,DSLOP,IN_DTK!O$5,0))=FALSE,IF(O$8<>0,VLOOKUP($A24,DSLOP,IN_DTK!O$5,0),""),"") | ... R24: =IF(ISNA(VLOOKUP($A24,DSLOP,IN_DTK!R$5,0))=FALSE,IF(R$8<>0,VLOOKUP($A24,DSLOP,IN_DTK!R$5,0),""),"") -> Không | S24: =IF(ISNA(VLOOKUP($A24,DSLOP,IN_DTK!S$5,0))=FALSE,IF(A$9<>0,VLOOKUP($A24,DSLOP,IN_DTK!S$5,0),""),"") -> 0
A25: 17 | B25: 17 | C25: =IF(ISNA(VLOOKUP($A25,DSLOP,IN_DTK!C$5,0))=FALSE,VLOOKUP($A25,DSLOP,IN_DTK!C$5,0),"") -> 0 | D25: =IF(ISNA(VLOOKUP($A25,DSLOP,IN_DTK!D$5,0))=FALSE,VLOOKUP($A25,DSLOP,IN_DTK!D$5,0),"") -> 0 | E25: =IF(ISNA(VLOOKUP($A25,DSLOP,IN_DTK!E$5,0))=FALSE,VLOOKUP($A25,DSLOP,IN_DTK!E$5,0),"") -> 0 | F25: =IF(ISNA(VLOOKUP($A25,DSLOP,IN_DTK!F$5,0))=FALSE,VLOOKUP($A25,DSLOP,IN_DTK!F$5,0),"") -> 0 | G25: =IF(ISNA(VLOOKUP($A25,DSLOP,IN_DTK!G$5,0))=FALSE,VLOOKUP($A25,DSLOP,IN_DTK!G$5,0),"") -> 0 | H25: =IF(ISNA(VLOOKUP($A25,DSLOP,IN_DTK!H$5,0))=FALSE,IF(H$8<>0,VLOOKUP($A25,DSLOP,IN_DTK!H$5,0),""),"") -> 0 | I25: =IF(ISNA(VLOOKUP($A25,DSLOP,IN_DTK!I$5,0))=FALSE,IF(I$8<>0,VLOOKUP($A25,DSLOP,IN_DTK!I$5,0),""),"") | J25: =IF(ISNA(VLOOKUP($A25,DSLOP,IN_DTK!J$5,0))=FALSE,IF(J$8<>0,VLOOKUP($A25,DSLOP,IN_DTK!J$5,0),""),"") -> 0 | K25: =IF(ISNA(VLOOKUP($A25,DSLOP,IN_DTK!K$5,0))=FALSE,IF(K$8<>0,VLOOKUP($A25,DSLOP,IN_DTK!K$5,0),""),"") | L25: =IF(ISNA(VLOOKUP($A25,DSLOP,IN_DTK!L$5,0))=FALSE,IF(L$8<>0,VLOOKUP($A25,DSLOP,IN_DTK!L$5,0),""),"") | M25: =IF(ISNA(VLOOKUP($A25,DSLOP,IN_DTK!M$5,0))=FALSE,IF(M$8<>0,VLOOKUP($A25,DSLOP,IN_DTK!M$5,0),""),"") | N25: =IF(ISNA(VLOOKUP($A25,DSLOP,IN_DTK!N$5,0))=FALSE,IF(N$8<>0,VLOOKUP($A25,DSLOP,IN_DTK!N$5,0),""),"") | O25: =IF(ISNA(VLOOKUP($A25,DSLOP,IN_DTK!O$5,0))=FALSE,IF(O$8<>0,VLOOKUP($A25,DSLOP,IN_DTK!O$5,0),""),"") | ... R25: =IF(ISNA(VLOOKUP($A25,DSLOP,IN_DTK!R$5,0))=FALSE,IF(R$8<>0,VLOOKUP($A25,DSLOP,IN_DTK!R$5,0),""),"") -> Không | S25: =IF(ISNA(VLOOKUP($A25,DSLOP,IN_DTK!S$5,0))=FALSE,IF(A$9<>0,VLOOKUP($A25,DSLOP,IN_DTK!S$5,0),""),"") -> 0
A26: 18 | B26: 18 | C26: =IF(ISNA(VLOOKUP($A26,DSLOP,IN_DTK!C$5,0))=FALSE,VLOOKUP($A26,DSLOP,IN_DTK!C$5,0),"") -> 0 | D26: =IF(ISNA(VLOOKUP($A26,DSLOP,IN_DTK!D$5,0))=FALSE,VLOOKUP($A26,DSLOP,IN_DTK!D$5,0),"") -> 0 | E26: =IF(ISNA(VLOOKUP($A26,DSLOP,IN_DTK!E$5,0))=FALSE,VLOOKUP($A26,DSLOP,IN_DTK!E$5,0),"") -> 0 | F26: =IF(ISNA(VLOOKUP($A26,DSLOP,IN_DTK!F$5,0))=FALSE,VLOOKUP($A26,DSLOP,IN_DTK!F$5,0),"") -> 0 | G26: =IF(ISNA(VLOOKUP($A26,DSLOP,IN_DTK!G$5,0))=FALSE,VLOOKUP($A26,DSLOP,IN_DTK!G$5,0),"") -> 0 | H26: =IF(ISNA(VLOOKUP($A26,DSLOP,IN_DTK!H$5,0))=FALSE,IF(H$8<>0,VLOOKUP($A26,DSLOP,IN_DTK!H$5,0),""),"") -> 0 | I26: =IF(ISNA(VLOOKUP($A26,DSLOP,IN_DTK!I$5,0))=FALSE,IF(I$8<>0,VLOOKUP($A26,DSLOP,IN_DTK!I$5,0),""),"") | J26: =IF(ISNA(VLOOKUP($A26,DSLOP,IN_DTK!J$5,0))=FALSE,IF(J$8<>0,VLOOKUP($A26,DSLOP,IN_DTK!J$5,0),""),"") -> 0 | K26: =IF(ISNA(VLOOKUP($A26,DSLOP,IN_DTK!K$5,0))=FALSE,IF(K$8<>0,VLOOKUP($A26,DSLOP,IN_DTK!K$5,0),""),"") | L26: =IF(ISNA(VLOOKUP($A26,DSLOP,IN_DTK!L$5,0))=FALSE,IF(L$8<>0,VLOOKUP($A26,DSLOP,IN_DTK!L$5,0),""),"") | M26: =IF(ISNA(VLOOKUP($A26,DSLOP,IN_DTK!M$5,0))=FALSE,IF(M$8<>0,VLOOKUP($A26,DSLOP,IN_DTK!M$5,0),""),"") | N26: =IF(ISNA(VLOOKUP($A26,DSLOP,IN_DTK!N$5,0))=FALSE,IF(N$8<>0,VLOOKUP($A26,DSLOP,IN_DTK!N$5,0),""),"") | O26: =IF(ISNA(VLOOKUP($A26,DSLOP,IN_DTK!O$5,0))=FALSE,IF(O$8<>0,VLOOKUP($A26,DSLOP,IN_DTK!O$5,0),""),"") | ... R26: =IF(ISNA(VLOOKUP($A26,DSLOP,IN_DTK!R$5,0))=FALSE,IF(R$8<>0,VLOOKUP($A26,DSLOP,IN_DTK!R$5,0),""),"") -> Không | S26: =IF(ISNA(VLOOKUP($A26,DSLOP,IN_DTK!S$5,0))=FALSE,IF(A$9<>0,VLOOKUP($A26,DSLOP,IN_DTK!S$5,0),""),"") -> 0
A27: 19 | B27: 19 | C27: =IF(ISNA(VLOOKUP($A27,DSLOP,IN_DTK!C$5,0))=FALSE,VLOOKUP($A27,DSLOP,IN_DTK!C$5,0),"") -> 0 | D27: =IF(ISNA(VLOOKUP($A27,DSLOP,IN_DTK!D$5,0))=FALSE,VLOOKUP($A27,DSLOP,IN_DTK!D$5,0),"") -> 0 | E27: =IF(ISNA(VLOOKUP($A27,DSLOP,IN_DTK!E$5,0))=FALSE,VLOOKUP($A27,DSLOP,IN_DTK!E$5,0),"") -> 0 | F27: =IF(ISNA(VLOOKUP($A27,DSLOP,IN_DTK!F$5,0))=FALSE,VLOOKUP($A27,DSLOP,IN_DTK!F$5,0),"") -> 0 | G27: =IF(ISNA(VLOOKUP($A27,DSLOP,IN_DTK!G$5,0))=FALSE,VLOOKUP($A27,DSLOP,IN_DTK!G$5,0),"") -> 0 | H27: =IF(ISNA(VLOOKUP($A27,DSLOP,IN_DTK!H$5,0))=FALSE,IF(H$8<>0,VLOOKUP($A27,DSLOP,IN_DTK!H$5,0),""),"") -> 0 | I27: =IF(ISNA(VLOOKUP($A27,DSLOP,IN_DTK!I$5,0))=FALSE,IF(I$8<>0,VLOOKUP($A27,DSLOP,IN_DTK!I$5,0),""),"") | J27: =IF(ISNA(VLOOKUP($A27,DSLOP,IN_DTK!J$5,0))=FALSE,IF(J$8<>0,VLOOKUP($A27,DSLOP,IN_DTK!J$5,0),""),"") -> 0 | K27: =IF(ISNA(VLOOKUP($A27,DSLOP,IN_DTK!K$5,0))=FALSE,IF(K$8<>0,VLOOKUP($A27,DSLOP,IN_DTK!K$5,0),""),"") | L27: =IF(ISNA(VLOOKUP($A27,DSLOP,IN_DTK!L$5,0))=FALSE,IF(L$8<>0,VLOOKUP($A27,DSLOP,IN_DTK!L$5,0),""),"") | M27: =IF(ISNA(VLOOKUP($A27,DSLOP,IN_DTK!M$5,0))=FALSE,IF(M$8<>0,VLOOKUP($A27,DSLOP,IN_DTK!M$5,0),""),"") | N27: =IF(ISNA(VLOOKUP($A27,DSLOP,IN_DTK!N$5,0))=FALSE,IF(N$8<>0,VLOOKUP($A27,DSLOP,IN_DTK!N$5,0),""),"") | O27: =IF(ISNA(VLOOKUP($A27,DSLOP,IN_DTK!O$5,0))=FALSE,IF(O$8<>0,VLOOKUP($A27,DSLOP,IN_DTK!O$5,0),""),"") | ... R27: =IF(ISNA(VLOOKUP($A27,DSLOP,IN_DTK!R$5,0))=FALSE,IF(R$8<>0,VLOOKUP($A27,DSLOP,IN_DTK!R$5,0),""),"") -> Không | S27: =IF(ISNA(VLOOKUP($A27,DSLOP,IN_DTK!S$5,0))=FALSE,IF(A$9<>0,VLOOKUP($A27,DSLOP,IN_DTK!S$5,0),""),"") -> 0
A28: 20 | B28: 20 | C28: =IF(ISNA(VLOOKUP($A28,DSLOP,IN_DTK!C$5,0))=FALSE,VLOOKUP($A28,DSLOP,IN_DTK!C$5,0),"") -> 0 | D28: =IF(ISNA(VLOOKUP($A28,DSLOP,IN_DTK!D$5,0))=FALSE,VLOOKUP($A28,DSLOP,IN_DTK!D$5,0),"") -> 0 | E28: =IF(ISNA(VLOOKUP($A28,DSLOP,IN_DTK!E$5,0))=FALSE,VLOOKUP($A28,DSLOP,IN_DTK!E$5,0),"") -> 0 | F28: =IF(ISNA(VLOOKUP($A28,DSLOP,IN_DTK!F$5,0))=FALSE,VLOOKUP($A28,DSLOP,IN_DTK!F$5,0),"") -> 0 | G28: =IF(ISNA(VLOOKUP($A28,DSLOP,IN_DTK!G$5,0))=FALSE,VLOOKUP($A28,DSLOP,IN_DTK!G$5,0),"") -> 0 | H28: =IF(ISNA(VLOOKUP($A28,DSLOP,IN_DTK!H$5,0))=FALSE,IF(H$8<>0,VLOOKUP($A28,DSLOP,IN_DTK!H$5,0),""),"") -> 0 | I28: =IF(ISNA(VLOOKUP($A28,DSLOP,IN_DTK!I$5,0))=FALSE,IF(I$8<>0,VLOOKUP($A28,DSLOP,IN_DTK!I$5,0),""),"") | J28: =IF(ISNA(VLOOKUP($A28,DSLOP,IN_DTK!J$5,0))=FALSE,IF(J$8<>0,VLOOKUP($A28,DSLOP,IN_DTK!J$5,0),""),"") -> 0 | K28: =IF(ISNA(VLOOKUP($A28,DSLOP,IN_DTK!K$5,0))=FALSE,IF(K$8<>0,VLOOKUP($A28,DSLOP,IN_DTK!K$5,0),""),"") | L28: =IF(ISNA(VLOOKUP($A28,DSLOP,IN_DTK!L$5,0))=FALSE,IF(L$8<>0,VLOOKUP($A28,DSLOP,IN_DTK!L$5,0),""),"") | M28: =IF(ISNA(VLOOKUP($A28,DSLOP,IN_DTK!M$5,0))=FALSE,IF(M$8<>0,VLOOKUP($A28,DSLOP,IN_DTK!M$5,0),""),"") | N28: =IF(ISNA(VLOOKUP($A28,DSLOP,IN_DTK!N$5,0))=FALSE,IF(N$8<>0,VLOOKUP($A28,DSLOP,IN_DTK!N$5,0),""),"") | O28: =IF(ISNA(VLOOKUP($A28,DSLOP,IN_DTK!O$5,0))=FALSE,IF(O$8<>0,VLOOKUP($A28,DSLOP,IN_DTK!O$5,0),""),"") | ... R28: =IF(ISNA(VLOOKUP($A28,DSLOP,IN_DTK!R$5,0))=FALSE,IF(R$8<>0,VLOOKUP($A28,DSLOP,IN_DTK!R$5,0),""),"") -> Không | S28: =IF(ISNA(VLOOKUP($A28,DSLOP,IN_DTK!S$5,0))=FALSE,IF(A$9<>0,VLOOKUP($A28,DSLOP,IN_DTK!S$5,0),""),"") -> 0
A29: 21 | B29: 21 | C29: =IF(ISNA(VLOOKUP($A29,DSLOP,IN_DTK!C$5,0))=FALSE,VLOOKUP($A29,DSLOP,IN_DTK!C$5,0),"") -> 0 | D29: =IF(ISNA(VLOOKUP($A29,DSLOP,IN_DTK!D$5,0))=FALSE,VLOOKUP($A29,DSLOP,IN_DTK!D$5,0),"") -> 0 | E29: =IF(ISNA(VLOOKUP($A29,DSLOP,IN_DTK!E$5,0))=FALSE,VLOOKUP($A29,DSLOP,IN_DTK!E$5,0),"") -> 0 | F29: =IF(ISNA(VLOOKUP($A29,DSLOP,IN_DTK!F$5,0))=FALSE,VLOOKUP($A29,DSLOP,IN_DTK!F$5,0),"") -> 0 | G29: =IF(ISNA(VLOOKUP($A29,DSLOP,IN_DTK!G$5,0))=FALSE,VLOOKUP($A29,DSLOP,IN_DTK!G$5,0),"") -> 0 | H29: =IF(ISNA(VLOOKUP($A29,DSLOP,IN_DTK!H$5,0))=FALSE,IF(H$8<>0,VLOOKUP($A29,DSLOP,IN_DTK!H$5,0),""),"") -> 0 | I29: =IF(ISNA(VLOOKUP($A29,DSLOP,IN_DTK!I$5,0))=FALSE,IF(I$8<>0,VLOOKUP($A29,DSLOP,IN_DTK!I$5,0),""),"") | J29: =IF(ISNA(VLOOKUP($A29,DSLOP,IN_DTK!J$5,0))=FALSE,IF(J$8<>0,VLOOKUP($A29,DSLOP,IN_DTK!J$5,0),""),"") -> 0 | K29: =IF(ISNA(VLOOKUP($A29,DSLOP,IN_DTK!K$5,0))=FALSE,IF(K$8<>0,VLOOKUP($A29,DSLOP,IN_DTK!K$5,0),""),"") | L29: =IF(ISNA(VLOOKUP($A29,DSLOP,IN_DTK!L$5,0))=FALSE,IF(L$8<>0,VLOOKUP($A29,DSLOP,IN_DTK!L$5,0),""),"") | M29: =IF(ISNA(VLOOKUP($A29,DSLOP,IN_DTK!M$5,0))=FALSE,IF(M$8<>0,VLOOKUP($A29,DSLOP,IN_DTK!M$5,0),""),"") | N29: =IF(ISNA(VLOOKUP($A29,DSLOP,IN_DTK!N$5,0))=FALSE,IF(N$8<>0,VLOOKUP($A29,DSLOP,IN_DTK!N$5,0),""),"") | O29: =IF(ISNA(VLOOKUP($A29,DSLOP,IN_DTK!O$5,0))=FALSE,IF(O$8<>0,VLOOKUP($A29,DSLOP,IN_DTK!O$5,0),""),"") | ... R29: =IF(ISNA(VLOOKUP($A29,DSLOP,IN_DTK!R$5,0))=FALSE,IF(R$8<>0,VLOOKUP($A29,DSLOP,IN_DTK!R$5,0),""),"") -> Không | S29: =IF(ISNA(VLOOKUP($A29,DSLOP,IN_DTK!S$5,0))=FALSE,IF(A$9<>0,VLOOKUP($A29,DSLOP,IN_DTK!S$5,0),""),"") -> 0
A30: 22 | B30: 22 | C30: =IF(ISNA(VLOOKUP($A30,DSLOP,IN_DTK!C$5,0))=FALSE,VLOOKUP($A30,DSLOP,IN_DTK!C$5,0),"") -> 0 | D30: =IF(ISNA(VLOOKUP($A30,DSLOP,IN_DTK!D$5,0))=FALSE,VLOOKUP($A30,DSLOP,IN_DTK!D$5,0),"") -> 0 | E30: =IF(ISNA(VLOOKUP($A30,DSLOP,IN_DTK!E$5,0))=FALSE,VLOOKUP($A30,DSLOP,IN_DTK!E$5,0),"") -> 0 | F30: =IF(ISNA(VLOOKUP($A30,DSLOP,IN_DTK!F$5,0))=FALSE,VLOOKUP($A30,DSLOP,IN_DTK!F$5,0),"") -> 0 | G30: =IF(ISNA(VLOOKUP($A30,DSLOP,IN_DTK!G$5,0))=FALSE,VLOOKUP($A30,DSLOP,IN_DTK!G$5,0),"") -> 0 | H30: =IF(ISNA(VLOOKUP($A30,DSLOP,IN_DTK!H$5,0))=FALSE,IF(H$8<>0,VLOOKUP($A30,DSLOP,IN_DTK!H$5,0),""),"") -> 0 | I30: =IF(ISNA(VLOOKUP($A30,DSLOP,IN_DTK!I$5,0))=FALSE,IF(I$8<>0,VLOOKUP($A30,DSLOP,IN_DTK!I$5,0),""),"") | J30: =IF(ISNA(VLOOKUP($A30,DSLOP,IN_DTK!J$5,0))=FALSE,IF(J$8<>0,VLOOKUP($A30,DSLOP,IN_DTK!J$5,0),""),"") -> 0 | K30: =IF(ISNA(VLOOKUP($A30,DSLOP,IN_DTK!K$5,0))=FALSE,IF(K$8<>0,VLOOKUP($A30,DSLOP,IN_DTK!K$5,0),""),"") | L30: =IF(ISNA(VLOOKUP($A30,DSLOP,IN_DTK!L$5,0))=FALSE,IF(L$8<>0,VLOOKUP($A30,DSLOP,IN_DTK!L$5,0),""),"") | M30: =IF(ISNA(VLOOKUP($A30,DSLOP,IN_DTK!M$5,0))=FALSE,IF(M$8<>0,VLOOKUP($A30,DSLOP,IN_DTK!M$5,0),""),"") | N30: =IF(ISNA(VLOOKUP($A30,DSLOP,IN_DTK!N$5,0))=FALSE,IF(N$8<>0,VLOOKUP($A30,DSLOP,IN_DTK!N$5,0),""),"") | O30: =IF(ISNA(VLOOKUP($A30,DSLOP,IN_DTK!O$5,0))=FALSE,IF(O$8<>0,VLOOKUP($A30,DSLOP,IN_DTK!O$5,0),""),"") | ... R30: =IF(ISNA(VLOOKUP($A30,DSLOP,IN_DTK!R$5,0))=FALSE,IF(R$8<>0,VLOOKUP($A30,DSLOP,IN_DTK!R$5,0),""),"") -> Không | S30: =IF(ISNA(VLOOKUP($A30,DSLOP,IN_DTK!S$5,0))=FALSE,IF(A$9<>0,VLOOKUP($A30,DSLOP,IN_DTK!S$5,0),""),"") -> 0
... A52: 44 | B52: 44 | C52: =IF(ISNA(VLOOKUP($A52,DSLOP,IN_DTK!C$5,0))=FALSE,VLOOKUP($A52,DSLOP,IN_DTK!C$5,0),"") | D52: =IF(ISNA(VLOOKUP($A52,DSLOP,IN_DTK!D$5,0))=FALSE,VLOOKUP($A52,DSLOP,IN_DTK!D$5,0),"") | E52: =IF(ISNA(VLOOKUP($A52,DSLOP,IN_DTK!E$5,0))=FALSE,VLOOKUP($A52,DSLOP,IN_DTK!E$5,0),"") | F52: =IF(ISNA(VLOOKUP($A52,DSLOP,IN_DTK!F$5,0))=FALSE,VLOOKUP($A52,DSLOP,IN_DTK!F$5,0),"") | G52: =IF(ISNA(VLOOKUP($A52,DSLOP,IN_DTK!G$5,0))=FALSE,VLOOKUP($A52,DSLOP,IN_DTK!G$5,0),"") | H52: =IF(ISNA(VLOOKUP($A52,DSLOP,IN_DTK!H$5,0))=FALSE,IF(H$8<>0,VLOOKUP($A52,DSLOP,IN_DTK!H$5,0),""),"") | I52: =IF(ISNA(VLOOKUP($A52,DSLOP,IN_DTK!I$5,0))=FALSE,IF(I$8<>0,VLOOKUP($A52,DSLOP,IN_DTK!I$5,0),""),"") | J52: =IF(ISNA(VLOOKUP($A52,DSLOP,IN_DTK!J$5,0))=FALSE,IF(J$8<>0,VLOOKUP($A52,DSLOP,IN_DTK!J$5,0),""),"") | K52: =IF(ISNA(VLOOKUP($A52,DSLOP,IN_DTK!K$5,0))=FALSE,IF(K$8<>0,VLOOKUP($A52,DSLOP,IN_DTK!K$5,0),""),"") | L52: =IF(ISNA(VLOOKUP($A52,DSLOP,IN_DTK!L$5,0))=FALSE,IF(L$8<>0,VLOOKUP($A52,DSLOP,IN_DTK!L$5,0),""),"") | M52: =IF(ISNA(VLOOKUP($A52,DSLOP,IN_DTK!M$5,0))=FALSE,IF(M$8<>0,VLOOKUP($A52,DSLOP,IN_DTK!M$5,0),""),"") | N52: =IF(ISNA(VLOOKUP($A52,DSLOP,IN_DTK!N$5,0))=FALSE,IF(N$8<>0,VLOOKUP($A52,DSLOP,IN_DTK!N$5,0),""),"") | O52: =IF(ISNA(VLOOKUP($A52,DSLOP,IN_DTK!O$5,0))=FALSE,IF(O$8<>0,VLOOKUP($A52,DSLOP,IN_DTK!O$5,0),""),"") | ... R52: =IF(ISNA(VLOOKUP($A52,DSLOP,IN_DTK!R$5,0))=FALSE,IF(R$8<>0,VLOOKUP($A52,DSLOP,IN_DTK!R$5,0),""),"") | S52: =IF(ISNA(VLOOKUP($A52,DSLOP,IN_DTK!S$5,0))=FALSE,IF(A$9<>0,VLOOKUP($A52,DSLOP,IN_DTK!S$5,0),""),"")
C54: BẢNG THỐNG KÊ SỐ LIỆU
C55: STT | D55: NỘI DUNG THỐNG KÊ | G55: SỐ LƯỢNG | H55: TỶ LỆ (%) | J55: GHI CHÚ
C56: 1 | D56: Số học viên đạt | G56: =COUNTIF($Q$9:$Q$28,">=4") -> 5 | H56: =G56/$G$58 -> 0.83333333
C57: 2 | D57: Số học viên nợ | G57: =COUNTIF($Q$9:$Q$14,"<4") -> 1 | H57: =G57/$G$58 -> 0.16666667
C58: TỔNG CỘNG : | G58: =SUM(G56:G57) -> 6 | H58: =SUM(H56:I57) -> 1
P59: ="Đà Nẵng, " & TEXT(TODAY(),"dd/mm/yyyy") -> Đà Nẵng, 05/11/2026
C60: NGƯỜI LẬP | E60: NGƯỜI KIỂM TRA | H60: LÃNH ĐẠO ĐƠN VỊ | P60: TRƯỞNG BAN SAU ĐẠI HỌC
A66: NGUYỄN TRỌNG TUỆ NGUYỄN KIM ĐỨC NGUYỄN ÂN | C66: Huỳnh Thị Tú | P66: TS. Nguyễn Công Minh

Sheet DTK_AV
A1: BỘ GIÁO DỤC & ĐÀO TẠO | E1: =DSSV!D1&" * LỚP: "&UPPER(DSSV!R1) -> BẢNG ĐIỂM TỔNG KẾT HỌC PHẦN * LỚP: K31MPM1
B2: TRƯỜNG ĐẠI HỌC DUY TÂN | E2: ="CHUYÊN NGÀNH: "&VLOOKUP(RIGHT(DSSV!R1,4),CODEMON!$K$3:$L$27,2,0) -> CHUYÊN NGÀNH: TỔ CHỨC QUẢN LÝ DƯỢC | T2: ="Số TC : "&DSSV!R2 -> Số TC : 2
A3: ="MÔN: "&UPPER(DSSV!G2)&" * " & "MÃ MÔN: "&DSSV!G3 -> MÔN: GEN DƯỢC HỌC * MÃ MÔN: BIO 622 | T3: ="Học kỳ : " & DSSV!R3 -> Học kỳ : 1
A4: =DSSV!A4 -> Thời gian: 19h30 ngày 10/7/2026 | T4: ="Lần thi : "&DSSV!R4 -> Lần thi : 1
A5: 1 | B5: 2 | C5: 3 | D5: 4 | E5: 6 | F5: 7 | T5: 19
A6: STT | B6: MÃ HỌC VIÊN | C6: HỌ VÀ | D6: TÊN | E6: NGÀY SINH | F6: LỚP | G6: ĐIỂM QUÁ TRÌNH HỌC TẬP (%) | O6: ĐIỂM THI KTHP | R6: ĐIỂM TỔNG KẾT | T6: GHI CHÚ
G7: A | H7: P | I7: Q | J7: H | K7: L | L7: M | M7: I | N7: G | O7: NGHE ĐỌC VIẾT (60%) | P7: VẤN ĐÁP (40%) | Q7: F | R7: SỐ | S7: CHỮ
G8: 0.05 | H8: 0 | I8: 0.2 | J8: 0.2 | K8: 0 | L8: 0 | M8: 0 | N8: 0 | Q8: 0.55 | R8: =SUM(G8:Q8) -> 1 | V8: 1 | W8: Một
A9: 1 | B9: =IF(ISNA(VLOOKUP($A9,DSLOP,DTK_AV!B$5,0))=FALSE,VLOOKUP($A9,DSLOP,DTK_AV!B$5,0),"") -> 31315270077 | C9: =IF(ISNA(VLOOKUP($A9,DSLOP,DTK_AV!C$5,0))=FALSE,VLOOKUP($A9,DSLOP,DTK_AV!C$5,0),"") -> Đặng Công | D9: =IF(ISNA(VLOOKUP($A9,DSLOP,DTK_AV!D$5,0))=FALSE,VLOOKUP($A9,DSLOP,DTK_AV!D$5,0),"") -> Luận | E9: =IF(ISNA(VLOOKUP($A9,DSLOP,DTK_AV!E$5,0))=FALSE,VLOOKUP($A9,DSLOP,DTK_AV!E$5,0),"") -> 27/01/2001 | F9: =IF(ISNA(VLOOKUP($A9,DSLOP,DTK_AV!F$5,0))=FALSE,VLOOKUP($A9,DSLOP,DTK_AV!F$5,0),"") -> K31MPM1 | Q9: =ROUND(SUM(IF(ISNUMBER(O9),O9,0 )*0.6,IF(ISNUMBER(P9),P9,0 )*0.4),1) -> 0 | R9: =IF(OR(Q9<4,$R$8<>100%),0,ROUND(SUMPRODUCT(G9:Q9,$G$8:$Q$8)/$R$8,1)) -> 0 | S9: =VLOOKUP(R9,$V:$W,2,0) -> Không | T9: =IF(ISNA(VLOOKUP($A9,DSLOP,DTK_AV!T$5,0))=FALSE,VLOOKUP($A9,DSLOP,DTK_AV!T$5,0),"") -> 0 | V9: 0 | W9: Không
A10: =A9+1 -> 2 | B10: =IF(ISNA(VLOOKUP($A10,DSLOP,DTK_AV!B$5,0))=FALSE,VLOOKUP($A10,DSLOP,DTK_AV!B$5,0),"") -> 31305270078 | C10: =IF(ISNA(VLOOKUP($A10,DSLOP,DTK_AV!C$5,0))=FALSE,VLOOKUP($A10,DSLOP,DTK_AV!C$5,0),"") -> Trần Vương Diễm | D10: =IF(ISNA(VLOOKUP($A10,DSLOP,DTK_AV!D$5,0))=FALSE,VLOOKUP($A10,DSLOP,DTK_AV!D$5,0),"") -> My | E10: =IF(ISNA(VLOOKUP($A10,DSLOP,DTK_AV!E$5,0))=FALSE,VLOOKUP($A10,DSLOP,DTK_AV!E$5,0),"") -> 28/08/1986 | F10: =IF(ISNA(VLOOKUP($A10,DSLOP,DTK_AV!F$5,0))=FALSE,VLOOKUP($A10,DSLOP,DTK_AV!F$5,0),"") -> K31MPM1 | Q10: =ROUND(SUM(IF(ISNUMBER(O10),O10,0 )*0.6,IF(ISNUMBER(P10),P10,0 )*0.4),1) -> 0 | R10: =IF(OR(Q10<4,$R$8<>100%),0,ROUND(SUMPRODUCT(G10:Q10,$G$8:$Q$8)/$R$8,1)) -> 0 | S10: =VLOOKUP(R10,$V:$W,2,0) -> Không | T10: =IF(ISNA(VLOOKUP($A10,DSLOP,DTK_AV!T$5,0))=FALSE,VLOOKUP($A10,DSLOP,DTK_AV!T$5,0),"") -> Hoãn thi | V10: 1.1 | W10: Một Phẩy Một
A11: =A10+1 -> 3 | B11: =IF(ISNA(VLOOKUP($A11,DSLOP,DTK_AV!B$5,0))=FALSE,VLOOKUP($A11,DSLOP,DTK_AV!B$5,0),"") -> 31305270079 | C11: =IF(ISNA(VLOOKUP($A11,DSLOP,DTK_AV!C$5,0))=FALSE,VLOOKUP($A11,DSLOP,DTK_AV!C$5,0),"") -> Nguyễn Yến | D11: =IF(ISNA(VLOOKUP($A11,DSLOP,DTK_AV!D$5,0))=FALSE,VLOOKUP($A11,DSLOP,DTK_AV!D$5,0),"") -> Nhi | E11: =IF(ISNA(VLOOKUP($A11,DSLOP,DTK_AV!E$5,0))=FALSE,VLOOKUP($A11,DSLOP,DTK_AV!E$5,0),"") -> 18/06/1997 | F11: =IF(ISNA(VLOOKUP($A11,DSLOP,DTK_AV!F$5,0))=FALSE,VLOOKUP($A11,DSLOP,DTK_AV!F$5,0),"") -> K31MPM1 | Q11: =ROUND(SUM(IF(ISNUMBER(O11),O11,0 )*0.6,IF(ISNUMBER(P11),P11,0 )*0.4),1) -> 0 | R11: =IF(OR(Q11<4,$R$8<>100%),0,ROUND(SUMPRODUCT(G11:Q11,$G$8:$Q$8)/$R$8,1)) -> 0 | S11: =VLOOKUP(R11,$V:$W,2,0) -> Không | T11: =IF(ISNA(VLOOKUP($A11,DSLOP,DTK_AV!T$5,0))=FALSE,VLOOKUP($A11,DSLOP,DTK_AV!T$5,0),"") -> 0 | V11: 1.2 | W11: Một Phẩy Hai
A12: =A11+1 -> 4 | B12: =IF(ISNA(VLOOKUP($A12,DSLOP,DTK_AV!B$5,0))=FALSE,VLOOKUP($A12,DSLOP,DTK_AV!B$5,0),"") -> 31305270080 | C12: =IF(ISNA(VLOOKUP($A12,DSLOP,DTK_AV!C$5,0))=FALSE,VLOOKUP($A12,DSLOP,DTK_AV!C$5,0),"") -> Bùi Thị Phương | D12: =IF(ISNA(VLOOKUP($A12,DSLOP,DTK_AV!D$5,0))=FALSE,VLOOKUP($A12,DSLOP,DTK_AV!D$5,0),"") -> Uyên | E12: =IF(ISNA(VLOOKUP($A12,DSLOP,DTK_AV!E$5,0))=FALSE,VLOOKUP($A12,DSLOP,DTK_AV!E$5,0),"") -> 22/09/1998 | F12: =IF(ISNA(VLOOKUP($A12,DSLOP,DTK_AV!F$5,0))=FALSE,VLOOKUP($A12,DSLOP,DTK_AV!F$5,0),"") -> K31MPM1 | Q12: =ROUND(SUM(IF(ISNUMBER(O12),O12,0 )*0.6,IF(ISNUMBER(P12),P12,0 )*0.4),1) -> 0 | R12: =IF(OR(Q12<4,$R$8<>100%),0,ROUND(SUMPRODUCT(G12:Q12,$G$8:$Q$8)/$R$8,1)) -> 0 | S12: =VLOOKUP(R12,$V:$W,2,0) -> Không | T12: =IF(ISNA(VLOOKUP($A12,DSLOP,DTK_AV!T$5,0))=FALSE,VLOOKUP($A12,DSLOP,DTK_AV!T$5,0),"") -> 0 | V12: 1.3 | W12: Một Phẩy Ba
A13: =A12+1 -> 5 | B13: =IF(ISNA(VLOOKUP($A13,DSLOP,DTK_AV!B$5,0))=FALSE,VLOOKUP($A13,DSLOP,DTK_AV!B$5,0),"") -> 31315270081 | C13: =IF(ISNA(VLOOKUP($A13,DSLOP,DTK_AV!C$5,0))=FALSE,VLOOKUP($A13,DSLOP,DTK_AV!C$5,0),"") -> Nguyễn Văn | D13: =IF(ISNA(VLOOKUP($A13,DSLOP,DTK_AV!D$5,0))=FALSE,VLOOKUP($A13,DSLOP,DTK_AV!D$5,0),"") -> Quý | E13: =IF(ISNA(VLOOKUP($A13,DSLOP,DTK_AV!E$5,0))=FALSE,VLOOKUP($A13,DSLOP,DTK_AV!E$5,0),"") -> 15/09/1981 | F13: =IF(ISNA(VLOOKUP($A13,DSLOP,DTK_AV!F$5,0))=FALSE,VLOOKUP($A13,DSLOP,DTK_AV!F$5,0),"") -> K31MPM1 | Q13: =ROUND(SUM(IF(ISNUMBER(O13),O13,0 )*0.6,IF(ISNUMBER(P13),P13,0 )*0.4),1) -> 0 | R13: =IF(OR(Q13<4,$R$8<>100%),0,ROUND(SUMPRODUCT(G13:Q13,$G$8:$Q$8)/$R$8,1)) -> 0 | S13: =VLOOKUP(R13,$V:$W,2,0) -> Không | T13: =IF(ISNA(VLOOKUP($A13,DSLOP,DTK_AV!T$5,0))=FALSE,VLOOKUP($A13,DSLOP,DTK_AV!T$5,0),"") -> 0 | V13: 1.4 | W13: Một Phẩy Bốn
A14: =A13+1 -> 6 | B14: =IF(ISNA(VLOOKUP($A14,DSLOP,DTK_AV!B$5,0))=FALSE,VLOOKUP($A14,DSLOP,DTK_AV!B$5,0),"") -> 31305270082 | C14: =IF(ISNA(VLOOKUP($A14,DSLOP,DTK_AV!C$5,0))=FALSE,VLOOKUP($A14,DSLOP,DTK_AV!C$5,0),"") -> Nguyễn Huỳnh Ái | D14: =IF(ISNA(VLOOKUP($A14,DSLOP,DTK_AV!D$5,0))=FALSE,VLOOKUP($A14,DSLOP,DTK_AV!D$5,0),"") -> Thi | E14: =IF(ISNA(VLOOKUP($A14,DSLOP,DTK_AV!E$5,0))=FALSE,VLOOKUP($A14,DSLOP,DTK_AV!E$5,0),"") -> 28/06/2002 | F14: =IF(ISNA(VLOOKUP($A14,DSLOP,DTK_AV!F$5,0))=FALSE,VLOOKUP($A14,DSLOP,DTK_AV!F$5,0),"") -> K31MPM1 | Q14: =ROUND(SUM(IF(ISNUMBER(O14),O14,0 )*0.6,IF(ISNUMBER(P14),P14,0 )*0.4),1) -> 0 | R14: =IF(OR(Q14<4,$R$8<>100%),0,ROUND(SUMPRODUCT(G14:Q14,$G$8:$Q$8)/$R$8,1)) -> 0 | S14: =VLOOKUP(R14,$V:$W,2,0) -> Không | T14: =IF(ISNA(VLOOKUP($A14,DSLOP,DTK_AV!T$5,0))=FALSE,VLOOKUP($A14,DSLOP,DTK_AV!T$5,0),"") -> 0 | V14: 1.5 | W14: Một Phẩy Năm
